BEGIN:VCALENDAR
VERSION:2.0
PRODID:-//Stadtteilbüro Grübentälchen - ECPv6.15.20//NONSGML v1.0//EN
CALSCALE:GREGORIAN
METHOD:PUBLISH
X-WR-CALNAME:Stadtteilbüro Grübentälchen
X-ORIGINAL-URL:https://gruebentaelchen.de
X-WR-CALDESC:Veranstaltungen für Stadtteilbüro Grübentälchen
REFRESH-INTERVAL;VALUE=DURATION:PT1H
X-Robots-Tag:noindex
X-PUBLISHED-TTL:PT1H
BEGIN:VTIMEZONE
TZID:Europe/Berlin
BEGIN:DAYLIGHT
TZOFFSETFROM:+0100
TZOFFSETTO:+0200
TZNAME:CEST
DTSTART:20250330T010000
END:DAYLIGHT
BEGIN:STANDARD
TZOFFSETFROM:+0200
TZOFFSETTO:+0100
TZNAME:CET
DTSTART:20251026T010000
END:STANDARD
BEGIN:DAYLIGHT
TZOFFSETFROM:+0100
TZOFFSETTO:+0200
TZNAME:CEST
DTSTART:20260329T010000
END:DAYLIGHT
BEGIN:STANDARD
TZOFFSETFROM:+0200
TZOFFSETTO:+0100
TZNAME:CET
DTSTART:20261025T010000
END:STANDARD
BEGIN:DAYLIGHT
TZOFFSETFROM:+0100
TZOFFSETTO:+0200
TZNAME:CEST
DTSTART:20270328T010000
END:DAYLIGHT
BEGIN:STANDARD
TZOFFSETFROM:+0200
TZOFFSETTO:+0100
TZNAME:CET
DTSTART:20271031T010000
END:STANDARD
BEGIN:DAYLIGHT
TZOFFSETFROM:+0100
TZOFFSETTO:+0200
TZNAME:CEST
DTSTART:20280326T010000
END:DAYLIGHT
BEGIN:STANDARD
TZOFFSETFROM:+0200
TZOFFSETTO:+0100
TZNAME:CET
DTSTART:20281029T010000
END:STANDARD
BEGIN:DAYLIGHT
TZOFFSETFROM:+0100
TZOFFSETTO:+0200
TZNAME:CEST
DTSTART:20290325T010000
END:DAYLIGHT
BEGIN:STANDARD
TZOFFSETFROM:+0200
TZOFFSETTO:+0100
TZNAME:CET
DTSTART:20291028T010000
END:STANDARD
END:VTIMEZONE
BEGIN:VEVENT
DTSTART;TZID=Europe/Berlin:20260514T103000
DTEND;TZID=Europe/Berlin:20260514T120000
DTSTAMP:20260421T134924
CREATED:20240125T171940Z
LAST-MODIFIED:20251120T104545Z
UID:10004530-1778754600-1778760000@gruebentaelchen.de
SUMMARY:Sprechstunde der Seniorenberaterin
DESCRIPTION:jeden 2. Donnerstag im Monat von 10:30 – 12:00 Uhr \nSprechstunde der Seniorenberaterin Margit Walg-Joyce
URL:https://gruebentaelchen.de/termine/sprechstunde-der-seniorenberaterin-2/2026-05-14/
LOCATION:Stadtteilbüro Grübentälchen\, Friedenstraße 118\, Kaiserslautern\, Rheinland-Pfalz\, 67657\, Deutschland
ATTACH;FMTTYPE=image/jpeg:https://gruebentaelchen.de/wp-content/uploads/2023/03/Sprechstunde-Seniorenberaterin.jpg
END:VEVENT
BEGIN:VEVENT
DTSTART;TZID=Europe/Berlin:20260611T103000
DTEND;TZID=Europe/Berlin:20260611T120000
DTSTAMP:20260421T134924
CREATED:20240125T171940Z
LAST-MODIFIED:20251120T104545Z
UID:10004531-1781173800-1781179200@gruebentaelchen.de
SUMMARY:Sprechstunde der Seniorenberaterin
DESCRIPTION:jeden 2. Donnerstag im Monat von 10:30 – 12:00 Uhr \nSprechstunde der Seniorenberaterin Margit Walg-Joyce
URL:https://gruebentaelchen.de/termine/sprechstunde-der-seniorenberaterin-2/2026-06-11/
LOCATION:Stadtteilbüro Grübentälchen\, Friedenstraße 118\, Kaiserslautern\, Rheinland-Pfalz\, 67657\, Deutschland
ATTACH;FMTTYPE=image/jpeg:https://gruebentaelchen.de/wp-content/uploads/2023/03/Sprechstunde-Seniorenberaterin.jpg
END:VEVENT
BEGIN:VEVENT
DTSTART;TZID=Europe/Berlin:20260709T103000
DTEND;TZID=Europe/Berlin:20260709T120000
DTSTAMP:20260421T134924
CREATED:20240125T171940Z
LAST-MODIFIED:20251120T104545Z
UID:10004532-1783593000-1783598400@gruebentaelchen.de
SUMMARY:Sprechstunde der Seniorenberaterin
DESCRIPTION:jeden 2. Donnerstag im Monat von 10:30 – 12:00 Uhr \nSprechstunde der Seniorenberaterin Margit Walg-Joyce
URL:https://gruebentaelchen.de/termine/sprechstunde-der-seniorenberaterin-2/2026-07-09/
LOCATION:Stadtteilbüro Grübentälchen\, Friedenstraße 118\, Kaiserslautern\, Rheinland-Pfalz\, 67657\, Deutschland
ATTACH;FMTTYPE=image/jpeg:https://gruebentaelchen.de/wp-content/uploads/2023/03/Sprechstunde-Seniorenberaterin.jpg
END:VEVENT
BEGIN:VEVENT
DTSTART;TZID=Europe/Berlin:20260813T103000
DTEND;TZID=Europe/Berlin:20260813T120000
DTSTAMP:20260421T134924
CREATED:20240125T171940Z
LAST-MODIFIED:20251120T104545Z
UID:10004533-1786617000-1786622400@gruebentaelchen.de
SUMMARY:Sprechstunde der Seniorenberaterin
DESCRIPTION:jeden 2. Donnerstag im Monat von 10:30 – 12:00 Uhr \nSprechstunde der Seniorenberaterin Margit Walg-Joyce
URL:https://gruebentaelchen.de/termine/sprechstunde-der-seniorenberaterin-2/2026-08-13/
LOCATION:Stadtteilbüro Grübentälchen\, Friedenstraße 118\, Kaiserslautern\, Rheinland-Pfalz\, 67657\, Deutschland
ATTACH;FMTTYPE=image/jpeg:https://gruebentaelchen.de/wp-content/uploads/2023/03/Sprechstunde-Seniorenberaterin.jpg
END:VEVENT
BEGIN:VEVENT
DTSTART;TZID=Europe/Berlin:20260910T103000
DTEND;TZID=Europe/Berlin:20260910T120000
DTSTAMP:20260421T134924
CREATED:20240125T171940Z
LAST-MODIFIED:20251120T104545Z
UID:10004534-1789036200-1789041600@gruebentaelchen.de
SUMMARY:Sprechstunde der Seniorenberaterin
DESCRIPTION:jeden 2. Donnerstag im Monat von 10:30 – 12:00 Uhr \nSprechstunde der Seniorenberaterin Margit Walg-Joyce
URL:https://gruebentaelchen.de/termine/sprechstunde-der-seniorenberaterin-2/2026-09-10/
LOCATION:Stadtteilbüro Grübentälchen\, Friedenstraße 118\, Kaiserslautern\, Rheinland-Pfalz\, 67657\, Deutschland
ATTACH;FMTTYPE=image/jpeg:https://gruebentaelchen.de/wp-content/uploads/2023/03/Sprechstunde-Seniorenberaterin.jpg
END:VEVENT
BEGIN:VEVENT
DTSTART;TZID=Europe/Berlin:20261008T103000
DTEND;TZID=Europe/Berlin:20261008T120000
DTSTAMP:20260421T134924
CREATED:20240125T171940Z
LAST-MODIFIED:20251120T104545Z
UID:10004535-1791455400-1791460800@gruebentaelchen.de
SUMMARY:Sprechstunde der Seniorenberaterin
DESCRIPTION:jeden 2. Donnerstag im Monat von 10:30 – 12:00 Uhr \nSprechstunde der Seniorenberaterin Margit Walg-Joyce
URL:https://gruebentaelchen.de/termine/sprechstunde-der-seniorenberaterin-2/2026-10-08/
LOCATION:Stadtteilbüro Grübentälchen\, Friedenstraße 118\, Kaiserslautern\, Rheinland-Pfalz\, 67657\, Deutschland
ATTACH;FMTTYPE=image/jpeg:https://gruebentaelchen.de/wp-content/uploads/2023/03/Sprechstunde-Seniorenberaterin.jpg
END:VEVENT
BEGIN:VEVENT
DTSTART;TZID=Europe/Berlin:20261112T103000
DTEND;TZID=Europe/Berlin:20261112T120000
DTSTAMP:20260421T134924
CREATED:20240125T171940Z
LAST-MODIFIED:20251120T104545Z
UID:10004536-1794479400-1794484800@gruebentaelchen.de
SUMMARY:Sprechstunde der Seniorenberaterin
DESCRIPTION:jeden 2. Donnerstag im Monat von 10:30 – 12:00 Uhr \nSprechstunde der Seniorenberaterin Margit Walg-Joyce
URL:https://gruebentaelchen.de/termine/sprechstunde-der-seniorenberaterin-2/2026-11-12/
LOCATION:Stadtteilbüro Grübentälchen\, Friedenstraße 118\, Kaiserslautern\, Rheinland-Pfalz\, 67657\, Deutschland
ATTACH;FMTTYPE=image/jpeg:https://gruebentaelchen.de/wp-content/uploads/2023/03/Sprechstunde-Seniorenberaterin.jpg
END:VEVENT
BEGIN:VEVENT
DTSTART;TZID=Europe/Berlin:20261210T103000
DTEND;TZID=Europe/Berlin:20261210T120000
DTSTAMP:20260421T134924
CREATED:20240125T171940Z
LAST-MODIFIED:20251120T104545Z
UID:10004537-1796898600-1796904000@gruebentaelchen.de
SUMMARY:Sprechstunde der Seniorenberaterin
DESCRIPTION:jeden 2. Donnerstag im Monat von 10:30 – 12:00 Uhr \nSprechstunde der Seniorenberaterin Margit Walg-Joyce
URL:https://gruebentaelchen.de/termine/sprechstunde-der-seniorenberaterin-2/2026-12-10/
LOCATION:Stadtteilbüro Grübentälchen\, Friedenstraße 118\, Kaiserslautern\, Rheinland-Pfalz\, 67657\, Deutschland
ATTACH;FMTTYPE=image/jpeg:https://gruebentaelchen.de/wp-content/uploads/2023/03/Sprechstunde-Seniorenberaterin.jpg
END:VEVENT
BEGIN:VEVENT
DTSTART;TZID=Europe/Berlin:20270114T103000
DTEND;TZID=Europe/Berlin:20270114T120000
DTSTAMP:20260421T134924
CREATED:20240125T171940Z
LAST-MODIFIED:20251120T104545Z
UID:10004538-1799922600-1799928000@gruebentaelchen.de
SUMMARY:Sprechstunde der Seniorenberaterin
DESCRIPTION:jeden 2. Donnerstag im Monat von 10:30 – 12:00 Uhr \nSprechstunde der Seniorenberaterin Margit Walg-Joyce
URL:https://gruebentaelchen.de/termine/sprechstunde-der-seniorenberaterin-2/2027-01-14/
LOCATION:Stadtteilbüro Grübentälchen\, Friedenstraße 118\, Kaiserslautern\, Rheinland-Pfalz\, 67657\, Deutschland
ATTACH;FMTTYPE=image/jpeg:https://gruebentaelchen.de/wp-content/uploads/2023/03/Sprechstunde-Seniorenberaterin.jpg
END:VEVENT
BEGIN:VEVENT
DTSTART;TZID=Europe/Berlin:20270211T103000
DTEND;TZID=Europe/Berlin:20270211T120000
DTSTAMP:20260421T134924
CREATED:20240125T171940Z
LAST-MODIFIED:20251120T104545Z
UID:10004539-1802341800-1802347200@gruebentaelchen.de
SUMMARY:Sprechstunde der Seniorenberaterin
DESCRIPTION:jeden 2. Donnerstag im Monat von 10:30 – 12:00 Uhr \nSprechstunde der Seniorenberaterin Margit Walg-Joyce
URL:https://gruebentaelchen.de/termine/sprechstunde-der-seniorenberaterin-2/2027-02-11/
LOCATION:Stadtteilbüro Grübentälchen\, Friedenstraße 118\, Kaiserslautern\, Rheinland-Pfalz\, 67657\, Deutschland
ATTACH;FMTTYPE=image/jpeg:https://gruebentaelchen.de/wp-content/uploads/2023/03/Sprechstunde-Seniorenberaterin.jpg
END:VEVENT
BEGIN:VEVENT
DTSTART;TZID=Europe/Berlin:20270311T103000
DTEND;TZID=Europe/Berlin:20270311T120000
DTSTAMP:20260421T134924
CREATED:20240125T171940Z
LAST-MODIFIED:20251120T104545Z
UID:10004540-1804761000-1804766400@gruebentaelchen.de
SUMMARY:Sprechstunde der Seniorenberaterin
DESCRIPTION:jeden 2. Donnerstag im Monat von 10:30 – 12:00 Uhr \nSprechstunde der Seniorenberaterin Margit Walg-Joyce
URL:https://gruebentaelchen.de/termine/sprechstunde-der-seniorenberaterin-2/2027-03-11/
LOCATION:Stadtteilbüro Grübentälchen\, Friedenstraße 118\, Kaiserslautern\, Rheinland-Pfalz\, 67657\, Deutschland
ATTACH;FMTTYPE=image/jpeg:https://gruebentaelchen.de/wp-content/uploads/2023/03/Sprechstunde-Seniorenberaterin.jpg
END:VEVENT
BEGIN:VEVENT
DTSTART;TZID=Europe/Berlin:20270408T103000
DTEND;TZID=Europe/Berlin:20270408T120000
DTSTAMP:20260421T134925
CREATED:20240125T171940Z
LAST-MODIFIED:20251120T104545Z
UID:10004541-1807180200-1807185600@gruebentaelchen.de
SUMMARY:Sprechstunde der Seniorenberaterin
DESCRIPTION:jeden 2. Donnerstag im Monat von 10:30 – 12:00 Uhr \nSprechstunde der Seniorenberaterin Margit Walg-Joyce
URL:https://gruebentaelchen.de/termine/sprechstunde-der-seniorenberaterin-2/2027-04-08/
LOCATION:Stadtteilbüro Grübentälchen\, Friedenstraße 118\, Kaiserslautern\, Rheinland-Pfalz\, 67657\, Deutschland
ATTACH;FMTTYPE=image/jpeg:https://gruebentaelchen.de/wp-content/uploads/2023/03/Sprechstunde-Seniorenberaterin.jpg
END:VEVENT
BEGIN:VEVENT
DTSTART;TZID=Europe/Berlin:20270513T103000
DTEND;TZID=Europe/Berlin:20270513T120000
DTSTAMP:20260421T134925
CREATED:20240125T171940Z
LAST-MODIFIED:20251120T104545Z
UID:10004542-1810204200-1810209600@gruebentaelchen.de
SUMMARY:Sprechstunde der Seniorenberaterin
DESCRIPTION:jeden 2. Donnerstag im Monat von 10:30 – 12:00 Uhr \nSprechstunde der Seniorenberaterin Margit Walg-Joyce
URL:https://gruebentaelchen.de/termine/sprechstunde-der-seniorenberaterin-2/2027-05-13/
LOCATION:Stadtteilbüro Grübentälchen\, Friedenstraße 118\, Kaiserslautern\, Rheinland-Pfalz\, 67657\, Deutschland
ATTACH;FMTTYPE=image/jpeg:https://gruebentaelchen.de/wp-content/uploads/2023/03/Sprechstunde-Seniorenberaterin.jpg
END:VEVENT
BEGIN:VEVENT
DTSTART;TZID=Europe/Berlin:20270610T103000
DTEND;TZID=Europe/Berlin:20270610T120000
DTSTAMP:20260421T134925
CREATED:20240125T171940Z
LAST-MODIFIED:20251120T104545Z
UID:10004543-1812623400-1812628800@gruebentaelchen.de
SUMMARY:Sprechstunde der Seniorenberaterin
DESCRIPTION:jeden 2. Donnerstag im Monat von 10:30 – 12:00 Uhr \nSprechstunde der Seniorenberaterin Margit Walg-Joyce
URL:https://gruebentaelchen.de/termine/sprechstunde-der-seniorenberaterin-2/2027-06-10/
LOCATION:Stadtteilbüro Grübentälchen\, Friedenstraße 118\, Kaiserslautern\, Rheinland-Pfalz\, 67657\, Deutschland
ATTACH;FMTTYPE=image/jpeg:https://gruebentaelchen.de/wp-content/uploads/2023/03/Sprechstunde-Seniorenberaterin.jpg
END:VEVENT
BEGIN:VEVENT
DTSTART;TZID=Europe/Berlin:20270708T103000
DTEND;TZID=Europe/Berlin:20270708T120000
DTSTAMP:20260421T134925
CREATED:20240125T171940Z
LAST-MODIFIED:20251120T104545Z
UID:10004544-1815042600-1815048000@gruebentaelchen.de
SUMMARY:Sprechstunde der Seniorenberaterin
DESCRIPTION:jeden 2. Donnerstag im Monat von 10:30 – 12:00 Uhr \nSprechstunde der Seniorenberaterin Margit Walg-Joyce
URL:https://gruebentaelchen.de/termine/sprechstunde-der-seniorenberaterin-2/2027-07-08/
LOCATION:Stadtteilbüro Grübentälchen\, Friedenstraße 118\, Kaiserslautern\, Rheinland-Pfalz\, 67657\, Deutschland
ATTACH;FMTTYPE=image/jpeg:https://gruebentaelchen.de/wp-content/uploads/2023/03/Sprechstunde-Seniorenberaterin.jpg
END:VEVENT
BEGIN:VEVENT
DTSTART;TZID=Europe/Berlin:20270812T103000
DTEND;TZID=Europe/Berlin:20270812T120000
DTSTAMP:20260421T134925
CREATED:20240125T171940Z
LAST-MODIFIED:20251120T104545Z
UID:10004545-1818066600-1818072000@gruebentaelchen.de
SUMMARY:Sprechstunde der Seniorenberaterin
DESCRIPTION:jeden 2. Donnerstag im Monat von 10:30 – 12:00 Uhr \nSprechstunde der Seniorenberaterin Margit Walg-Joyce
URL:https://gruebentaelchen.de/termine/sprechstunde-der-seniorenberaterin-2/2027-08-12/
LOCATION:Stadtteilbüro Grübentälchen\, Friedenstraße 118\, Kaiserslautern\, Rheinland-Pfalz\, 67657\, Deutschland
ATTACH;FMTTYPE=image/jpeg:https://gruebentaelchen.de/wp-content/uploads/2023/03/Sprechstunde-Seniorenberaterin.jpg
END:VEVENT
BEGIN:VEVENT
DTSTART;TZID=Europe/Berlin:20270909T103000
DTEND;TZID=Europe/Berlin:20270909T120000
DTSTAMP:20260421T134925
CREATED:20240125T171940Z
LAST-MODIFIED:20251120T104545Z
UID:10004546-1820485800-1820491200@gruebentaelchen.de
SUMMARY:Sprechstunde der Seniorenberaterin
DESCRIPTION:jeden 2. Donnerstag im Monat von 10:30 – 12:00 Uhr \nSprechstunde der Seniorenberaterin Margit Walg-Joyce
URL:https://gruebentaelchen.de/termine/sprechstunde-der-seniorenberaterin-2/2027-09-09/
LOCATION:Stadtteilbüro Grübentälchen\, Friedenstraße 118\, Kaiserslautern\, Rheinland-Pfalz\, 67657\, Deutschland
ATTACH;FMTTYPE=image/jpeg:https://gruebentaelchen.de/wp-content/uploads/2023/03/Sprechstunde-Seniorenberaterin.jpg
END:VEVENT
BEGIN:VEVENT
DTSTART;TZID=Europe/Berlin:20271014T103000
DTEND;TZID=Europe/Berlin:20271014T120000
DTSTAMP:20260421T134925
CREATED:20240125T171940Z
LAST-MODIFIED:20251120T104545Z
UID:10004547-1823509800-1823515200@gruebentaelchen.de
SUMMARY:Sprechstunde der Seniorenberaterin
DESCRIPTION:jeden 2. Donnerstag im Monat von 10:30 – 12:00 Uhr \nSprechstunde der Seniorenberaterin Margit Walg-Joyce
URL:https://gruebentaelchen.de/termine/sprechstunde-der-seniorenberaterin-2/2027-10-14/
LOCATION:Stadtteilbüro Grübentälchen\, Friedenstraße 118\, Kaiserslautern\, Rheinland-Pfalz\, 67657\, Deutschland
ATTACH;FMTTYPE=image/jpeg:https://gruebentaelchen.de/wp-content/uploads/2023/03/Sprechstunde-Seniorenberaterin.jpg
END:VEVENT
BEGIN:VEVENT
DTSTART;TZID=Europe/Berlin:20271111T103000
DTEND;TZID=Europe/Berlin:20271111T120000
DTSTAMP:20260421T134925
CREATED:20240125T171940Z
LAST-MODIFIED:20251120T104545Z
UID:10004548-1825929000-1825934400@gruebentaelchen.de
SUMMARY:Sprechstunde der Seniorenberaterin
DESCRIPTION:jeden 2. Donnerstag im Monat von 10:30 – 12:00 Uhr \nSprechstunde der Seniorenberaterin Margit Walg-Joyce
URL:https://gruebentaelchen.de/termine/sprechstunde-der-seniorenberaterin-2/2027-11-11/
LOCATION:Stadtteilbüro Grübentälchen\, Friedenstraße 118\, Kaiserslautern\, Rheinland-Pfalz\, 67657\, Deutschland
ATTACH;FMTTYPE=image/jpeg:https://gruebentaelchen.de/wp-content/uploads/2023/03/Sprechstunde-Seniorenberaterin.jpg
END:VEVENT
BEGIN:VEVENT
DTSTART;TZID=Europe/Berlin:20271209T103000
DTEND;TZID=Europe/Berlin:20271209T120000
DTSTAMP:20260421T134925
CREATED:20240125T171940Z
LAST-MODIFIED:20251120T104545Z
UID:10004549-1828348200-1828353600@gruebentaelchen.de
SUMMARY:Sprechstunde der Seniorenberaterin
DESCRIPTION:jeden 2. Donnerstag im Monat von 10:30 – 12:00 Uhr \nSprechstunde der Seniorenberaterin Margit Walg-Joyce
URL:https://gruebentaelchen.de/termine/sprechstunde-der-seniorenberaterin-2/2027-12-09/
LOCATION:Stadtteilbüro Grübentälchen\, Friedenstraße 118\, Kaiserslautern\, Rheinland-Pfalz\, 67657\, Deutschland
ATTACH;FMTTYPE=image/jpeg:https://gruebentaelchen.de/wp-content/uploads/2023/03/Sprechstunde-Seniorenberaterin.jpg
END:VEVENT
BEGIN:VEVENT
DTSTART;TZID=Europe/Berlin:20280113T103000
DTEND;TZID=Europe/Berlin:20280113T120000
DTSTAMP:20260421T134925
CREATED:20240125T171940Z
LAST-MODIFIED:20251120T104545Z
UID:10004550-1831372200-1831377600@gruebentaelchen.de
SUMMARY:Sprechstunde der Seniorenberaterin
DESCRIPTION:jeden 2. Donnerstag im Monat von 10:30 – 12:00 Uhr \nSprechstunde der Seniorenberaterin Margit Walg-Joyce
URL:https://gruebentaelchen.de/termine/sprechstunde-der-seniorenberaterin-2/2028-01-13/
LOCATION:Stadtteilbüro Grübentälchen\, Friedenstraße 118\, Kaiserslautern\, Rheinland-Pfalz\, 67657\, Deutschland
ATTACH;FMTTYPE=image/jpeg:https://gruebentaelchen.de/wp-content/uploads/2023/03/Sprechstunde-Seniorenberaterin.jpg
END:VEVENT
BEGIN:VEVENT
DTSTART;TZID=Europe/Berlin:20280210T103000
DTEND;TZID=Europe/Berlin:20280210T120000
DTSTAMP:20260421T134925
CREATED:20240125T171940Z
LAST-MODIFIED:20251120T104545Z
UID:10004551-1833791400-1833796800@gruebentaelchen.de
SUMMARY:Sprechstunde der Seniorenberaterin
DESCRIPTION:jeden 2. Donnerstag im Monat von 10:30 – 12:00 Uhr \nSprechstunde der Seniorenberaterin Margit Walg-Joyce
URL:https://gruebentaelchen.de/termine/sprechstunde-der-seniorenberaterin-2/2028-02-10/
LOCATION:Stadtteilbüro Grübentälchen\, Friedenstraße 118\, Kaiserslautern\, Rheinland-Pfalz\, 67657\, Deutschland
ATTACH;FMTTYPE=image/jpeg:https://gruebentaelchen.de/wp-content/uploads/2023/03/Sprechstunde-Seniorenberaterin.jpg
END:VEVENT
BEGIN:VEVENT
DTSTART;TZID=Europe/Berlin:20280309T103000
DTEND;TZID=Europe/Berlin:20280309T120000
DTSTAMP:20260421T134925
CREATED:20240125T171940Z
LAST-MODIFIED:20251120T104545Z
UID:10004552-1836210600-1836216000@gruebentaelchen.de
SUMMARY:Sprechstunde der Seniorenberaterin
DESCRIPTION:jeden 2. Donnerstag im Monat von 10:30 – 12:00 Uhr \nSprechstunde der Seniorenberaterin Margit Walg-Joyce
URL:https://gruebentaelchen.de/termine/sprechstunde-der-seniorenberaterin-2/2028-03-09/
LOCATION:Stadtteilbüro Grübentälchen\, Friedenstraße 118\, Kaiserslautern\, Rheinland-Pfalz\, 67657\, Deutschland
ATTACH;FMTTYPE=image/jpeg:https://gruebentaelchen.de/wp-content/uploads/2023/03/Sprechstunde-Seniorenberaterin.jpg
END:VEVENT
BEGIN:VEVENT
DTSTART;TZID=Europe/Berlin:20280413T103000
DTEND;TZID=Europe/Berlin:20280413T120000
DTSTAMP:20260421T134925
CREATED:20240125T171940Z
LAST-MODIFIED:20251120T104545Z
UID:10004553-1839234600-1839240000@gruebentaelchen.de
SUMMARY:Sprechstunde der Seniorenberaterin
DESCRIPTION:jeden 2. Donnerstag im Monat von 10:30 – 12:00 Uhr \nSprechstunde der Seniorenberaterin Margit Walg-Joyce
URL:https://gruebentaelchen.de/termine/sprechstunde-der-seniorenberaterin-2/2028-04-13/
LOCATION:Stadtteilbüro Grübentälchen\, Friedenstraße 118\, Kaiserslautern\, Rheinland-Pfalz\, 67657\, Deutschland
ATTACH;FMTTYPE=image/jpeg:https://gruebentaelchen.de/wp-content/uploads/2023/03/Sprechstunde-Seniorenberaterin.jpg
END:VEVENT
BEGIN:VEVENT
DTSTART;TZID=Europe/Berlin:20280511T103000
DTEND;TZID=Europe/Berlin:20280511T120000
DTSTAMP:20260421T134925
CREATED:20240125T171940Z
LAST-MODIFIED:20251120T104545Z
UID:10004554-1841653800-1841659200@gruebentaelchen.de
SUMMARY:Sprechstunde der Seniorenberaterin
DESCRIPTION:jeden 2. Donnerstag im Monat von 10:30 – 12:00 Uhr \nSprechstunde der Seniorenberaterin Margit Walg-Joyce
URL:https://gruebentaelchen.de/termine/sprechstunde-der-seniorenberaterin-2/2028-05-11/
LOCATION:Stadtteilbüro Grübentälchen\, Friedenstraße 118\, Kaiserslautern\, Rheinland-Pfalz\, 67657\, Deutschland
ATTACH;FMTTYPE=image/jpeg:https://gruebentaelchen.de/wp-content/uploads/2023/03/Sprechstunde-Seniorenberaterin.jpg
END:VEVENT
BEGIN:VEVENT
DTSTART;TZID=Europe/Berlin:20280608T103000
DTEND;TZID=Europe/Berlin:20280608T120000
DTSTAMP:20260421T134925
CREATED:20240125T171940Z
LAST-MODIFIED:20251120T104545Z
UID:10004555-1844073000-1844078400@gruebentaelchen.de
SUMMARY:Sprechstunde der Seniorenberaterin
DESCRIPTION:jeden 2. Donnerstag im Monat von 10:30 – 12:00 Uhr \nSprechstunde der Seniorenberaterin Margit Walg-Joyce
URL:https://gruebentaelchen.de/termine/sprechstunde-der-seniorenberaterin-2/2028-06-08/
LOCATION:Stadtteilbüro Grübentälchen\, Friedenstraße 118\, Kaiserslautern\, Rheinland-Pfalz\, 67657\, Deutschland
ATTACH;FMTTYPE=image/jpeg:https://gruebentaelchen.de/wp-content/uploads/2023/03/Sprechstunde-Seniorenberaterin.jpg
END:VEVENT
BEGIN:VEVENT
DTSTART;TZID=Europe/Berlin:20280713T103000
DTEND;TZID=Europe/Berlin:20280713T120000
DTSTAMP:20260421T134925
CREATED:20240125T171940Z
LAST-MODIFIED:20251120T104545Z
UID:10004556-1847097000-1847102400@gruebentaelchen.de
SUMMARY:Sprechstunde der Seniorenberaterin
DESCRIPTION:jeden 2. Donnerstag im Monat von 10:30 – 12:00 Uhr \nSprechstunde der Seniorenberaterin Margit Walg-Joyce
URL:https://gruebentaelchen.de/termine/sprechstunde-der-seniorenberaterin-2/2028-07-13/
LOCATION:Stadtteilbüro Grübentälchen\, Friedenstraße 118\, Kaiserslautern\, Rheinland-Pfalz\, 67657\, Deutschland
ATTACH;FMTTYPE=image/jpeg:https://gruebentaelchen.de/wp-content/uploads/2023/03/Sprechstunde-Seniorenberaterin.jpg
END:VEVENT
BEGIN:VEVENT
DTSTART;TZID=Europe/Berlin:20280810T103000
DTEND;TZID=Europe/Berlin:20280810T120000
DTSTAMP:20260421T134925
CREATED:20240125T171940Z
LAST-MODIFIED:20251120T104545Z
UID:10004557-1849516200-1849521600@gruebentaelchen.de
SUMMARY:Sprechstunde der Seniorenberaterin
DESCRIPTION:jeden 2. Donnerstag im Monat von 10:30 – 12:00 Uhr \nSprechstunde der Seniorenberaterin Margit Walg-Joyce
URL:https://gruebentaelchen.de/termine/sprechstunde-der-seniorenberaterin-2/2028-08-10/
LOCATION:Stadtteilbüro Grübentälchen\, Friedenstraße 118\, Kaiserslautern\, Rheinland-Pfalz\, 67657\, Deutschland
ATTACH;FMTTYPE=image/jpeg:https://gruebentaelchen.de/wp-content/uploads/2023/03/Sprechstunde-Seniorenberaterin.jpg
END:VEVENT
BEGIN:VEVENT
DTSTART;TZID=Europe/Berlin:20280914T103000
DTEND;TZID=Europe/Berlin:20280914T120000
DTSTAMP:20260421T134925
CREATED:20240125T171940Z
LAST-MODIFIED:20251120T104545Z
UID:10004558-1852540200-1852545600@gruebentaelchen.de
SUMMARY:Sprechstunde der Seniorenberaterin
DESCRIPTION:jeden 2. Donnerstag im Monat von 10:30 – 12:00 Uhr \nSprechstunde der Seniorenberaterin Margit Walg-Joyce
URL:https://gruebentaelchen.de/termine/sprechstunde-der-seniorenberaterin-2/2028-09-14/
LOCATION:Stadtteilbüro Grübentälchen\, Friedenstraße 118\, Kaiserslautern\, Rheinland-Pfalz\, 67657\, Deutschland
ATTACH;FMTTYPE=image/jpeg:https://gruebentaelchen.de/wp-content/uploads/2023/03/Sprechstunde-Seniorenberaterin.jpg
END:VEVENT
BEGIN:VEVENT
DTSTART;TZID=Europe/Berlin:20281012T103000
DTEND;TZID=Europe/Berlin:20281012T120000
DTSTAMP:20260421T134925
CREATED:20240125T171940Z
LAST-MODIFIED:20251120T104545Z
UID:10004559-1854959400-1854964800@gruebentaelchen.de
SUMMARY:Sprechstunde der Seniorenberaterin
DESCRIPTION:jeden 2. Donnerstag im Monat von 10:30 – 12:00 Uhr \nSprechstunde der Seniorenberaterin Margit Walg-Joyce
URL:https://gruebentaelchen.de/termine/sprechstunde-der-seniorenberaterin-2/2028-10-12/
LOCATION:Stadtteilbüro Grübentälchen\, Friedenstraße 118\, Kaiserslautern\, Rheinland-Pfalz\, 67657\, Deutschland
ATTACH;FMTTYPE=image/jpeg:https://gruebentaelchen.de/wp-content/uploads/2023/03/Sprechstunde-Seniorenberaterin.jpg
END:VEVENT
END:VCALENDAR