BEGIN:VCALENDAR
VERSION:2.0
PRODID:-//StadtteilbÃ¼ro GrÃ¼bentÃ¤lchen - ECPv6.15.20//NONSGML v1.0//EN
CALSCALE:GREGORIAN
METHOD:PUBLISH
X-WR-CALNAME:StadtteilbÃ¼ro GrÃ¼bentÃ¤lchen
X-ORIGINAL-URL:https://gruebentaelchen.de
X-WR-CALDESC:Veranstaltungen fÃ¼r StadtteilbÃ¼ro GrÃ¼bentÃ¤lchen
REFRESH-INTERVAL;VALUE=DURATION:PT1H
X-Robots-Tag:noindex
X-PUBLISHED-TTL:PT1H
BEGIN:VTIMEZONE
TZID:Europe/Berlin
BEGIN:DAYLIGHT
TZOFFSETFROM:+0100
TZOFFSETTO:+0200
TZNAME:CEST
DTSTART:20250330T010000
END:DAYLIGHT
BEGIN:STANDARD
TZOFFSETFROM:+0200
TZOFFSETTO:+0100
TZNAME:CET
DTSTART:20251026T010000
END:STANDARD
BEGIN:DAYLIGHT
TZOFFSETFROM:+0100
TZOFFSETTO:+0200
TZNAME:CEST
DTSTART:20260329T010000
END:DAYLIGHT
BEGIN:STANDARD
TZOFFSETFROM:+0200
TZOFFSETTO:+0100
TZNAME:CET
DTSTART:20261025T010000
END:STANDARD
BEGIN:DAYLIGHT
TZOFFSETFROM:+0100
TZOFFSETTO:+0200
TZNAME:CEST
DTSTART:20270328T010000
END:DAYLIGHT
BEGIN:STANDARD
TZOFFSETFROM:+0200
TZOFFSETTO:+0100
TZNAME:CET
DTSTART:20271031T010000
END:STANDARD
END:VTIMEZONE
BEGIN:VEVENT
DTSTART;TZID=Europe/Berlin:20260420T140000
DTEND;TZID=Europe/Berlin:20260420T160000
DTSTAMP:20260419T183814
CREATED:20251120T103413Z
LAST-MODIFIED:20251124T141658Z
UID:10005803-1776693600-1776700800@gruebentaelchen.de
SUMMARY:Montagstreff
DESCRIPTION:  \nDer Montagstreff im StadtteilbÃ¼ro ist ein offener Treffpunkt fÃ¼r Menschen\, die das GesprÃ¤ch und den Austausch mit anderen suchen\, die sich gerne verabreden mÃ¶chten zum Spazieren\, ins Theater gehen\, AusflÃ¼ge machen oder einfach nur gemeinsam mit netten Menschen Zeit verbringen..
URL:https://gruebentaelchen.de/termine/montagstreff-2/2026-04-20/
LOCATION:StadtteilbÃ¼ro GrÃ¼bentÃ¤lchen\, FriedenstraÃŸe 118\, Kaiserslautern\, Rheinland-Pfalz\, 67657\, Deutschland
CATEGORIES:Kreatives,Veranstaltung
ATTACH;FMTTYPE=image/jpeg:https://gruebentaelchen.de/wp-content/uploads/2025/11/IMG_1130.jpeg
END:VEVENT
BEGIN:VEVENT
DTSTART;TZID=Europe/Berlin:20260427T140000
DTEND;TZID=Europe/Berlin:20260427T160000
DTSTAMP:20260419T183814
CREATED:20251120T103413Z
LAST-MODIFIED:20251124T141658Z
UID:10005804-1777298400-1777305600@gruebentaelchen.de
SUMMARY:Montagstreff
DESCRIPTION:  \nDer Montagstreff im StadtteilbÃ¼ro ist ein offener Treffpunkt fÃ¼r Menschen\, die das GesprÃ¤ch und den Austausch mit anderen suchen\, die sich gerne verabreden mÃ¶chten zum Spazieren\, ins Theater gehen\, AusflÃ¼ge machen oder einfach nur gemeinsam mit netten Menschen Zeit verbringen..
URL:https://gruebentaelchen.de/termine/montagstreff-2/2026-04-27/
LOCATION:StadtteilbÃ¼ro GrÃ¼bentÃ¤lchen\, FriedenstraÃŸe 118\, Kaiserslautern\, Rheinland-Pfalz\, 67657\, Deutschland
CATEGORIES:Kreatives,Veranstaltung
ATTACH;FMTTYPE=image/jpeg:https://gruebentaelchen.de/wp-content/uploads/2025/11/IMG_1130.jpeg
END:VEVENT
BEGIN:VEVENT
DTSTART;TZID=Europe/Berlin:20260504T140000
DTEND;TZID=Europe/Berlin:20260504T160000
DTSTAMP:20260419T183814
CREATED:20251120T103413Z
LAST-MODIFIED:20251124T141658Z
UID:10005805-1777903200-1777910400@gruebentaelchen.de
SUMMARY:Montagstreff
DESCRIPTION:  \nDer Montagstreff im StadtteilbÃ¼ro ist ein offener Treffpunkt fÃ¼r Menschen\, die das GesprÃ¤ch und den Austausch mit anderen suchen\, die sich gerne verabreden mÃ¶chten zum Spazieren\, ins Theater gehen\, AusflÃ¼ge machen oder einfach nur gemeinsam mit netten Menschen Zeit verbringen..
URL:https://gruebentaelchen.de/termine/montagstreff-2/2026-05-04/
LOCATION:StadtteilbÃ¼ro GrÃ¼bentÃ¤lchen\, FriedenstraÃŸe 118\, Kaiserslautern\, Rheinland-Pfalz\, 67657\, Deutschland
CATEGORIES:Kreatives,Veranstaltung
ATTACH;FMTTYPE=image/jpeg:https://gruebentaelchen.de/wp-content/uploads/2025/11/IMG_1130.jpeg
END:VEVENT
BEGIN:VEVENT
DTSTART;TZID=Europe/Berlin:20260511T140000
DTEND;TZID=Europe/Berlin:20260511T160000
DTSTAMP:20260419T183814
CREATED:20251120T103413Z
LAST-MODIFIED:20251124T141658Z
UID:10005806-1778508000-1778515200@gruebentaelchen.de
SUMMARY:Montagstreff
DESCRIPTION:  \nDer Montagstreff im StadtteilbÃ¼ro ist ein offener Treffpunkt fÃ¼r Menschen\, die das GesprÃ¤ch und den Austausch mit anderen suchen\, die sich gerne verabreden mÃ¶chten zum Spazieren\, ins Theater gehen\, AusflÃ¼ge machen oder einfach nur gemeinsam mit netten Menschen Zeit verbringen..
URL:https://gruebentaelchen.de/termine/montagstreff-2/2026-05-11/
LOCATION:StadtteilbÃ¼ro GrÃ¼bentÃ¤lchen\, FriedenstraÃŸe 118\, Kaiserslautern\, Rheinland-Pfalz\, 67657\, Deutschland
CATEGORIES:Kreatives,Veranstaltung
ATTACH;FMTTYPE=image/jpeg:https://gruebentaelchen.de/wp-content/uploads/2025/11/IMG_1130.jpeg
END:VEVENT
BEGIN:VEVENT
DTSTART;TZID=Europe/Berlin:20260518T140000
DTEND;TZID=Europe/Berlin:20260518T160000
DTSTAMP:20260419T183814
CREATED:20251120T103413Z
LAST-MODIFIED:20251124T141658Z
UID:10005807-1779112800-1779120000@gruebentaelchen.de
SUMMARY:Montagstreff
DESCRIPTION:  \nDer Montagstreff im StadtteilbÃ¼ro ist ein offener Treffpunkt fÃ¼r Menschen\, die das GesprÃ¤ch und den Austausch mit anderen suchen\, die sich gerne verabreden mÃ¶chten zum Spazieren\, ins Theater gehen\, AusflÃ¼ge machen oder einfach nur gemeinsam mit netten Menschen Zeit verbringen..
URL:https://gruebentaelchen.de/termine/montagstreff-2/2026-05-18/
LOCATION:StadtteilbÃ¼ro GrÃ¼bentÃ¤lchen\, FriedenstraÃŸe 118\, Kaiserslautern\, Rheinland-Pfalz\, 67657\, Deutschland
CATEGORIES:Kreatives,Veranstaltung
ATTACH;FMTTYPE=image/jpeg:https://gruebentaelchen.de/wp-content/uploads/2025/11/IMG_1130.jpeg
END:VEVENT
BEGIN:VEVENT
DTSTART;TZID=Europe/Berlin:20260525T140000
DTEND;TZID=Europe/Berlin:20260525T160000
DTSTAMP:20260419T183814
CREATED:20251120T103413Z
LAST-MODIFIED:20251124T141658Z
UID:10005808-1779717600-1779724800@gruebentaelchen.de
SUMMARY:Montagstreff
DESCRIPTION:  \nDer Montagstreff im StadtteilbÃ¼ro ist ein offener Treffpunkt fÃ¼r Menschen\, die das GesprÃ¤ch und den Austausch mit anderen suchen\, die sich gerne verabreden mÃ¶chten zum Spazieren\, ins Theater gehen\, AusflÃ¼ge machen oder einfach nur gemeinsam mit netten Menschen Zeit verbringen..
URL:https://gruebentaelchen.de/termine/montagstreff-2/2026-05-25/
LOCATION:StadtteilbÃ¼ro GrÃ¼bentÃ¤lchen\, FriedenstraÃŸe 118\, Kaiserslautern\, Rheinland-Pfalz\, 67657\, Deutschland
CATEGORIES:Kreatives,Veranstaltung
ATTACH;FMTTYPE=image/jpeg:https://gruebentaelchen.de/wp-content/uploads/2025/11/IMG_1130.jpeg
END:VEVENT
BEGIN:VEVENT
DTSTART;TZID=Europe/Berlin:20260601T140000
DTEND;TZID=Europe/Berlin:20260601T160000
DTSTAMP:20260419T183814
CREATED:20251120T103413Z
LAST-MODIFIED:20251124T141658Z
UID:10005809-1780322400-1780329600@gruebentaelchen.de
SUMMARY:Montagstreff
DESCRIPTION:  \nDer Montagstreff im StadtteilbÃ¼ro ist ein offener Treffpunkt fÃ¼r Menschen\, die das GesprÃ¤ch und den Austausch mit anderen suchen\, die sich gerne verabreden mÃ¶chten zum Spazieren\, ins Theater gehen\, AusflÃ¼ge machen oder einfach nur gemeinsam mit netten Menschen Zeit verbringen..
URL:https://gruebentaelchen.de/termine/montagstreff-2/2026-06-01/
LOCATION:StadtteilbÃ¼ro GrÃ¼bentÃ¤lchen\, FriedenstraÃŸe 118\, Kaiserslautern\, Rheinland-Pfalz\, 67657\, Deutschland
CATEGORIES:Kreatives,Veranstaltung
ATTACH;FMTTYPE=image/jpeg:https://gruebentaelchen.de/wp-content/uploads/2025/11/IMG_1130.jpeg
END:VEVENT
BEGIN:VEVENT
DTSTART;TZID=Europe/Berlin:20260608T140000
DTEND;TZID=Europe/Berlin:20260608T160000
DTSTAMP:20260419T183814
CREATED:20251120T103413Z
LAST-MODIFIED:20251124T141658Z
UID:10005810-1780927200-1780934400@gruebentaelchen.de
SUMMARY:Montagstreff
DESCRIPTION:  \nDer Montagstreff im StadtteilbÃ¼ro ist ein offener Treffpunkt fÃ¼r Menschen\, die das GesprÃ¤ch und den Austausch mit anderen suchen\, die sich gerne verabreden mÃ¶chten zum Spazieren\, ins Theater gehen\, AusflÃ¼ge machen oder einfach nur gemeinsam mit netten Menschen Zeit verbringen..
URL:https://gruebentaelchen.de/termine/montagstreff-2/2026-06-08/
LOCATION:StadtteilbÃ¼ro GrÃ¼bentÃ¤lchen\, FriedenstraÃŸe 118\, Kaiserslautern\, Rheinland-Pfalz\, 67657\, Deutschland
CATEGORIES:Kreatives,Veranstaltung
ATTACH;FMTTYPE=image/jpeg:https://gruebentaelchen.de/wp-content/uploads/2025/11/IMG_1130.jpeg
END:VEVENT
BEGIN:VEVENT
DTSTART;TZID=Europe/Berlin:20260615T140000
DTEND;TZID=Europe/Berlin:20260615T160000
DTSTAMP:20260419T183814
CREATED:20251120T103413Z
LAST-MODIFIED:20251124T141658Z
UID:10005811-1781532000-1781539200@gruebentaelchen.de
SUMMARY:Montagstreff
DESCRIPTION:  \nDer Montagstreff im StadtteilbÃ¼ro ist ein offener Treffpunkt fÃ¼r Menschen\, die das GesprÃ¤ch und den Austausch mit anderen suchen\, die sich gerne verabreden mÃ¶chten zum Spazieren\, ins Theater gehen\, AusflÃ¼ge machen oder einfach nur gemeinsam mit netten Menschen Zeit verbringen..
URL:https://gruebentaelchen.de/termine/montagstreff-2/2026-06-15/
LOCATION:StadtteilbÃ¼ro GrÃ¼bentÃ¤lchen\, FriedenstraÃŸe 118\, Kaiserslautern\, Rheinland-Pfalz\, 67657\, Deutschland
CATEGORIES:Kreatives,Veranstaltung
ATTACH;FMTTYPE=image/jpeg:https://gruebentaelchen.de/wp-content/uploads/2025/11/IMG_1130.jpeg
END:VEVENT
BEGIN:VEVENT
DTSTART;TZID=Europe/Berlin:20260622T140000
DTEND;TZID=Europe/Berlin:20260622T160000
DTSTAMP:20260419T183814
CREATED:20251120T103413Z
LAST-MODIFIED:20251124T141658Z
UID:10005812-1782136800-1782144000@gruebentaelchen.de
SUMMARY:Montagstreff
DESCRIPTION:  \nDer Montagstreff im StadtteilbÃ¼ro ist ein offener Treffpunkt fÃ¼r Menschen\, die das GesprÃ¤ch und den Austausch mit anderen suchen\, die sich gerne verabreden mÃ¶chten zum Spazieren\, ins Theater gehen\, AusflÃ¼ge machen oder einfach nur gemeinsam mit netten Menschen Zeit verbringen..
URL:https://gruebentaelchen.de/termine/montagstreff-2/2026-06-22/
LOCATION:StadtteilbÃ¼ro GrÃ¼bentÃ¤lchen\, FriedenstraÃŸe 118\, Kaiserslautern\, Rheinland-Pfalz\, 67657\, Deutschland
CATEGORIES:Kreatives,Veranstaltung
ATTACH;FMTTYPE=image/jpeg:https://gruebentaelchen.de/wp-content/uploads/2025/11/IMG_1130.jpeg
END:VEVENT
BEGIN:VEVENT
DTSTART;TZID=Europe/Berlin:20260629T140000
DTEND;TZID=Europe/Berlin:20260629T160000
DTSTAMP:20260419T183814
CREATED:20251120T103413Z
LAST-MODIFIED:20251124T141658Z
UID:10005813-1782741600-1782748800@gruebentaelchen.de
SUMMARY:Montagstreff
DESCRIPTION:  \nDer Montagstreff im StadtteilbÃ¼ro ist ein offener Treffpunkt fÃ¼r Menschen\, die das GesprÃ¤ch und den Austausch mit anderen suchen\, die sich gerne verabreden mÃ¶chten zum Spazieren\, ins Theater gehen\, AusflÃ¼ge machen oder einfach nur gemeinsam mit netten Menschen Zeit verbringen..
URL:https://gruebentaelchen.de/termine/montagstreff-2/2026-06-29/
LOCATION:StadtteilbÃ¼ro GrÃ¼bentÃ¤lchen\, FriedenstraÃŸe 118\, Kaiserslautern\, Rheinland-Pfalz\, 67657\, Deutschland
CATEGORIES:Kreatives,Veranstaltung
ATTACH;FMTTYPE=image/jpeg:https://gruebentaelchen.de/wp-content/uploads/2025/11/IMG_1130.jpeg
END:VEVENT
BEGIN:VEVENT
DTSTART;TZID=Europe/Berlin:20260706T140000
DTEND;TZID=Europe/Berlin:20260706T160000
DTSTAMP:20260419T183814
CREATED:20251120T103413Z
LAST-MODIFIED:20251124T141658Z
UID:10005814-1783346400-1783353600@gruebentaelchen.de
SUMMARY:Montagstreff
DESCRIPTION:  \nDer Montagstreff im StadtteilbÃ¼ro ist ein offener Treffpunkt fÃ¼r Menschen\, die das GesprÃ¤ch und den Austausch mit anderen suchen\, die sich gerne verabreden mÃ¶chten zum Spazieren\, ins Theater gehen\, AusflÃ¼ge machen oder einfach nur gemeinsam mit netten Menschen Zeit verbringen..
URL:https://gruebentaelchen.de/termine/montagstreff-2/2026-07-06/
LOCATION:StadtteilbÃ¼ro GrÃ¼bentÃ¤lchen\, FriedenstraÃŸe 118\, Kaiserslautern\, Rheinland-Pfalz\, 67657\, Deutschland
CATEGORIES:Kreatives,Veranstaltung
ATTACH;FMTTYPE=image/jpeg:https://gruebentaelchen.de/wp-content/uploads/2025/11/IMG_1130.jpeg
END:VEVENT
BEGIN:VEVENT
DTSTART;TZID=Europe/Berlin:20260713T140000
DTEND;TZID=Europe/Berlin:20260713T160000
DTSTAMP:20260419T183814
CREATED:20251120T103413Z
LAST-MODIFIED:20251124T141658Z
UID:10005815-1783951200-1783958400@gruebentaelchen.de
SUMMARY:Montagstreff
DESCRIPTION:  \nDer Montagstreff im StadtteilbÃ¼ro ist ein offener Treffpunkt fÃ¼r Menschen\, die das GesprÃ¤ch und den Austausch mit anderen suchen\, die sich gerne verabreden mÃ¶chten zum Spazieren\, ins Theater gehen\, AusflÃ¼ge machen oder einfach nur gemeinsam mit netten Menschen Zeit verbringen..
URL:https://gruebentaelchen.de/termine/montagstreff-2/2026-07-13/
LOCATION:StadtteilbÃ¼ro GrÃ¼bentÃ¤lchen\, FriedenstraÃŸe 118\, Kaiserslautern\, Rheinland-Pfalz\, 67657\, Deutschland
CATEGORIES:Kreatives,Veranstaltung
ATTACH;FMTTYPE=image/jpeg:https://gruebentaelchen.de/wp-content/uploads/2025/11/IMG_1130.jpeg
END:VEVENT
BEGIN:VEVENT
DTSTART;TZID=Europe/Berlin:20260720T140000
DTEND;TZID=Europe/Berlin:20260720T160000
DTSTAMP:20260419T183814
CREATED:20251120T103413Z
LAST-MODIFIED:20251124T141658Z
UID:10005816-1784556000-1784563200@gruebentaelchen.de
SUMMARY:Montagstreff
DESCRIPTION:  \nDer Montagstreff im StadtteilbÃ¼ro ist ein offener Treffpunkt fÃ¼r Menschen\, die das GesprÃ¤ch und den Austausch mit anderen suchen\, die sich gerne verabreden mÃ¶chten zum Spazieren\, ins Theater gehen\, AusflÃ¼ge machen oder einfach nur gemeinsam mit netten Menschen Zeit verbringen..
URL:https://gruebentaelchen.de/termine/montagstreff-2/2026-07-20/
LOCATION:StadtteilbÃ¼ro GrÃ¼bentÃ¤lchen\, FriedenstraÃŸe 118\, Kaiserslautern\, Rheinland-Pfalz\, 67657\, Deutschland
CATEGORIES:Kreatives,Veranstaltung
ATTACH;FMTTYPE=image/jpeg:https://gruebentaelchen.de/wp-content/uploads/2025/11/IMG_1130.jpeg
END:VEVENT
BEGIN:VEVENT
DTSTART;TZID=Europe/Berlin:20260727T140000
DTEND;TZID=Europe/Berlin:20260727T160000
DTSTAMP:20260419T183814
CREATED:20251120T103413Z
LAST-MODIFIED:20251124T141658Z
UID:10005817-1785160800-1785168000@gruebentaelchen.de
SUMMARY:Montagstreff
DESCRIPTION:  \nDer Montagstreff im StadtteilbÃ¼ro ist ein offener Treffpunkt fÃ¼r Menschen\, die das GesprÃ¤ch und den Austausch mit anderen suchen\, die sich gerne verabreden mÃ¶chten zum Spazieren\, ins Theater gehen\, AusflÃ¼ge machen oder einfach nur gemeinsam mit netten Menschen Zeit verbringen..
URL:https://gruebentaelchen.de/termine/montagstreff-2/2026-07-27/
LOCATION:StadtteilbÃ¼ro GrÃ¼bentÃ¤lchen\, FriedenstraÃŸe 118\, Kaiserslautern\, Rheinland-Pfalz\, 67657\, Deutschland
CATEGORIES:Kreatives,Veranstaltung
ATTACH;FMTTYPE=image/jpeg:https://gruebentaelchen.de/wp-content/uploads/2025/11/IMG_1130.jpeg
END:VEVENT
BEGIN:VEVENT
DTSTART;TZID=Europe/Berlin:20260803T140000
DTEND;TZID=Europe/Berlin:20260803T160000
DTSTAMP:20260419T183814
CREATED:20251120T103413Z
LAST-MODIFIED:20251124T141658Z
UID:10005818-1785765600-1785772800@gruebentaelchen.de
SUMMARY:Montagstreff
DESCRIPTION:  \nDer Montagstreff im StadtteilbÃ¼ro ist ein offener Treffpunkt fÃ¼r Menschen\, die das GesprÃ¤ch und den Austausch mit anderen suchen\, die sich gerne verabreden mÃ¶chten zum Spazieren\, ins Theater gehen\, AusflÃ¼ge machen oder einfach nur gemeinsam mit netten Menschen Zeit verbringen..
URL:https://gruebentaelchen.de/termine/montagstreff-2/2026-08-03/
LOCATION:StadtteilbÃ¼ro GrÃ¼bentÃ¤lchen\, FriedenstraÃŸe 118\, Kaiserslautern\, Rheinland-Pfalz\, 67657\, Deutschland
CATEGORIES:Kreatives,Veranstaltung
ATTACH;FMTTYPE=image/jpeg:https://gruebentaelchen.de/wp-content/uploads/2025/11/IMG_1130.jpeg
END:VEVENT
BEGIN:VEVENT
DTSTART;TZID=Europe/Berlin:20260810T140000
DTEND;TZID=Europe/Berlin:20260810T160000
DTSTAMP:20260419T183814
CREATED:20251120T103413Z
LAST-MODIFIED:20251124T141658Z
UID:10005819-1786370400-1786377600@gruebentaelchen.de
SUMMARY:Montagstreff
DESCRIPTION:  \nDer Montagstreff im StadtteilbÃ¼ro ist ein offener Treffpunkt fÃ¼r Menschen\, die das GesprÃ¤ch und den Austausch mit anderen suchen\, die sich gerne verabreden mÃ¶chten zum Spazieren\, ins Theater gehen\, AusflÃ¼ge machen oder einfach nur gemeinsam mit netten Menschen Zeit verbringen..
URL:https://gruebentaelchen.de/termine/montagstreff-2/2026-08-10/
LOCATION:StadtteilbÃ¼ro GrÃ¼bentÃ¤lchen\, FriedenstraÃŸe 118\, Kaiserslautern\, Rheinland-Pfalz\, 67657\, Deutschland
CATEGORIES:Kreatives,Veranstaltung
ATTACH;FMTTYPE=image/jpeg:https://gruebentaelchen.de/wp-content/uploads/2025/11/IMG_1130.jpeg
END:VEVENT
BEGIN:VEVENT
DTSTART;TZID=Europe/Berlin:20260817T140000
DTEND;TZID=Europe/Berlin:20260817T160000
DTSTAMP:20260419T183814
CREATED:20251120T103413Z
LAST-MODIFIED:20251124T141658Z
UID:10005820-1786975200-1786982400@gruebentaelchen.de
SUMMARY:Montagstreff
DESCRIPTION:  \nDer Montagstreff im StadtteilbÃ¼ro ist ein offener Treffpunkt fÃ¼r Menschen\, die das GesprÃ¤ch und den Austausch mit anderen suchen\, die sich gerne verabreden mÃ¶chten zum Spazieren\, ins Theater gehen\, AusflÃ¼ge machen oder einfach nur gemeinsam mit netten Menschen Zeit verbringen..
URL:https://gruebentaelchen.de/termine/montagstreff-2/2026-08-17/
LOCATION:StadtteilbÃ¼ro GrÃ¼bentÃ¤lchen\, FriedenstraÃŸe 118\, Kaiserslautern\, Rheinland-Pfalz\, 67657\, Deutschland
CATEGORIES:Kreatives,Veranstaltung
ATTACH;FMTTYPE=image/jpeg:https://gruebentaelchen.de/wp-content/uploads/2025/11/IMG_1130.jpeg
END:VEVENT
BEGIN:VEVENT
DTSTART;TZID=Europe/Berlin:20260824T140000
DTEND;TZID=Europe/Berlin:20260824T160000
DTSTAMP:20260419T183814
CREATED:20251120T103413Z
LAST-MODIFIED:20251124T141658Z
UID:10005821-1787580000-1787587200@gruebentaelchen.de
SUMMARY:Montagstreff
DESCRIPTION:  \nDer Montagstreff im StadtteilbÃ¼ro ist ein offener Treffpunkt fÃ¼r Menschen\, die das GesprÃ¤ch und den Austausch mit anderen suchen\, die sich gerne verabreden mÃ¶chten zum Spazieren\, ins Theater gehen\, AusflÃ¼ge machen oder einfach nur gemeinsam mit netten Menschen Zeit verbringen..
URL:https://gruebentaelchen.de/termine/montagstreff-2/2026-08-24/
LOCATION:StadtteilbÃ¼ro GrÃ¼bentÃ¤lchen\, FriedenstraÃŸe 118\, Kaiserslautern\, Rheinland-Pfalz\, 67657\, Deutschland
CATEGORIES:Kreatives,Veranstaltung
ATTACH;FMTTYPE=image/jpeg:https://gruebentaelchen.de/wp-content/uploads/2025/11/IMG_1130.jpeg
END:VEVENT
BEGIN:VEVENT
DTSTART;TZID=Europe/Berlin:20260831T140000
DTEND;TZID=Europe/Berlin:20260831T160000
DTSTAMP:20260419T183814
CREATED:20251120T103413Z
LAST-MODIFIED:20251124T141658Z
UID:10005822-1788184800-1788192000@gruebentaelchen.de
SUMMARY:Montagstreff
DESCRIPTION:  \nDer Montagstreff im StadtteilbÃ¼ro ist ein offener Treffpunkt fÃ¼r Menschen\, die das GesprÃ¤ch und den Austausch mit anderen suchen\, die sich gerne verabreden mÃ¶chten zum Spazieren\, ins Theater gehen\, AusflÃ¼ge machen oder einfach nur gemeinsam mit netten Menschen Zeit verbringen..
URL:https://gruebentaelchen.de/termine/montagstreff-2/2026-08-31/
LOCATION:StadtteilbÃ¼ro GrÃ¼bentÃ¤lchen\, FriedenstraÃŸe 118\, Kaiserslautern\, Rheinland-Pfalz\, 67657\, Deutschland
CATEGORIES:Kreatives,Veranstaltung
ATTACH;FMTTYPE=image/jpeg:https://gruebentaelchen.de/wp-content/uploads/2025/11/IMG_1130.jpeg
END:VEVENT
BEGIN:VEVENT
DTSTART;TZID=Europe/Berlin:20260907T140000
DTEND;TZID=Europe/Berlin:20260907T160000
DTSTAMP:20260419T183814
CREATED:20251120T103413Z
LAST-MODIFIED:20251124T141658Z
UID:10005823-1788789600-1788796800@gruebentaelchen.de
SUMMARY:Montagstreff
DESCRIPTION:  \nDer Montagstreff im StadtteilbÃ¼ro ist ein offener Treffpunkt fÃ¼r Menschen\, die das GesprÃ¤ch und den Austausch mit anderen suchen\, die sich gerne verabreden mÃ¶chten zum Spazieren\, ins Theater gehen\, AusflÃ¼ge machen oder einfach nur gemeinsam mit netten Menschen Zeit verbringen..
URL:https://gruebentaelchen.de/termine/montagstreff-2/2026-09-07/
LOCATION:StadtteilbÃ¼ro GrÃ¼bentÃ¤lchen\, FriedenstraÃŸe 118\, Kaiserslautern\, Rheinland-Pfalz\, 67657\, Deutschland
CATEGORIES:Kreatives,Veranstaltung
ATTACH;FMTTYPE=image/jpeg:https://gruebentaelchen.de/wp-content/uploads/2025/11/IMG_1130.jpeg
END:VEVENT
BEGIN:VEVENT
DTSTART;TZID=Europe/Berlin:20260914T140000
DTEND;TZID=Europe/Berlin:20260914T160000
DTSTAMP:20260419T183814
CREATED:20251120T103413Z
LAST-MODIFIED:20251124T141658Z
UID:10005824-1789394400-1789401600@gruebentaelchen.de
SUMMARY:Montagstreff
DESCRIPTION:  \nDer Montagstreff im StadtteilbÃ¼ro ist ein offener Treffpunkt fÃ¼r Menschen\, die das GesprÃ¤ch und den Austausch mit anderen suchen\, die sich gerne verabreden mÃ¶chten zum Spazieren\, ins Theater gehen\, AusflÃ¼ge machen oder einfach nur gemeinsam mit netten Menschen Zeit verbringen..
URL:https://gruebentaelchen.de/termine/montagstreff-2/2026-09-14/
LOCATION:StadtteilbÃ¼ro GrÃ¼bentÃ¤lchen\, FriedenstraÃŸe 118\, Kaiserslautern\, Rheinland-Pfalz\, 67657\, Deutschland
CATEGORIES:Kreatives,Veranstaltung
ATTACH;FMTTYPE=image/jpeg:https://gruebentaelchen.de/wp-content/uploads/2025/11/IMG_1130.jpeg
END:VEVENT
BEGIN:VEVENT
DTSTART;TZID=Europe/Berlin:20260921T140000
DTEND;TZID=Europe/Berlin:20260921T160000
DTSTAMP:20260419T183814
CREATED:20251120T103413Z
LAST-MODIFIED:20251124T141658Z
UID:10005825-1789999200-1790006400@gruebentaelchen.de
SUMMARY:Montagstreff
DESCRIPTION:  \nDer Montagstreff im StadtteilbÃ¼ro ist ein offener Treffpunkt fÃ¼r Menschen\, die das GesprÃ¤ch und den Austausch mit anderen suchen\, die sich gerne verabreden mÃ¶chten zum Spazieren\, ins Theater gehen\, AusflÃ¼ge machen oder einfach nur gemeinsam mit netten Menschen Zeit verbringen..
URL:https://gruebentaelchen.de/termine/montagstreff-2/2026-09-21/
LOCATION:StadtteilbÃ¼ro GrÃ¼bentÃ¤lchen\, FriedenstraÃŸe 118\, Kaiserslautern\, Rheinland-Pfalz\, 67657\, Deutschland
CATEGORIES:Kreatives,Veranstaltung
ATTACH;FMTTYPE=image/jpeg:https://gruebentaelchen.de/wp-content/uploads/2025/11/IMG_1130.jpeg
END:VEVENT
BEGIN:VEVENT
DTSTART;TZID=Europe/Berlin:20260928T140000
DTEND;TZID=Europe/Berlin:20260928T160000
DTSTAMP:20260419T183814
CREATED:20251120T103413Z
LAST-MODIFIED:20251124T141658Z
UID:10005826-1790604000-1790611200@gruebentaelchen.de
SUMMARY:Montagstreff
DESCRIPTION:  \nDer Montagstreff im StadtteilbÃ¼ro ist ein offener Treffpunkt fÃ¼r Menschen\, die das GesprÃ¤ch und den Austausch mit anderen suchen\, die sich gerne verabreden mÃ¶chten zum Spazieren\, ins Theater gehen\, AusflÃ¼ge machen oder einfach nur gemeinsam mit netten Menschen Zeit verbringen..
URL:https://gruebentaelchen.de/termine/montagstreff-2/2026-09-28/
LOCATION:StadtteilbÃ¼ro GrÃ¼bentÃ¤lchen\, FriedenstraÃŸe 118\, Kaiserslautern\, Rheinland-Pfalz\, 67657\, Deutschland
CATEGORIES:Kreatives,Veranstaltung
ATTACH;FMTTYPE=image/jpeg:https://gruebentaelchen.de/wp-content/uploads/2025/11/IMG_1130.jpeg
END:VEVENT
BEGIN:VEVENT
DTSTART;TZID=Europe/Berlin:20261005T140000
DTEND;TZID=Europe/Berlin:20261005T160000
DTSTAMP:20260419T183814
CREATED:20251120T103413Z
LAST-MODIFIED:20251124T141658Z
UID:10005827-1791208800-1791216000@gruebentaelchen.de
SUMMARY:Montagstreff
DESCRIPTION:  \nDer Montagstreff im StadtteilbÃ¼ro ist ein offener Treffpunkt fÃ¼r Menschen\, die das GesprÃ¤ch und den Austausch mit anderen suchen\, die sich gerne verabreden mÃ¶chten zum Spazieren\, ins Theater gehen\, AusflÃ¼ge machen oder einfach nur gemeinsam mit netten Menschen Zeit verbringen..
URL:https://gruebentaelchen.de/termine/montagstreff-2/2026-10-05/
LOCATION:StadtteilbÃ¼ro GrÃ¼bentÃ¤lchen\, FriedenstraÃŸe 118\, Kaiserslautern\, Rheinland-Pfalz\, 67657\, Deutschland
CATEGORIES:Kreatives,Veranstaltung
ATTACH;FMTTYPE=image/jpeg:https://gruebentaelchen.de/wp-content/uploads/2025/11/IMG_1130.jpeg
END:VEVENT
BEGIN:VEVENT
DTSTART;TZID=Europe/Berlin:20261012T140000
DTEND;TZID=Europe/Berlin:20261012T160000
DTSTAMP:20260419T183814
CREATED:20251120T103413Z
LAST-MODIFIED:20251124T141658Z
UID:10005828-1791813600-1791820800@gruebentaelchen.de
SUMMARY:Montagstreff
DESCRIPTION:  \nDer Montagstreff im StadtteilbÃ¼ro ist ein offener Treffpunkt fÃ¼r Menschen\, die das GesprÃ¤ch und den Austausch mit anderen suchen\, die sich gerne verabreden mÃ¶chten zum Spazieren\, ins Theater gehen\, AusflÃ¼ge machen oder einfach nur gemeinsam mit netten Menschen Zeit verbringen..
URL:https://gruebentaelchen.de/termine/montagstreff-2/2026-10-12/
LOCATION:StadtteilbÃ¼ro GrÃ¼bentÃ¤lchen\, FriedenstraÃŸe 118\, Kaiserslautern\, Rheinland-Pfalz\, 67657\, Deutschland
CATEGORIES:Kreatives,Veranstaltung
ATTACH;FMTTYPE=image/jpeg:https://gruebentaelchen.de/wp-content/uploads/2025/11/IMG_1130.jpeg
END:VEVENT
BEGIN:VEVENT
DTSTART;TZID=Europe/Berlin:20261019T140000
DTEND;TZID=Europe/Berlin:20261019T160000
DTSTAMP:20260419T183814
CREATED:20251120T103413Z
LAST-MODIFIED:20251124T141658Z
UID:10005829-1792418400-1792425600@gruebentaelchen.de
SUMMARY:Montagstreff
DESCRIPTION:  \nDer Montagstreff im StadtteilbÃ¼ro ist ein offener Treffpunkt fÃ¼r Menschen\, die das GesprÃ¤ch und den Austausch mit anderen suchen\, die sich gerne verabreden mÃ¶chten zum Spazieren\, ins Theater gehen\, AusflÃ¼ge machen oder einfach nur gemeinsam mit netten Menschen Zeit verbringen..
URL:https://gruebentaelchen.de/termine/montagstreff-2/2026-10-19/
LOCATION:StadtteilbÃ¼ro GrÃ¼bentÃ¤lchen\, FriedenstraÃŸe 118\, Kaiserslautern\, Rheinland-Pfalz\, 67657\, Deutschland
CATEGORIES:Kreatives,Veranstaltung
ATTACH;FMTTYPE=image/jpeg:https://gruebentaelchen.de/wp-content/uploads/2025/11/IMG_1130.jpeg
END:VEVENT
BEGIN:VEVENT
DTSTART;TZID=Europe/Berlin:20261026T140000
DTEND;TZID=Europe/Berlin:20261026T160000
DTSTAMP:20260419T183814
CREATED:20251120T103413Z
LAST-MODIFIED:20251124T141658Z
UID:10005830-1793023200-1793030400@gruebentaelchen.de
SUMMARY:Montagstreff
DESCRIPTION:  \nDer Montagstreff im StadtteilbÃ¼ro ist ein offener Treffpunkt fÃ¼r Menschen\, die das GesprÃ¤ch und den Austausch mit anderen suchen\, die sich gerne verabreden mÃ¶chten zum Spazieren\, ins Theater gehen\, AusflÃ¼ge machen oder einfach nur gemeinsam mit netten Menschen Zeit verbringen..
URL:https://gruebentaelchen.de/termine/montagstreff-2/2026-10-26/
LOCATION:StadtteilbÃ¼ro GrÃ¼bentÃ¤lchen\, FriedenstraÃŸe 118\, Kaiserslautern\, Rheinland-Pfalz\, 67657\, Deutschland
CATEGORIES:Kreatives,Veranstaltung
ATTACH;FMTTYPE=image/jpeg:https://gruebentaelchen.de/wp-content/uploads/2025/11/IMG_1130.jpeg
END:VEVENT
BEGIN:VEVENT
DTSTART;TZID=Europe/Berlin:20261102T140000
DTEND;TZID=Europe/Berlin:20261102T160000
DTSTAMP:20260419T183814
CREATED:20251120T103413Z
LAST-MODIFIED:20251124T141658Z
UID:10005831-1793628000-1793635200@gruebentaelchen.de
SUMMARY:Montagstreff
DESCRIPTION:  \nDer Montagstreff im StadtteilbÃ¼ro ist ein offener Treffpunkt fÃ¼r Menschen\, die das GesprÃ¤ch und den Austausch mit anderen suchen\, die sich gerne verabreden mÃ¶chten zum Spazieren\, ins Theater gehen\, AusflÃ¼ge machen oder einfach nur gemeinsam mit netten Menschen Zeit verbringen..
URL:https://gruebentaelchen.de/termine/montagstreff-2/2026-11-02/
LOCATION:StadtteilbÃ¼ro GrÃ¼bentÃ¤lchen\, FriedenstraÃŸe 118\, Kaiserslautern\, Rheinland-Pfalz\, 67657\, Deutschland
CATEGORIES:Kreatives,Veranstaltung
ATTACH;FMTTYPE=image/jpeg:https://gruebentaelchen.de/wp-content/uploads/2025/11/IMG_1130.jpeg
END:VEVENT
BEGIN:VEVENT
DTSTART;TZID=Europe/Berlin:20261109T140000
DTEND;TZID=Europe/Berlin:20261109T160000
DTSTAMP:20260419T183814
CREATED:20251120T103413Z
LAST-MODIFIED:20251124T141658Z
UID:10005832-1794232800-1794240000@gruebentaelchen.de
SUMMARY:Montagstreff
DESCRIPTION:  \nDer Montagstreff im StadtteilbÃ¼ro ist ein offener Treffpunkt fÃ¼r Menschen\, die das GesprÃ¤ch und den Austausch mit anderen suchen\, die sich gerne verabreden mÃ¶chten zum Spazieren\, ins Theater gehen\, AusflÃ¼ge machen oder einfach nur gemeinsam mit netten Menschen Zeit verbringen..
URL:https://gruebentaelchen.de/termine/montagstreff-2/2026-11-09/
LOCATION:StadtteilbÃ¼ro GrÃ¼bentÃ¤lchen\, FriedenstraÃŸe 118\, Kaiserslautern\, Rheinland-Pfalz\, 67657\, Deutschland
CATEGORIES:Kreatives,Veranstaltung
ATTACH;FMTTYPE=image/jpeg:https://gruebentaelchen.de/wp-content/uploads/2025/11/IMG_1130.jpeg
END:VEVENT
END:VCALENDAR