BEGIN:VCALENDAR
VERSION:2.0
PRODID:-//Stadtteilbüro Grübentälchen - ECPv6.15.20//NONSGML v1.0//EN
CALSCALE:GREGORIAN
METHOD:PUBLISH
X-ORIGINAL-URL:https://gruebentaelchen.de
X-WR-CALDESC:Veranstaltungen für Stadtteilbüro Grübentälchen
REFRESH-INTERVAL;VALUE=DURATION:PT1H
X-Robots-Tag:noindex
X-PUBLISHED-TTL:PT1H
BEGIN:VTIMEZONE
TZID:Europe/Berlin
BEGIN:DAYLIGHT
TZOFFSETFROM:+0100
TZOFFSETTO:+0200
TZNAME:CEST
DTSTART:20220327T010000
END:DAYLIGHT
BEGIN:STANDARD
TZOFFSETFROM:+0200
TZOFFSETTO:+0100
TZNAME:CET
DTSTART:20221030T010000
END:STANDARD
BEGIN:DAYLIGHT
TZOFFSETFROM:+0100
TZOFFSETTO:+0200
TZNAME:CEST
DTSTART:20230326T010000
END:DAYLIGHT
BEGIN:STANDARD
TZOFFSETFROM:+0200
TZOFFSETTO:+0100
TZNAME:CET
DTSTART:20231029T010000
END:STANDARD
BEGIN:DAYLIGHT
TZOFFSETFROM:+0100
TZOFFSETTO:+0200
TZNAME:CEST
DTSTART:20240331T010000
END:DAYLIGHT
BEGIN:STANDARD
TZOFFSETFROM:+0200
TZOFFSETTO:+0100
TZNAME:CET
DTSTART:20241027T010000
END:STANDARD
END:VTIMEZONE
BEGIN:VEVENT
DTSTART;TZID=Europe/Berlin:20230503T100000
DTEND;TZID=Europe/Berlin:20230523T180000
DTSTAMP:20260424T170517
CREATED:20230331T193453Z
LAST-MODIFIED:20230405T072422Z
UID:10002700-1683108000-1684864800@gruebentaelchen.de
SUMMARY:Stadtradeln Team Grübentälchen
DESCRIPTION:Vom 3. Mai bis 23. Mai:\nDas Stadtteilbüro wird wieder ein eigenes Team anmelden und freut sich über viele Mitradelnde. \nInfos im Stadtteilbüro.
URL:https://gruebentaelchen.de/termine/stadtradeln-team-gruebentaelchen/
LOCATION:Stadtteilbüro Grübentälchen\, Friedenstraße 118\, Kaiserslautern\, Rheinland-Pfalz\, 67657\, Deutschland
CATEGORIES:Sport
ATTACH;FMTTYPE=image/jpeg:https://gruebentaelchen.de/wp-content/uploads/2023/03/Stadtradeln.jpg
END:VEVENT
BEGIN:VEVENT
DTSTART;TZID=Europe/Berlin:20230509T140000
DTEND;TZID=Europe/Berlin:20230509T160000
DTSTAMP:20260424T170518
CREATED:20230404T200352Z
LAST-MODIFIED:20230718T193628Z
UID:10002788-1683640800-1683648000@gruebentaelchen.de
SUMMARY:Handarbeitstreff
DESCRIPTION:Seit Februar 2017 trifft sich jeden 2. und 4. Dienstag im Monat um 14 Uhr eine Gruppe von BürgerIinnen\, die Lust haben\, gemeinsam zu stricken und zu häkeln\, zum Handarbeitstreff. Dabei entstehen in netter Gemeinschaft Tücher\, Schals\, Strümpfe\, Kinderdecken und weitere Projekte. Der Phantasie wird freien Lauf gelassen und neue Farben sowie Muster werden ausprobiert. Jeder arbeitet an seinem eigenen Projekt\, auf das er Lust hat\, aber es gibt auch gegenseitige Tipps und Unterstützung. \nAlle BewohnerInnen des Grübentälchens sind herzlich zum Mitmachen eingeladen! Nach Möglichkeit sollte bitte jede TeilnehmerIn eigene Handarbeitsutensilien mitbringen. \nDie Teilnahme ist kostenlos. \nDer Handarbeitstreff findet in der Begegnungsstätte der Siedler und Eigenheimer „Im Grübentälchen“ e. V. \, Schreberstraße 1\, statt.\nKontakt über Stadtteilbüro Grübentälchen
URL:https://gruebentaelchen.de/termine/handarbeitstreff/2023-05-09/
LOCATION:Rheinland-Pfalz
CATEGORIES:Kreatives
ATTACH;FMTTYPE=image/jpeg:https://gruebentaelchen.de/wp-content/uploads/2023/02/Handarbeitstreff-jpg.jpg
END:VEVENT
END:VCALENDAR