BEGIN:VCALENDAR
VERSION:2.0
PRODID:-//Stadtteilbüro Grübentälchen - ECPv6.15.20//NONSGML v1.0//EN
CALSCALE:GREGORIAN
METHOD:PUBLISH
X-ORIGINAL-URL:https://gruebentaelchen.de
X-WR-CALDESC:Veranstaltungen für Stadtteilbüro Grübentälchen
REFRESH-INTERVAL;VALUE=DURATION:PT1H
X-Robots-Tag:noindex
X-PUBLISHED-TTL:PT1H
BEGIN:VTIMEZONE
TZID:Europe/Berlin
BEGIN:DAYLIGHT
TZOFFSETFROM:+0100
TZOFFSETTO:+0200
TZNAME:CEST
DTSTART:20220327T010000
END:DAYLIGHT
BEGIN:STANDARD
TZOFFSETFROM:+0200
TZOFFSETTO:+0100
TZNAME:CET
DTSTART:20221030T010000
END:STANDARD
BEGIN:DAYLIGHT
TZOFFSETFROM:+0100
TZOFFSETTO:+0200
TZNAME:CEST
DTSTART:20230326T010000
END:DAYLIGHT
BEGIN:STANDARD
TZOFFSETFROM:+0200
TZOFFSETTO:+0100
TZNAME:CET
DTSTART:20231029T010000
END:STANDARD
BEGIN:DAYLIGHT
TZOFFSETFROM:+0100
TZOFFSETTO:+0200
TZNAME:CEST
DTSTART:20240331T010000
END:DAYLIGHT
BEGIN:STANDARD
TZOFFSETFROM:+0200
TZOFFSETTO:+0100
TZNAME:CET
DTSTART:20241027T010000
END:STANDARD
END:VTIMEZONE
BEGIN:VEVENT
DTSTART;TZID=Europe/Berlin:20230615T130000
DTEND;TZID=Europe/Berlin:20230615T180000
DTSTAMP:20260424T153309
CREATED:20230412T071622Z
LAST-MODIFIED:20230612T120655Z
UID:10002840-1686834000-1686852000@gruebentaelchen.de
SUMMARY:Tag der offenen Tür im Stadtteilbüro Grübentälchen
DESCRIPTION:Kommen Sie vorbei und informieren Sie sich bei kleinen Leckereien und Getränken über uns und unsere Angebote! Auch Ihre Ideen\, Anregungen\, Fragen sowie Kritik und Engagement sind willkommen. \n \nDownload Flyer
URL:https://gruebentaelchen.de/termine/tag-der-offenen-tuer-im-stadtteilbuero-gruebentaelchen/
LOCATION:Stadtteilbüro Grübentälchen\, Friedenstraße 118\, Kaiserslautern\, Rheinland-Pfalz\, 67657\, Deutschland
CATEGORIES:Veranstaltung
ATTACH;FMTTYPE=image/jpeg:https://gruebentaelchen.de/wp-content/uploads/2023/04/Tag-der-offenen-Tuer-im-Stadtteilbuero.jpg
END:VEVENT
END:VCALENDAR