BEGIN:VCALENDAR
VERSION:2.0
PRODID:-//Stadtteilbüro Grübentälchen - ECPv6.15.20//NONSGML v1.0//EN
CALSCALE:GREGORIAN
METHOD:PUBLISH
X-ORIGINAL-URL:https://gruebentaelchen.de
X-WR-CALDESC:Veranstaltungen für Stadtteilbüro Grübentälchen
REFRESH-INTERVAL;VALUE=DURATION:PT1H
X-Robots-Tag:noindex
X-PUBLISHED-TTL:PT1H
BEGIN:VTIMEZONE
TZID:Europe/Berlin
BEGIN:DAYLIGHT
TZOFFSETFROM:+0100
TZOFFSETTO:+0200
TZNAME:CEST
DTSTART:20220327T010000
END:DAYLIGHT
BEGIN:STANDARD
TZOFFSETFROM:+0200
TZOFFSETTO:+0100
TZNAME:CET
DTSTART:20221030T010000
END:STANDARD
BEGIN:DAYLIGHT
TZOFFSETFROM:+0100
TZOFFSETTO:+0200
TZNAME:CEST
DTSTART:20230326T010000
END:DAYLIGHT
BEGIN:STANDARD
TZOFFSETFROM:+0200
TZOFFSETTO:+0100
TZNAME:CET
DTSTART:20231029T010000
END:STANDARD
BEGIN:DAYLIGHT
TZOFFSETFROM:+0100
TZOFFSETTO:+0200
TZNAME:CEST
DTSTART:20240331T010000
END:DAYLIGHT
BEGIN:STANDARD
TZOFFSETFROM:+0200
TZOFFSETTO:+0100
TZNAME:CET
DTSTART:20241027T010000
END:STANDARD
END:VTIMEZONE
BEGIN:VEVENT
DTSTART;TZID=Europe/Berlin:20230812T140000
DTEND;TZID=Europe/Berlin:20230812T160000
DTSTAMP:20260424T074320
CREATED:20230704T081406Z
LAST-MODIFIED:20230705T082615Z
UID:10002862-1691848800-1691856000@gruebentaelchen.de
SUMMARY:Kostenlose Erlebnisreise in die Fußballwelt des 1. FCK
DESCRIPTION:Kostenlose Erlebnisreise in die Fußballwelt des 1. FCK\nTreffpunkt 14:00 Uhr Hauptfriedhof Eingang Mannheimer Straße (gegenüber Blumen Gauweiler). \nRolf Conrad\, ehrenamtlicher Mitarbeiter des FCK-Museums und Mitglied des 1. FCK Fanclubs Fairplay\, führt Sie bei einem ca. 1 ½-stündigen Rundgang durch den Kaiserslauterer Hauptfriedhof zu 20 Gräbern ehemaliger FCK-Aktiven\, also Spielern\, Funktionären\, Schiedsrichtern und Fans und läßt spannende Fußballmomente wieder lebendig werden.
URL:https://gruebentaelchen.de/termine/kostenlose-erlebnisreise-in-die-fussballwelt-des-1-fck/
LOCATION:Rheinland-Pfalz
CATEGORIES:Veranstaltung
ATTACH;FMTTYPE=image/jpeg:https://gruebentaelchen.de/wp-content/uploads/2023/07/1_FC_Kaiserslautern.jpg
END:VEVENT
END:VCALENDAR