BEGIN:VCALENDAR
VERSION:2.0
PRODID:-//Stadtteilbüro Grübentälchen - ECPv6.15.20//NONSGML v1.0//EN
CALSCALE:GREGORIAN
METHOD:PUBLISH
X-ORIGINAL-URL:https://gruebentaelchen.de
X-WR-CALDESC:Veranstaltungen für Stadtteilbüro Grübentälchen
REFRESH-INTERVAL;VALUE=DURATION:PT1H
X-Robots-Tag:noindex
X-PUBLISHED-TTL:PT1H
BEGIN:VTIMEZONE
TZID:Europe/Berlin
BEGIN:DAYLIGHT
TZOFFSETFROM:+0100
TZOFFSETTO:+0200
TZNAME:CEST
DTSTART:20220327T010000
END:DAYLIGHT
BEGIN:STANDARD
TZOFFSETFROM:+0200
TZOFFSETTO:+0100
TZNAME:CET
DTSTART:20221030T010000
END:STANDARD
BEGIN:DAYLIGHT
TZOFFSETFROM:+0100
TZOFFSETTO:+0200
TZNAME:CEST
DTSTART:20230326T010000
END:DAYLIGHT
BEGIN:STANDARD
TZOFFSETFROM:+0200
TZOFFSETTO:+0100
TZNAME:CET
DTSTART:20231029T010000
END:STANDARD
BEGIN:DAYLIGHT
TZOFFSETFROM:+0100
TZOFFSETTO:+0200
TZNAME:CEST
DTSTART:20240331T010000
END:DAYLIGHT
BEGIN:STANDARD
TZOFFSETFROM:+0200
TZOFFSETTO:+0100
TZNAME:CET
DTSTART:20241027T010000
END:STANDARD
END:VTIMEZONE
BEGIN:VEVENT
DTSTART;TZID=Europe/Berlin:20231017T140000
DTEND;TZID=Europe/Berlin:20231017T153000
DTSTAMP:20260424T063200
CREATED:20230914T150011Z
LAST-MODIFIED:20230914T150514Z
UID:10002880-1697551200-1697556600@gruebentaelchen.de
SUMMARY:Führung durch das FCK-Museum
DESCRIPTION:Rolf Conrad\, ehrenamtlicher Mitarbeiter des FCK-Museums und Mitglied des 1. FCK Fanclubs Fairplay führt Sie ca. 90 Minuten durch die Ausstellung und erzählt Geschichten und Anekdoten rund um die Exponate. \nTreffpunkt: FCK-Museum im Fritz-Walter-Stadion. LOTTO Osttribühne\, Eingang Block 18\, 1 OG. \nDer Eintritt beträgt 4 €\, FCK-Mitglieder 2 €\, Kinder bis 6 Jahren haben freien Eintritt. \nUm Anmeldung wird gebeten beim Stadtteilbüro Grubentälchen. \nEine zweite Führung findet am 11.11.2023 statt.
URL:https://gruebentaelchen.de/termine/fuehrung-durch-das-fck-museum/
LOCATION:Fritz-Walter-Stadion\, Fritz-Walter-Straße 1\, Kaiserslautern\, Rheinland-Pfalz\, 67663\, Deutschland
CATEGORIES:Veranstaltung
ATTACH;FMTTYPE=image/jpeg:https://gruebentaelchen.de/wp-content/uploads/2023/09/fritz-walter-museum-logo.jpg
END:VEVENT
END:VCALENDAR