BEGIN:VCALENDAR
VERSION:2.0
PRODID:-//Stadtteilbüro Grübentälchen - ECPv6.15.20//NONSGML v1.0//EN
CALSCALE:GREGORIAN
METHOD:PUBLISH
X-WR-CALNAME:Stadtteilbüro Grübentälchen
X-ORIGINAL-URL:https://gruebentaelchen.de
X-WR-CALDESC:Veranstaltungen für Stadtteilbüro Grübentälchen
REFRESH-INTERVAL;VALUE=DURATION:PT1H
X-Robots-Tag:noindex
X-PUBLISHED-TTL:PT1H
BEGIN:VTIMEZONE
TZID:Europe/Berlin
BEGIN:DAYLIGHT
TZOFFSETFROM:+0100
TZOFFSETTO:+0200
TZNAME:CEST
DTSTART:20220327T010000
END:DAYLIGHT
BEGIN:STANDARD
TZOFFSETFROM:+0200
TZOFFSETTO:+0100
TZNAME:CET
DTSTART:20221030T010000
END:STANDARD
BEGIN:DAYLIGHT
TZOFFSETFROM:+0100
TZOFFSETTO:+0200
TZNAME:CEST
DTSTART:20230326T010000
END:DAYLIGHT
BEGIN:STANDARD
TZOFFSETFROM:+0200
TZOFFSETTO:+0100
TZNAME:CET
DTSTART:20231029T010000
END:STANDARD
BEGIN:DAYLIGHT
TZOFFSETFROM:+0100
TZOFFSETTO:+0200
TZNAME:CEST
DTSTART:20240331T010000
END:DAYLIGHT
BEGIN:STANDARD
TZOFFSETFROM:+0200
TZOFFSETTO:+0100
TZNAME:CET
DTSTART:20241027T010000
END:STANDARD
END:VTIMEZONE
BEGIN:VEVENT
DTSTART;TZID=Europe/Berlin:20231124T133000
DTEND;TZID=Europe/Berlin:20231124T153000
DTSTAMP:20260424T020600
CREATED:20230329T201516Z
LAST-MODIFIED:20231105T202519Z
UID:10002828-1700832600-1700839800@gruebentaelchen.de
SUMMARY:Migrationsberatung durch die Diakonie
DESCRIPTION:Migrationsberatung\nFreitags von 13:30 – 15:30 Uhr \nHerr Breier bietet jeweils freitags in der Zeit vom 13:30 bis 15:30 Uhr Gesprächs- und Beratungszeiten für Geflüchtete und Bürger:innen aus dem Stadtteil in den Räumlichkeiten des Stadtteilbüros (Friedenstraße 118) an. \nNeben diesen Präsenzzeiten können Sie auch Termine für Gespräche in seinem Büro in dem Haus der Diakonie (Pirmasenser Straße 82 neben dem Altenzentrum „Diakonissenhaus am Stadtpark“) vereinbaren. \nZwecks Terminvereinbarung setzen Sie sich bitte mit Herrn Breier telefonisch oder per Mail  in Verbindung:\nMobil: 0176 – 11 66 40 74\nMail: andreasphilipp.breier@diakonie-pfalz.de
URL:https://gruebentaelchen.de/termine/migrationsberatung-durch-die-diakonie-2/2023-11-24/
LOCATION:Stadtteilbüro Grübentälchen\, Friedenstraße 118\, Kaiserslautern\, Rheinland-Pfalz\, 67657\, Deutschland
CATEGORIES:Sprechstunde
ATTACH;FMTTYPE=image/jpeg:https://gruebentaelchen.de/wp-content/uploads/2023/03/Andreas-Philipp-Breier.jpg
END:VEVENT
BEGIN:VEVENT
DTSTART;TZID=Europe/Berlin:20231124T160000
DTEND;TZID=Europe/Berlin:20231124T180000
DTSTAMP:20260424T020600
CREATED:20230326T203407Z
LAST-MODIFIED:20231026T151928Z
UID:10002651-1700841600-1700848800@gruebentaelchen.de
SUMMARY:PlauderKaffee mit Jakkolo
DESCRIPTION:Jakkolo im Grübentälchen\nJeden letzten Freitag im Monat von 16:00 – 18:00 Uhr\nkönnen Sie im Rahmen unseres PlauderKaffees Jakkolo oder andere Spiele spielen. \nBeim Jakkolo müssen 30 Holzscheiben direkt oder indirekt in vier Boxen\, die mit Punktzeichen gekennzeichnet sind\, gespielt werden. \nAb ca. 9 Jahren können alle mit gleichen Chancen spielen\, egal ob Frau oder Mann\, Kinder oder Erwachsener\, Jung oder Alt\, Menschen mit oder ohne Handicap. Es kann im Stehen oder Sitzen gespielt werden. \nMachen Sie mit! Unser Team freut sich auf Ihr Kommen in die Begegnungsstätte der Siedler- und Eigenheimer „Im Grübentälchen“ e. V\, Schreberstraße 1. \nKontakt unter 0631 – 680 316 90
URL:https://gruebentaelchen.de/termine/plauderkaffee-mit-jakkolo/2023-11-24/
LOCATION:Begegnungsstätte der Siedler- und Eigenheimer &#8222;Im Grübentälchen&#8220; e.V.\, Schreberstraße 1\, Kaiserslautern\, Rheinland-Pfalz\, 67657
CATEGORIES:Veranstaltung
ATTACH;FMTTYPE=image/jpeg:https://gruebentaelchen.de/wp-content/uploads/2023/03/Jakkolo.jpg
END:VEVENT
END:VCALENDAR