BEGIN:VCALENDAR
VERSION:2.0
PRODID:-//Stadtteilbüro Grübentälchen - ECPv6.15.20//NONSGML v1.0//EN
CALSCALE:GREGORIAN
METHOD:PUBLISH
X-ORIGINAL-URL:https://gruebentaelchen.de
X-WR-CALDESC:Veranstaltungen für Stadtteilbüro Grübentälchen
REFRESH-INTERVAL;VALUE=DURATION:PT1H
X-Robots-Tag:noindex
X-PUBLISHED-TTL:PT1H
BEGIN:VTIMEZONE
TZID:Europe/Berlin
BEGIN:DAYLIGHT
TZOFFSETFROM:+0100
TZOFFSETTO:+0200
TZNAME:CEST
DTSTART:20220327T010000
END:DAYLIGHT
BEGIN:STANDARD
TZOFFSETFROM:+0200
TZOFFSETTO:+0100
TZNAME:CET
DTSTART:20221030T010000
END:STANDARD
BEGIN:DAYLIGHT
TZOFFSETFROM:+0100
TZOFFSETTO:+0200
TZNAME:CEST
DTSTART:20230326T010000
END:DAYLIGHT
BEGIN:STANDARD
TZOFFSETFROM:+0200
TZOFFSETTO:+0100
TZNAME:CET
DTSTART:20231029T010000
END:STANDARD
BEGIN:DAYLIGHT
TZOFFSETFROM:+0100
TZOFFSETTO:+0200
TZNAME:CEST
DTSTART:20240331T010000
END:DAYLIGHT
BEGIN:STANDARD
TZOFFSETFROM:+0200
TZOFFSETTO:+0100
TZNAME:CET
DTSTART:20241027T010000
END:STANDARD
END:VTIMEZONE
BEGIN:VEVENT
DTSTART;TZID=Europe/Berlin:20231201T080000
DTEND;TZID=Europe/Berlin:20231224T170000
DTSTAMP:20260424T003716
CREATED:20230412T074813Z
LAST-MODIFIED:20231206T113941Z
UID:10002851-1701417600-1703437200@gruebentaelchen.de
SUMMARY:Adventsfenster im Grübentälchen 2023
DESCRIPTION:Wir laden Sie ein auf abendliche Spaziergänge und Gespräche im Grübentälchen. Erfreuen Sie sich wieder an Adventsfenstern.. \nÜbersicht
URL:https://gruebentaelchen.de/termine/adventsfenster-im-gruebentaelchen-2023/
LOCATION:Im gesamten Grübentälchen
CATEGORIES:Veranstaltung
ATTACH;FMTTYPE=image/png:https://gruebentaelchen.de/wp-content/uploads/2023/04/Plakat-Adventsfenster-Gruebentaelchen-2023.png
END:VEVENT
BEGIN:VEVENT
DTSTART;TZID=Europe/Berlin:20231207T130000
DTEND;TZID=Europe/Berlin:20231207T140000
DTSTAMP:20260424T003716
CREATED:20230331T193914Z
LAST-MODIFIED:20251203T134920Z
UID:10008963-1701954000-1701957600@gruebentaelchen.de
SUMMARY:Mobilitätstraining
DESCRIPTION:Zeit für Bewegung – weil’s mir gut tut!\nMobilitätstraining im Grübentälchen\nMachen Sie mit bei Übungen\, die gut für die Gesundheit sind und Spaß und Freude an der Bewegung vermitteln. Wichtige Muskelgruppen\, die die Wirbelsäule aufrichten\, werden gekräftigt und die in der Tiefe liegenden Muskeln trainiert. Musik\, die gute Laune macht\, begleitet das Programm. \nJeden donnerstags von 13:00 – 14:00 Uhr\,\nVeranstaltungsraum der Gemeinschaftsunterkunft für ukrainisch Geflüchtete\, Mennonitenstr. 28 (ehemals Zoar-Alten- und Pflegeheim) \nUnser Angebot ist kostenlos und ganz in Ihrer Nähe. Sie können in bequemer Alltagskleidung kommen. Alle Termine können unabhängig voneinander und ohne Voranmeldung besucht werden. Und Sie lernen nette Menschen kennen… \nDas Mobilitätstraining wird durchgeführt von  Jennifer Höning\, Physiotherapeutin und Bewegungsmanagerin der Stadt Kaiserslautern der Landesinitiative „Rheinland-Pfalz – Land in Bewegung“.
URL:https://gruebentaelchen.de/termine/mobilitaetstraining-2/2023-12-07/
LOCATION:Mennonitenstraße 28
CATEGORIES:Sport
ATTACH;FMTTYPE=image/jpeg:https://gruebentaelchen.de/wp-content/uploads/2023/03/Mobilitaestraining-1.jpg
END:VEVENT
BEGIN:VEVENT
DTSTART;TZID=Europe/Berlin:20231207T150000
DTEND;TZID=Europe/Berlin:20231207T160000
DTSTAMP:20260424T003716
CREATED:20230914T154223Z
LAST-MODIFIED:20231202T130234Z
UID:10002900-1701961200-1701964800@gruebentaelchen.de
SUMMARY:Singkreis
DESCRIPTION:Karen Fuchs\, Mitglied des Seniorenbeirats der Stadt Kaiserslautern\, bietet einmal im Monat einen Singkreis mit Volksliedern und Schlagern an. \nSingen in Gemeinschaft schüttet Glückshormone aus\, fördert Kreativität und Konzentrationsfähigkeit. Auch Sprachgefühl und Wortschatz werden trainiert. \nKommen Sie vorbei und lassen Sie uns gemeinsam Weihnachtslieder singen. \nDas Stadtteilbüro lädt ein zum Adventsfenster ab 16 Uhr zu Früchtepunsch und Weihnachtsgebäck. Unser Singkreis wird mit Gitarrenbegleitung Weihnachtslieder singen – und wir würden uns über viele Miteinstimmende freuen!
URL:https://gruebentaelchen.de/termine/singkreis-2/
LOCATION:Stadtteilbüro Grübentälchen\, Friedenstraße 118\, Kaiserslautern\, Rheinland-Pfalz\, 67657\, Deutschland
CATEGORIES:Veranstaltung
ATTACH;FMTTYPE=image/png:https://gruebentaelchen.de/wp-content/uploads/2023/09/2023-08-08-Flyerlang-Stadtteilbuero_Singkreis-1.png
END:VEVENT
BEGIN:VEVENT
DTSTART;TZID=Europe/Berlin:20231207T160000
DTEND;TZID=Europe/Berlin:20231207T180000
DTSTAMP:20260424T003716
CREATED:20231206T114209Z
LAST-MODIFIED:20231206T202323Z
UID:10002910-1701964800-1701972000@gruebentaelchen.de
SUMMARY:Adventsterfenster im Stadtteilbüro
DESCRIPTION:Das Stadtteilbüro Grübentälchen lädt ein ins Stadtteilbüro zum Adventsfenster ab 16 Uhr mit Früchtepunsch und Weihnachtsgebäck. Unser Singkreis wird mit Gitarrenbegleitung Weihnachtslieder singen – und wir würden uns über viele Miteinstimmende freuen!
URL:https://gruebentaelchen.de/termine/adventsterfenster-im-stadtteilbuero-2023/
LOCATION:Rheinland-Pfalz
ATTACH;FMTTYPE=image/png:https://gruebentaelchen.de/wp-content/uploads/2023/04/Plakat-Adventsfenster-Gruebentaelchen-2023.png
END:VEVENT
END:VCALENDAR