BEGIN:VCALENDAR
VERSION:2.0
PRODID:-//Stadtteilbüro Grübentälchen - ECPv6.15.20//NONSGML v1.0//EN
CALSCALE:GREGORIAN
METHOD:PUBLISH
X-ORIGINAL-URL:https://gruebentaelchen.de
X-WR-CALDESC:Veranstaltungen für Stadtteilbüro Grübentälchen
REFRESH-INTERVAL;VALUE=DURATION:PT1H
X-Robots-Tag:noindex
X-PUBLISHED-TTL:PT1H
BEGIN:VTIMEZONE
TZID:Europe/Berlin
BEGIN:DAYLIGHT
TZOFFSETFROM:+0100
TZOFFSETTO:+0200
TZNAME:CEST
DTSTART:20230326T010000
END:DAYLIGHT
BEGIN:STANDARD
TZOFFSETFROM:+0200
TZOFFSETTO:+0100
TZNAME:CET
DTSTART:20231029T010000
END:STANDARD
BEGIN:DAYLIGHT
TZOFFSETFROM:+0100
TZOFFSETTO:+0200
TZNAME:CEST
DTSTART:20240331T010000
END:DAYLIGHT
BEGIN:STANDARD
TZOFFSETFROM:+0200
TZOFFSETTO:+0100
TZNAME:CET
DTSTART:20241027T010000
END:STANDARD
BEGIN:DAYLIGHT
TZOFFSETFROM:+0100
TZOFFSETTO:+0200
TZNAME:CEST
DTSTART:20250330T010000
END:DAYLIGHT
BEGIN:STANDARD
TZOFFSETFROM:+0200
TZOFFSETTO:+0100
TZNAME:CET
DTSTART:20251026T010000
END:STANDARD
END:VTIMEZONE
BEGIN:VEVENT
DTSTART;TZID=Europe/Berlin:20240104T123000
DTEND;TZID=Europe/Berlin:20240104T140000
DTSTAMP:20260423T213313
CREATED:20240102T002559Z
LAST-MODIFIED:20250523T082556Z
UID:10003854-1704371400-1704376800@gruebentaelchen.de
SUMMARY:Sprechstunde der Fachkraft im Landesangebot „Gemeindeschwester Plus“
DESCRIPTION:Gemeindeschwester plus – Angebot für ältere Menschen in der Stadt Kaiserslautern\nDie Gemeindeschwester plus unterstützt und hört zu. Sie möchten solange es geht zu Hause wohnen\, aber der Alltag ist manchmal beschwerlich? Dann wenden Sie sich vertrauensvoll an die Gemeindeschwester plus. Sie hat ein offenes Ohr für Sie und kommt auf Wunsch zu Ihnen nach Hause. \nKontakt:\nTelefon 0631 / 365 40 87\nE-Mail: aline.neumann@kaiserslautern.de \nSprechstunde im Stadtteilbüro \njeden Donnerstag von 12:30 &#8211; 14:00 Uhr \nLiebe Seniorinnen und Senioren\, ab sofort findet wieder regelmäßig meine Sprechstunde statt. Sie treffen mich jeden Donnerstag von 12:30 &#8211; 14:00 Uhr im Stadtteilbüro an. Ich würde mich sehr freuen\, wenn Sie mein kostenfreies Beratungsangebot wahrnehmen. Bei Fragen dürfen Sie mich gerne telefonisch kontaktieren.
URL:https://gruebentaelchen.de/termine/sprechstunde-der-gemeindeschwester-plus/
LOCATION:Stadtteilbüro Grübentälchen\, Friedenstraße 118\, Kaiserslautern\, Rheinland-Pfalz\, 67657\, Deutschland
CATEGORIES:Sprechstunde
ATTACH;FMTTYPE=image/png:https://gruebentaelchen.de/wp-content/uploads/2024/01/Aline-Neumann-Gemeindeschwester-plus.png
END:VEVENT
BEGIN:VEVENT
DTSTART;TZID=Europe/Berlin:20240104T130000
DTEND;TZID=Europe/Berlin:20240104T140000
DTSTAMP:20260423T213313
CREATED:20230331T193914Z
LAST-MODIFIED:20251203T134920Z
UID:10008967-1704373200-1704376800@gruebentaelchen.de
SUMMARY:Mobilitätstraining
DESCRIPTION:Zeit für Bewegung – weil’s mir gut tut!\nMobilitätstraining im Grübentälchen\nMachen Sie mit bei Übungen\, die gut für die Gesundheit sind und Spaß und Freude an der Bewegung vermitteln. Wichtige Muskelgruppen\, die die Wirbelsäule aufrichten\, werden gekräftigt und die in der Tiefe liegenden Muskeln trainiert. Musik\, die gute Laune macht\, begleitet das Programm. \nJeden donnerstags von 13:00 – 14:00 Uhr\,\nVeranstaltungsraum der Gemeinschaftsunterkunft für ukrainisch Geflüchtete\, Mennonitenstr. 28 (ehemals Zoar-Alten- und Pflegeheim) \nUnser Angebot ist kostenlos und ganz in Ihrer Nähe. Sie können in bequemer Alltagskleidung kommen. Alle Termine können unabhängig voneinander und ohne Voranmeldung besucht werden. Und Sie lernen nette Menschen kennen… \nDas Mobilitätstraining wird durchgeführt von  Jennifer Höning\, Physiotherapeutin und Bewegungsmanagerin der Stadt Kaiserslautern der Landesinitiative „Rheinland-Pfalz – Land in Bewegung“.
URL:https://gruebentaelchen.de/termine/mobilitaetstraining-2/2024-01-04/
LOCATION:Mennonitenstraße 28
CATEGORIES:Sport
ATTACH;FMTTYPE=image/jpeg:https://gruebentaelchen.de/wp-content/uploads/2023/03/Mobilitaestraining-1.jpg
END:VEVENT
END:VCALENDAR