BEGIN:VCALENDAR
VERSION:2.0
PRODID:-//StadtteilbÃ¼ro GrÃ¼bentÃ¤lchen - ECPv6.15.20//NONSGML v1.0//EN
CALSCALE:GREGORIAN
METHOD:PUBLISH
X-ORIGINAL-URL:https://gruebentaelchen.de
X-WR-CALDESC:Veranstaltungen fÃ¼r StadtteilbÃ¼ro GrÃ¼bentÃ¤lchen
REFRESH-INTERVAL;VALUE=DURATION:PT1H
X-Robots-Tag:noindex
X-PUBLISHED-TTL:PT1H
BEGIN:VTIMEZONE
TZID:Europe/Berlin
BEGIN:DAYLIGHT
TZOFFSETFROM:+0100
TZOFFSETTO:+0200
TZNAME:CEST
DTSTART:20230326T010000
END:DAYLIGHT
BEGIN:STANDARD
TZOFFSETFROM:+0200
TZOFFSETTO:+0100
TZNAME:CET
DTSTART:20231029T010000
END:STANDARD
BEGIN:DAYLIGHT
TZOFFSETFROM:+0100
TZOFFSETTO:+0200
TZNAME:CEST
DTSTART:20240331T010000
END:DAYLIGHT
BEGIN:STANDARD
TZOFFSETFROM:+0200
TZOFFSETTO:+0100
TZNAME:CET
DTSTART:20241027T010000
END:STANDARD
BEGIN:DAYLIGHT
TZOFFSETFROM:+0100
TZOFFSETTO:+0200
TZNAME:CEST
DTSTART:20250330T010000
END:DAYLIGHT
BEGIN:STANDARD
TZOFFSETFROM:+0200
TZOFFSETTO:+0100
TZNAME:CET
DTSTART:20251026T010000
END:STANDARD
END:VTIMEZONE
BEGIN:VEVENT
DTSTART;TZID=Europe/Berlin:20240501T110000
DTEND;TZID=Europe/Berlin:20240501T123000
DTSTAMP:20260423T104839
CREATED:20230326T204725Z
LAST-MODIFIED:20260205T195711Z
UID:10005110-1714561200-1714566600@gruebentaelchen.de
SUMMARY:Sprechstunde des Betreuungsvereins DRK
DESCRIPTION:Jeden 1. Mittwoch im Monat von 11:00 â€“ 12:30 Uhr \nkostenloses Beratungsangebot des Betreuungsvereins DRK Kaiserslautern \n  \nBetreuungsvereine\nIn derÂ  Stadt Kaiserslautern finden Sie 4 Betreuungsvereine. Diese sind bei derÂ  Arbeiterwohlfahrt\, der Lebenshilfe\, dem Sozialdienst katholischer MÃ¤nner und Frauen undÂ  dem Deutschen Roten Kreuz zu finden. \nDieÂ  Betreuungsvereine informieren und beraten Sie kostenlos zu den Themen Vorsorgevollmacht und PatientenverfÃ¼gung.Â  Weiterhin sind sie zustÃ¤ndig fÃ¼r die GewinnungÂ  ehrenamtlicher Betreuer*innen. Diese werden im Vorfeld Ã¼ber ihre Arbeit aufgeklÃ¤rt\, geschult und erhalten wÃ¤hrend ihrer TÃ¤tigkeit UnterstÃ¼tzung und Hilfestellung bei allen Fragen rund um die gesetzliche Betreuung. RegelmÃ¤ÃŸig werden von den Betreuungsvereinen Treffen zum Austausch und zur Fortbildung fÃ¼r ehrenamtlichen Betreuer*innen angeboten. \nSo finden Sie die Betreuungsvereine: \nAWOÂ Â Â \nSchumannstraÃŸe 1\, Kaiserslautern\nTelefon 0631 â€“ 89 23 119 \nDRK\nBarbarossastraÃŸe 27\, Kaiserslautern\nTelefon 0631 â€“ 800 93 184 \nLebenshilfe\nPariserstraÃŸe 18. Kaiserslautern\nTelefon 0631 â€“ 414 70 789 \nSKFM\nKlosterstr. 6\, Kaiserslautern\nTelefon 0631 â€“ 361 25 310
URL:https://gruebentaelchen.de/termine/sprechstunde-der-betreuungsvereine/2024-05-01/
LOCATION:Rheinland-Pfalz
CATEGORIES:Beratung
ATTACH;FMTTYPE=image/jpeg:https://gruebentaelchen.de/wp-content/uploads/2023/02/Betreeungsvereine-Kaiserslautern.jpg
END:VEVENT
END:VCALENDAR