BEGIN:VCALENDAR
VERSION:2.0
PRODID:-//Stadtteilbüro Grübentälchen - ECPv6.15.20//NONSGML v1.0//EN
CALSCALE:GREGORIAN
METHOD:PUBLISH
X-WR-CALNAME:Stadtteilbüro Grübentälchen
X-ORIGINAL-URL:https://gruebentaelchen.de
X-WR-CALDESC:Veranstaltungen für Stadtteilbüro Grübentälchen
REFRESH-INTERVAL;VALUE=DURATION:PT1H
X-Robots-Tag:noindex
X-PUBLISHED-TTL:PT1H
BEGIN:VTIMEZONE
TZID:Europe/Berlin
BEGIN:DAYLIGHT
TZOFFSETFROM:+0100
TZOFFSETTO:+0200
TZNAME:CEST
DTSTART:20230326T010000
END:DAYLIGHT
BEGIN:STANDARD
TZOFFSETFROM:+0200
TZOFFSETTO:+0100
TZNAME:CET
DTSTART:20231029T010000
END:STANDARD
BEGIN:DAYLIGHT
TZOFFSETFROM:+0100
TZOFFSETTO:+0200
TZNAME:CEST
DTSTART:20240331T010000
END:DAYLIGHT
BEGIN:STANDARD
TZOFFSETFROM:+0200
TZOFFSETTO:+0100
TZNAME:CET
DTSTART:20241027T010000
END:STANDARD
BEGIN:DAYLIGHT
TZOFFSETFROM:+0100
TZOFFSETTO:+0200
TZNAME:CEST
DTSTART:20250330T010000
END:DAYLIGHT
BEGIN:STANDARD
TZOFFSETFROM:+0200
TZOFFSETTO:+0100
TZNAME:CET
DTSTART:20251026T010000
END:STANDARD
END:VTIMEZONE
BEGIN:VEVENT
DTSTART;TZID=Europe/Berlin:20240522T140000
DTEND;TZID=Europe/Berlin:20240522T160000
DTSTAMP:20260423T030040
CREATED:20240102T003714Z
LAST-MODIFIED:20251124T143038Z
UID:10004135-1716386400-1716393600@gruebentaelchen.de
SUMMARY:Übersetzungshilfe Arabisch-Deutsch
DESCRIPTION:Das Stadtteilbüro Grübentälchen bietet kostenlose Übersetzungshilfe für Arabisch – Deutsch an. \nJeden Mittwoch ist von 14:00 – 16:00 Uhr ein Dolmetscher für Arabisch vor Ort\, der kostenlos bei der Übersetzung von Unterlagen hilft. Eine Beglaubigung der Unterlagen ist nicht möglich. Individuelle Termine können auch nach Bedarf ausgemacht werden.
URL:https://gruebentaelchen.de/termine/uebersetzungshilfe-arabisch-deutsch/2024-05-22/
LOCATION:Stadtteilbüro Grübentälchen\, Friedenstraße 118\, Kaiserslautern\, Rheinland-Pfalz\, 67657\, Deutschland
CATEGORIES:Beratung
END:VEVENT
BEGIN:VEVENT
DTSTART;TZID=Europe/Berlin:20240522T160000
DTEND;TZID=Europe/Berlin:20240522T180000
DTSTAMP:20260423T030040
CREATED:20230704T075138Z
LAST-MODIFIED:20240123T164257Z
UID:10004499-1716393600-1716400800@gruebentaelchen.de
SUMMARY:Sprechstunden zu Karriere und Weiterbildung im Stadtteilbüro Grübentälchen
DESCRIPTION:Nutzen Sie die Sprechstunde und kommen Sie mit einem Berufsberater/einer Berufsberaterin im Erwerbsleben ins Gespräch. Im Anschluss können Sie\, wenn gewünscht\, einen Beratungstermin vereinbaren. Das Angebot richtet sich an Menschen\, die bereits arbeiten bzw. ihre Arbeit aufgrund einer Familienphase derzeit unterbrochen haben. Wir unterstützten Sie bei Fragen bezüglich Ihrer beruflichen Zukunft und begleiten Sie auf Ihrem Weg. Im Vordergrund stehen Ihre beruflichen Wünsche und Ziele. Ein Berufsberater/eine Berufsberaterin steht Ihnen im Stadtteilbüro Grübentälchen in der Friedenstraße 118\, in der Zeit von 16:00 bis 18:00 Uhr\, ohne Anmeldung zur Verfügung.
URL:https://gruebentaelchen.de/termine/sprechstunden-zu-karriere-und-weiterbildung-im-stadtteilbuero-gruebentaelchen-2/2024-05-22/
LOCATION:Stadtteilbüro Grübentälchen\, Friedenstraße 118\, Kaiserslautern\, Rheinland-Pfalz\, 67657\, Deutschland
CATEGORIES:Beratung
ATTACH;FMTTYPE=image/jpeg:https://gruebentaelchen.de/wp-content/uploads/2023/02/Bundesagentur_fuer_Arbeit.jpg
END:VEVENT
END:VCALENDAR