BEGIN:VCALENDAR
VERSION:2.0
PRODID:-//Stadtteilbüro Grübentälchen - ECPv6.15.20//NONSGML v1.0//EN
CALSCALE:GREGORIAN
METHOD:PUBLISH
X-ORIGINAL-URL:https://gruebentaelchen.de
X-WR-CALDESC:Veranstaltungen für Stadtteilbüro Grübentälchen
REFRESH-INTERVAL;VALUE=DURATION:PT1H
X-Robots-Tag:noindex
X-PUBLISHED-TTL:PT1H
BEGIN:VTIMEZONE
TZID:Europe/Berlin
BEGIN:DAYLIGHT
TZOFFSETFROM:+0100
TZOFFSETTO:+0200
TZNAME:CEST
DTSTART:20230326T010000
END:DAYLIGHT
BEGIN:STANDARD
TZOFFSETFROM:+0200
TZOFFSETTO:+0100
TZNAME:CET
DTSTART:20231029T010000
END:STANDARD
BEGIN:DAYLIGHT
TZOFFSETFROM:+0100
TZOFFSETTO:+0200
TZNAME:CEST
DTSTART:20240331T010000
END:DAYLIGHT
BEGIN:STANDARD
TZOFFSETFROM:+0200
TZOFFSETTO:+0100
TZNAME:CET
DTSTART:20241027T010000
END:STANDARD
BEGIN:DAYLIGHT
TZOFFSETFROM:+0100
TZOFFSETTO:+0200
TZNAME:CEST
DTSTART:20250330T010000
END:DAYLIGHT
BEGIN:STANDARD
TZOFFSETFROM:+0200
TZOFFSETTO:+0100
TZNAME:CET
DTSTART:20251026T010000
END:STANDARD
END:VTIMEZONE
BEGIN:VEVENT
DTSTART;TZID=Europe/Berlin:20241115T080000
DTEND;TZID=Europe/Berlin:20241115T170000
DTSTAMP:20260422T002613
CREATED:20230705T075103Z
LAST-MODIFIED:20241114T133552Z
UID:10002864-1731657600-1731690000@gruebentaelchen.de
SUMMARY:Vorlesetag
DESCRIPTION:Zusammen mit der VHS (Volkshochschule) Kaiserslautern laden wir zum diesjährigen Vorlesetag in die Friedenskapelle ein. Unter dem Motto „Abenteuer und Fantasie“ erwartet die BesucherInnen ein vielfältiges Programm\, das Kinder und Erwachsene gleichermaßen begeistert.\nUm 17:00 Uhr startet die Lesung für Kinder ab 5 Jahren. Die Vorleserinnen Angelika Schwarz und Iggi Weber nehmen die Kinder mit auf eine Reise durch beliebte Geschichten von Autoren wie Janosch und Astrid Lindgren bis hin zur „Die Schule der magischen Tiere“. Diese liebevoll ausgewählten Erzählungen laden ein zum Staunen\, Lachen und Mitfiebern und lassen die Fantasie der Kinder sprühen.\nUm 19:30 Uhr folgt die Lesung für Erwachsene: Die in Kaiserslautern bekannte Schauspielerin Barbara Seeliger liest aus Walter Moers‘ fantasievollem Meisterwerk „Die 13 ½ Leben des Käpt‘n Blaubär. Dieses Buch\, das mit klassischen Kinderbuchidyllen wenig gemein hat\, entführt in die skurrile Welt des fiktiven Kontinents Zamonien.  Hier jagt Moers seinen Helden Kätpt’n Blaubär von einer Gefahr in die nächste und präsentiert ein Abenteuer\, das humorvoll\, einzigartig uns voll fantastischer Kreativität ist. \nDie Teilnahme an allen Veranstaltungen ist kostenlos. Alle teilnehmenden Institutionen freuen sich über regen Besuch!
URL:https://gruebentaelchen.de/termine/vorlesetag/
LOCATION:Rheinland-Pfalz
CATEGORIES:Veranstaltung
ATTACH;FMTTYPE=image/jpeg:https://gruebentaelchen.de/wp-content/uploads/2023/07/Friedenskappele.jpg
END:VEVENT
END:VCALENDAR