BEGIN:VCALENDAR
VERSION:2.0
PRODID:-//StadtteilbÃ¼ro GrÃ¼bentÃ¤lchen - ECPv6.15.20//NONSGML v1.0//EN
CALSCALE:GREGORIAN
METHOD:PUBLISH
X-WR-CALNAME:StadtteilbÃ¼ro GrÃ¼bentÃ¤lchen
X-ORIGINAL-URL:https://gruebentaelchen.de
X-WR-CALDESC:Veranstaltungen fÃ¼r StadtteilbÃ¼ro GrÃ¼bentÃ¤lchen
REFRESH-INTERVAL;VALUE=DURATION:PT1H
X-Robots-Tag:noindex
X-PUBLISHED-TTL:PT1H
BEGIN:VTIMEZONE
TZID:Europe/Berlin
BEGIN:DAYLIGHT
TZOFFSETFROM:+0100
TZOFFSETTO:+0200
TZNAME:CEST
DTSTART:20240331T010000
END:DAYLIGHT
BEGIN:STANDARD
TZOFFSETFROM:+0200
TZOFFSETTO:+0100
TZNAME:CET
DTSTART:20241027T010000
END:STANDARD
BEGIN:DAYLIGHT
TZOFFSETFROM:+0100
TZOFFSETTO:+0200
TZNAME:CEST
DTSTART:20250330T010000
END:DAYLIGHT
BEGIN:STANDARD
TZOFFSETFROM:+0200
TZOFFSETTO:+0100
TZNAME:CET
DTSTART:20251026T010000
END:STANDARD
BEGIN:DAYLIGHT
TZOFFSETFROM:+0100
TZOFFSETTO:+0200
TZNAME:CEST
DTSTART:20260329T010000
END:DAYLIGHT
BEGIN:STANDARD
TZOFFSETFROM:+0200
TZOFFSETTO:+0100
TZNAME:CET
DTSTART:20261025T010000
END:STANDARD
END:VTIMEZONE
BEGIN:VEVENT
DTSTART;TZID=Europe/Berlin:20251204T180000
DTEND;TZID=Europe/Berlin:20251224T190000
DTSTAMP:20260421T065420
CREATED:20251124T122911Z
LAST-MODIFIED:20251203T133048Z
UID:10007017-1764871200-1766602800@gruebentaelchen.de
SUMMARY:Adventsfenster
DESCRIPTION:  \nAuch in diesem Jahr findet im GrÃ¼bentÃ¤lchen das Adventsfenster statt. Vom 4. bis 24. Dezember Ã¶ffnet sich tÃ¤glich an einer anderen Adresse im Stadtteil ein liebevoll gestaltetes Fenster. Die Aktion lÃ¤dt zu abendlichen SpaziergÃ¤ngen im Quartier ein und bietet Gelegenheit fÃ¼r Begegnungen und GesprÃ¤che. \nAn den gekennzeichneten Adressen erwartet die Besucherinnen und Besucher ein gemÃ¼tliches Beisammensein. Teilweise wird ein kleiner Umtrunk angeboten. Wer mÃ¶chte\, kann gerne einen eigenen Trinkbecher mitbringen. \nWir freuen uns auf eine stimmungsvolle Adventszeit und viele schÃ¶ne Begegnungen im GrÃ¼bentÃ¤lchen. \n  \n4.12. Fam. Hanf-Poppitz\, Im GrÃ¼bentÃ¤lchen 9\, ab 18:00 Uhr \n5.12. Fam. MÃ¼ller / Scherf\, Am HeiligenhÃ¤uschen 14\, ab 18:00 Uhr \n6.12. Angela Illig\, Gut-Heim-StraÃŸe 94\, NUR Fenster \n6.12. Guud Stubb\, Nils-Wohnen im Quartier\, FriedenstraÃŸe 63\, 15:00 &#8211; 18:00 Uhr \n9.12. StadtteilbÃ¼ro GrÃ¼bentÃ¤lchen\, FriedenstraÃŸe 118\, ab 17:00 Uhr \n10.12 2.Klassen der Grundschule Geschwister-Scholl\, SchreberstraÃŸe 37\, NUR Fenster \n11.12. 4. Klassen der Grundschule Geschwister-Scholl\, SchreberstraÃŸe 37\, NUR Fenster \n12.12. Siedler & Eigenheimer\, SchreberstraÃŸe 1\, ab 18:00 Uhr \n13.12. Monika Dahms\, Fischbacher Weg 36\, ab 18:00 Uhr \n14.12. Fam. Leixner\, Gut-Heim-StraÃŸe 59 a\, ab 17:00 Uhr \n16.12. Kita Mobile\, Asternweg 61\, ab 17:00 Uhr \n18.12. Kita St. Norbert\, MennonitenstraÃŸe 3\, ab 17:00 Uhr \n24.12. Zum Ilse\, Asternweg 20\, NUR Fenster
URL:https://gruebentaelchen.de/termine/adventsfenster-2/2025-12-04/
LOCATION:Rheinland-Pfalz
ATTACH;FMTTYPE=image/jpeg:https://gruebentaelchen.de/wp-content/uploads/2025/11/FC2AA491-18E7-4BBE-84DB-FA7AA8137933.jpeg
END:VEVENT
BEGIN:VEVENT
DTSTART;TZID=Europe/Berlin:20251209T110000
DTEND;TZID=Europe/Berlin:20251209T120000
DTSTAMP:20260421T065420
CREATED:20251120T104201Z
LAST-MODIFIED:20251203T140240Z
UID:10006045-1765278000-1765281600@gruebentaelchen.de
SUMMARY:Gemeinsam bewegen an der frischen Luft
DESCRIPTION:Gemeinsamer Spaziergang &#8211; gerne auch mit Walking-StÃ¶cken. Mit Dehn- und GleichgewichtsÃ¼bungen\, je nach Interesse und Fitness der Teilnehmenden. \nAlle sind willkommen! \nDie Teilnahme ist kostenfrei! \nKeine Anmeldung notwendig. Einstieg jederzeit mÃ¶glich. \nTermine: jeden Dienstag von 11.00 bis 12.00 Uhr \nOrt: Volkspark Kaiserslautern |Treffpunkt an der Konzertmuschel \n  \nSie haben Fragen?\nMelden Sie sich gerne im StadtteilbÃ¼ro GrÃ¼bentÃ¤lchen unter 0631 680 316 90.
URL:https://gruebentaelchen.de/termine/gemeinsam-bewegen-an-der-frischen-luft/2025-12-09/
LOCATION:Volkspark\, EntersweilerstraÃŸe\, Kaiserslautern
ATTACH;FMTTYPE=image/jpeg:https://gruebentaelchen.de/wp-content/uploads/2025/11/IMG_1419.jpeg
END:VEVENT
BEGIN:VEVENT
DTSTART;TZID=Europe/Berlin:20251209T140000
DTEND;TZID=Europe/Berlin:20251209T160000
DTSTAMP:20260421T065420
CREATED:20231212T171849Z
LAST-MODIFIED:20231212T171849Z
UID:10003257-1765288800-1765296000@gruebentaelchen.de
SUMMARY:Handarbeitstreff
DESCRIPTION:Seit Februar 2017 trifft sich jeden 2. und 4. Dienstag im Monat um 14 Uhr eine Gruppe von BÃ¼rgerIinnen\, die Lust haben\, gemeinsam zu stricken und zu hÃ¤keln\, zum Handarbeitstreff. Dabei entstehen in netter Gemeinschaft TÃ¼cher\, Schals\, StrÃ¼mpfe\, Kinderdecken und weitere Projekte. Der Phantasie wird freien Lauf gelassen und neue Farben sowie Muster werden ausprobiert. Jeder arbeitet an seinem eigenen Projekt\, auf das er Lust hat\, aber es gibt auch gegenseitige Tipps und UnterstÃ¼tzung. \nAlle BewohnerInnen des GrÃ¼bentÃ¤lchens sind herzlich zum Mitmachen eingeladen! Nach MÃ¶glichkeit sollte bitte jede TeilnehmerIn eigene Handarbeitsutensilien mitbringen. \nDie Teilnahme ist kostenlos. \nDer Handarbeitstreff findet in der BegegnungsstÃ¤tte der Siedler und Eigenheimer â€žIm GrÃ¼bentÃ¤lchenâ€œ e. V. \, SchreberstraÃŸe 1\, statt.\nKontakt Ã¼ber StadtteilbÃ¼ro GrÃ¼bentÃ¤lchen
URL:https://gruebentaelchen.de/termine/handarbeitstreff-1/2025-12-09/
LOCATION:BegegnungsstÃ¤tte der Siedler- und Eigenheimer &#8222;Im GrÃ¼bentÃ¤lchen&#8220; e.V.\, SchreberstraÃŸe 1\, Kaiserslautern\, Rheinland-Pfalz\, 67657
ATTACH;FMTTYPE=image/jpeg:https://gruebentaelchen.de/wp-content/uploads/2023/02/Handarbeitstreff-jpg.jpg
END:VEVENT
BEGIN:VEVENT
DTSTART;TZID=Europe/Berlin:20251209T170000
DTEND;TZID=Europe/Berlin:20251209T190000
DTSTAMP:20260421T065420
CREATED:20251124T143711Z
LAST-MODIFIED:20251203T133010Z
UID:10009326-1765299600-1765306800@gruebentaelchen.de
SUMMARY:Adventsfenster im StadtteilbÃ¼ro
DESCRIPTION:Auch in diesem Jahr lebt im GrÃ¼bentÃ¤lchen wieder die Tradition der Adventsfenster auf: Beginnend am 1. Dezember werden an 13 Abenden BewohnerInnen und InstitutionenÂ  ein Fenster adventlich schmÃ¼cken und an 9 Abenden wird es die MÃ¶glichkeit zu einem geselligenÂ  Beisammensein geben. Kommen Sie vorbei und lassen Sie sich von Lichtern und DÃ¼ften verzaubern und treffen Sie nette Menschen zum Austauschen und FrÃ¶hlichsein. \nAuch zu unserem Adventsfenster mÃ¶chten wir Sie ganz herzlich einladen: neben GlÃ¼hwein\, Punsch und WeihnachtsgebÃ¤ck wird Claus Linde mit dem Brotbackofen da sein und fÃ¼r uns Dinnete backen. \n 
URL:https://gruebentaelchen.de/termine/adventsfenster-im-stadtteilbuero/
LOCATION:Rheinland-Pfalz
ATTACH;FMTTYPE=image/jpeg:https://gruebentaelchen.de/wp-content/uploads/2025/11/46506D55-1F9D-4261-AD4E-C1EA39371D87.jpeg
END:VEVENT
END:VCALENDAR