BEGIN:VCALENDAR
VERSION:2.0
PRODID:-//StadtteilbÃ¼ro GrÃ¼bentÃ¤lchen - ECPv6.15.20//NONSGML v1.0//EN
CALSCALE:GREGORIAN
METHOD:PUBLISH
X-WR-CALNAME:StadtteilbÃ¼ro GrÃ¼bentÃ¤lchen
X-ORIGINAL-URL:https://gruebentaelchen.de
X-WR-CALDESC:Veranstaltungen fÃ¼r StadtteilbÃ¼ro GrÃ¼bentÃ¤lchen
REFRESH-INTERVAL;VALUE=DURATION:PT1H
X-Robots-Tag:noindex
X-PUBLISHED-TTL:PT1H
BEGIN:VTIMEZONE
TZID:Europe/Berlin
BEGIN:DAYLIGHT
TZOFFSETFROM:+0100
TZOFFSETTO:+0200
TZNAME:CEST
DTSTART:20240331T010000
END:DAYLIGHT
BEGIN:STANDARD
TZOFFSETFROM:+0200
TZOFFSETTO:+0100
TZNAME:CET
DTSTART:20241027T010000
END:STANDARD
BEGIN:DAYLIGHT
TZOFFSETFROM:+0100
TZOFFSETTO:+0200
TZNAME:CEST
DTSTART:20250330T010000
END:DAYLIGHT
BEGIN:STANDARD
TZOFFSETFROM:+0200
TZOFFSETTO:+0100
TZNAME:CET
DTSTART:20251026T010000
END:STANDARD
BEGIN:DAYLIGHT
TZOFFSETFROM:+0100
TZOFFSETTO:+0200
TZNAME:CEST
DTSTART:20260329T010000
END:DAYLIGHT
BEGIN:STANDARD
TZOFFSETFROM:+0200
TZOFFSETTO:+0100
TZNAME:CET
DTSTART:20261025T010000
END:STANDARD
END:VTIMEZONE
BEGIN:VEVENT
DTSTART;TZID=Europe/Berlin:20251204T180000
DTEND;TZID=Europe/Berlin:20251224T190000
DTSTAMP:20260421T065119
CREATED:20251124T122911Z
LAST-MODIFIED:20251203T133048Z
UID:10007017-1764871200-1766602800@gruebentaelchen.de
SUMMARY:Adventsfenster
DESCRIPTION:  \nAuch in diesem Jahr findet im GrÃ¼bentÃ¤lchen das Adventsfenster statt. Vom 4. bis 24. Dezember Ã¶ffnet sich tÃ¤glich an einer anderen Adresse im Stadtteil ein liebevoll gestaltetes Fenster. Die Aktion lÃ¤dt zu abendlichen SpaziergÃ¤ngen im Quartier ein und bietet Gelegenheit fÃ¼r Begegnungen und GesprÃ¤che. \nAn den gekennzeichneten Adressen erwartet die Besucherinnen und Besucher ein gemÃ¼tliches Beisammensein. Teilweise wird ein kleiner Umtrunk angeboten. Wer mÃ¶chte\, kann gerne einen eigenen Trinkbecher mitbringen. \nWir freuen uns auf eine stimmungsvolle Adventszeit und viele schÃ¶ne Begegnungen im GrÃ¼bentÃ¤lchen. \n  \n4.12. Fam. Hanf-Poppitz\, Im GrÃ¼bentÃ¤lchen 9\, ab 18:00 Uhr \n5.12. Fam. MÃ¼ller / Scherf\, Am HeiligenhÃ¤uschen 14\, ab 18:00 Uhr \n6.12. Angela Illig\, Gut-Heim-StraÃŸe 94\, NUR Fenster \n6.12. Guud Stubb\, Nils-Wohnen im Quartier\, FriedenstraÃŸe 63\, 15:00 &#8211; 18:00 Uhr \n9.12. StadtteilbÃ¼ro GrÃ¼bentÃ¤lchen\, FriedenstraÃŸe 118\, ab 17:00 Uhr \n10.12 2.Klassen der Grundschule Geschwister-Scholl\, SchreberstraÃŸe 37\, NUR Fenster \n11.12. 4. Klassen der Grundschule Geschwister-Scholl\, SchreberstraÃŸe 37\, NUR Fenster \n12.12. Siedler & Eigenheimer\, SchreberstraÃŸe 1\, ab 18:00 Uhr \n13.12. Monika Dahms\, Fischbacher Weg 36\, ab 18:00 Uhr \n14.12. Fam. Leixner\, Gut-Heim-StraÃŸe 59 a\, ab 17:00 Uhr \n16.12. Kita Mobile\, Asternweg 61\, ab 17:00 Uhr \n18.12. Kita St. Norbert\, MennonitenstraÃŸe 3\, ab 17:00 Uhr \n24.12. Zum Ilse\, Asternweg 20\, NUR Fenster
URL:https://gruebentaelchen.de/termine/adventsfenster-2/2025-12-04/
LOCATION:Rheinland-Pfalz
ATTACH;FMTTYPE=image/jpeg:https://gruebentaelchen.de/wp-content/uploads/2025/11/FC2AA491-18E7-4BBE-84DB-FA7AA8137933.jpeg
END:VEVENT
BEGIN:VEVENT
DTSTART;TZID=Europe/Berlin:20251211T123000
DTEND;TZID=Europe/Berlin:20251211T140000
DTSTAMP:20260421T065119
CREATED:20251120T105002Z
LAST-MODIFIED:20251203T135304Z
UID:10006328-1765456200-1765461600@gruebentaelchen.de
SUMMARY:Gemeindeschwester Plus
DESCRIPTION:Ein Angebot fÃ¼r Ã¤ltere Menschen in der Stadt Kaiserslautern \nAline Neumann ist Ansprechpartnerin fÃ¼r betagte Menschen\, die noch keinen Pflegebedarf oder Pflegegrad haben. \nIhr Angebot ist prÃ¤ventiv ausgerichtet\, das heiÃŸt es wird versucht\, vor Eintritt der PflegebedÃ¼rftigkeit den Menschen MÃ¶glichkeiten aufzuzeigen und Angebote zu vermitteln\, um ihnen den Alltag leichter zu machen. \nDarÃ¼ber hinaus mÃ¶chte sie gemeinsam mit Seniorinnen und Senioren den Rahmen bieten\, im StadtteilbÃ¼ro zusammenzukommen\, um aktuelle WÃ¼nsche\, Anregungen und Probleme aufzugreifen. \nDieses Treffen im StadtteilbÃ¼ro soll den Seniorinnen und Senioren auch als BegegnungsstÃ¤tte dienen\, um mit anderen in Kontakt zu treten und sich auszutauschen. \njeden Donnerstag von 12.30 bis 14.00 Uhr \nStadtteilbÃ¼ro GrÃ¼bentÃ¤lchen\, Friedenstr. 118
URL:https://gruebentaelchen.de/termine/gemeindeschwester-plus/2025-12-11/
LOCATION:StadtteilbÃ¼ro GrÃ¼bentÃ¤lchen\, FriedenstraÃŸe 118\, Kaiserslautern\, Rheinland-Pfalz\, 67657\, Deutschland
CATEGORIES:Beratung
ATTACH;FMTTYPE=image/jpeg:https://gruebentaelchen.de/wp-content/uploads/2025/11/IMG_1386.jpeg
END:VEVENT
BEGIN:VEVENT
DTSTART;TZID=Europe/Berlin:20251211T130000
DTEND;TZID=Europe/Berlin:20251211T140000
DTSTAMP:20260421T065119
CREATED:20230331T193914Z
LAST-MODIFIED:20251203T134920Z
UID:10009068-1765458000-1765461600@gruebentaelchen.de
SUMMARY:MobilitÃ¤tstraining
DESCRIPTION:Zeit fÃ¼r Bewegung â€“ weilâ€™s mir gut tut!\nMobilitÃ¤tstraining im GrÃ¼bentÃ¤lchen\nMachen Sie mit bei Ãœbungen\, die gut fÃ¼r die Gesundheit sind und SpaÃŸ und Freude an der Bewegung vermitteln. Wichtige Muskelgruppen\, die die WirbelsÃ¤ule aufrichten\, werden gekrÃ¤ftigt und die in der Tiefe liegenden Muskeln trainiert. Musik\, die gute Laune macht\, begleitet das Programm. \nJeden donnerstags von 13:00 â€“ 14:00 Uhr\,\nVeranstaltungsraum der Gemeinschaftsunterkunft fÃ¼r ukrainisch GeflÃ¼chtete\, Mennonitenstr. 28 (ehemals Zoar-Alten- und Pflegeheim) \nUnser Angebot ist kostenlos und ganz in Ihrer NÃ¤he. Sie kÃ¶nnen in bequemer Alltagskleidung kommen. Alle Termine kÃ¶nnen unabhÃ¤ngig voneinander und ohne Voranmeldung besucht werden. Und Sie lernen nette Menschen kennenâ€¦ \nDas MobilitÃ¤tstraining wird durchgefÃ¼hrt vonÂ  Jennifer HÃ¶ning\, Physiotherapeutin und Bewegungsmanagerin der Stadt Kaiserslautern der Landesinitiative â€žRheinland-Pfalz â€“ Land in Bewegungâ€œ.
URL:https://gruebentaelchen.de/termine/mobilitaetstraining-2/2025-12-11/
LOCATION:MennonitenstraÃŸe 28
CATEGORIES:Sport
ATTACH;FMTTYPE=image/jpeg:https://gruebentaelchen.de/wp-content/uploads/2023/03/Mobilitaestraining-1.jpg
END:VEVENT
BEGIN:VEVENT
DTSTART;TZID=Europe/Berlin:20251211T150000
DTEND;TZID=Europe/Berlin:20251211T160000
DTSTAMP:20260421T065119
CREATED:20240123T161306Z
LAST-MODIFIED:20251203T135800Z
UID:10004397-1765465200-1765468800@gruebentaelchen.de
SUMMARY:Singkreis
DESCRIPTION:  \nSingen in Gemeinschaft schÃ¼ttet GlÃ¼ckshormone aus\, fÃ¶rdert KreativitÃ¤t und KonzentrationsfÃ¤higkeit. Auch SprachgefÃ¼hl und Wortschatz werden trainiert. \nKommen Sie vorbei und Â lassen Sie uns gemeinsam Volkslieder und Schlager singen!
URL:https://gruebentaelchen.de/termine/singkreis-3-2/2025-12-11/
LOCATION:StadtteilbÃ¼ro GrÃ¼bentÃ¤lchen\, FriedenstraÃŸe 118\, Kaiserslautern\, Rheinland-Pfalz\, 67657\, Deutschland
CATEGORIES:Veranstaltung
ATTACH;FMTTYPE=image/png:https://gruebentaelchen.de/wp-content/uploads/2023/12/2023-11-29-Flyerlang-Stadtteilbuero_Singkreis-1.png
END:VEVENT
BEGIN:VEVENT
DTSTART;TZID=Europe/Berlin:20251211T180000
DTEND;TZID=Europe/Berlin:20251211T190000
DTSTAMP:20260421T065119
CREATED:20251124T122911Z
LAST-MODIFIED:20251203T133048Z
UID:10009601-1765476000-1765479600@gruebentaelchen.de
SUMMARY:Adventsfenster
DESCRIPTION:  \nAuch in diesem Jahr findet im GrÃ¼bentÃ¤lchen das Adventsfenster statt. Vom 4. bis 24. Dezember Ã¶ffnet sich tÃ¤glich an einer anderen Adresse im Stadtteil ein liebevoll gestaltetes Fenster. Die Aktion lÃ¤dt zu abendlichen SpaziergÃ¤ngen im Quartier ein und bietet Gelegenheit fÃ¼r Begegnungen und GesprÃ¤che. \nAn den gekennzeichneten Adressen erwartet die Besucherinnen und Besucher ein gemÃ¼tliches Beisammensein. Teilweise wird ein kleiner Umtrunk angeboten. Wer mÃ¶chte\, kann gerne einen eigenen Trinkbecher mitbringen. \nWir freuen uns auf eine stimmungsvolle Adventszeit und viele schÃ¶ne Begegnungen im GrÃ¼bentÃ¤lchen. \n  \n4.12. Fam. Hanf-Poppitz\, Im GrÃ¼bentÃ¤lchen 9\, ab 18:00 Uhr \n5.12. Fam. MÃ¼ller / Scherf\, Am HeiligenhÃ¤uschen 14\, ab 18:00 Uhr \n6.12. Angela Illig\, Gut-Heim-StraÃŸe 94\, NUR Fenster \n6.12. Guud Stubb\, Nils-Wohnen im Quartier\, FriedenstraÃŸe 63\, 15:00 &#8211; 18:00 Uhr \n9.12. StadtteilbÃ¼ro GrÃ¼bentÃ¤lchen\, FriedenstraÃŸe 118\, ab 17:00 Uhr \n10.12 2.Klassen der Grundschule Geschwister-Scholl\, SchreberstraÃŸe 37\, NUR Fenster \n11.12. 4. Klassen der Grundschule Geschwister-Scholl\, SchreberstraÃŸe 37\, NUR Fenster \n12.12. Siedler & Eigenheimer\, SchreberstraÃŸe 1\, ab 18:00 Uhr \n13.12. Monika Dahms\, Fischbacher Weg 36\, ab 18:00 Uhr \n14.12. Fam. Leixner\, Gut-Heim-StraÃŸe 59 a\, ab 17:00 Uhr \n16.12. Kita Mobile\, Asternweg 61\, ab 17:00 Uhr \n18.12. Kita St. Norbert\, MennonitenstraÃŸe 3\, ab 17:00 Uhr \n24.12. Zum Ilse\, Asternweg 20\, NUR Fenster
URL:https://gruebentaelchen.de/termine/adventsfenster-2/2025-12-11/
LOCATION:Rheinland-Pfalz
ATTACH;FMTTYPE=image/jpeg:https://gruebentaelchen.de/wp-content/uploads/2025/11/FC2AA491-18E7-4BBE-84DB-FA7AA8137933.jpeg
END:VEVENT
END:VCALENDAR