BEGIN:VCALENDAR
VERSION:2.0
PRODID:-//StadtteilbÃ¼ro GrÃ¼bentÃ¤lchen - ECPv6.15.20//NONSGML v1.0//EN
CALSCALE:GREGORIAN
METHOD:PUBLISH
X-ORIGINAL-URL:https://gruebentaelchen.de
X-WR-CALDESC:Veranstaltungen fÃ¼r StadtteilbÃ¼ro GrÃ¼bentÃ¤lchen
REFRESH-INTERVAL;VALUE=DURATION:PT1H
X-Robots-Tag:noindex
X-PUBLISHED-TTL:PT1H
BEGIN:VTIMEZONE
TZID:Europe/Berlin
BEGIN:DAYLIGHT
TZOFFSETFROM:+0100
TZOFFSETTO:+0200
TZNAME:CEST
DTSTART:20240331T010000
END:DAYLIGHT
BEGIN:STANDARD
TZOFFSETFROM:+0200
TZOFFSETTO:+0100
TZNAME:CET
DTSTART:20241027T010000
END:STANDARD
BEGIN:DAYLIGHT
TZOFFSETFROM:+0100
TZOFFSETTO:+0200
TZNAME:CEST
DTSTART:20250330T010000
END:DAYLIGHT
BEGIN:STANDARD
TZOFFSETFROM:+0200
TZOFFSETTO:+0100
TZNAME:CET
DTSTART:20251026T010000
END:STANDARD
BEGIN:DAYLIGHT
TZOFFSETFROM:+0100
TZOFFSETTO:+0200
TZNAME:CEST
DTSTART:20260329T010000
END:DAYLIGHT
BEGIN:STANDARD
TZOFFSETFROM:+0200
TZOFFSETTO:+0100
TZNAME:CET
DTSTART:20261025T010000
END:STANDARD
END:VTIMEZONE
BEGIN:VEVENT
DTSTART;TZID=Europe/Berlin:20251204T180000
DTEND;TZID=Europe/Berlin:20251224T190000
DTSTAMP:20260421T064526
CREATED:20251124T122911Z
LAST-MODIFIED:20251203T133048Z
UID:10007017-1764871200-1766602800@gruebentaelchen.de
SUMMARY:Adventsfenster
DESCRIPTION:  \nAuch in diesem Jahr findet im GrÃ¼bentÃ¤lchen das Adventsfenster statt. Vom 4. bis 24. Dezember Ã¶ffnet sich tÃ¤glich an einer anderen Adresse im Stadtteil ein liebevoll gestaltetes Fenster. Die Aktion lÃ¤dt zu abendlichen SpaziergÃ¤ngen im Quartier ein und bietet Gelegenheit fÃ¼r Begegnungen und GesprÃ¤che. \nAn den gekennzeichneten Adressen erwartet die Besucherinnen und Besucher ein gemÃ¼tliches Beisammensein. Teilweise wird ein kleiner Umtrunk angeboten. Wer mÃ¶chte\, kann gerne einen eigenen Trinkbecher mitbringen. \nWir freuen uns auf eine stimmungsvolle Adventszeit und viele schÃ¶ne Begegnungen im GrÃ¼bentÃ¤lchen. \n  \n4.12. Fam. Hanf-Poppitz\, Im GrÃ¼bentÃ¤lchen 9\, ab 18:00 Uhr \n5.12. Fam. MÃ¼ller / Scherf\, Am HeiligenhÃ¤uschen 14\, ab 18:00 Uhr \n6.12. Angela Illig\, Gut-Heim-StraÃŸe 94\, NUR Fenster \n6.12. Guud Stubb\, Nils-Wohnen im Quartier\, FriedenstraÃŸe 63\, 15:00 &#8211; 18:00 Uhr \n9.12. StadtteilbÃ¼ro GrÃ¼bentÃ¤lchen\, FriedenstraÃŸe 118\, ab 17:00 Uhr \n10.12 2.Klassen der Grundschule Geschwister-Scholl\, SchreberstraÃŸe 37\, NUR Fenster \n11.12. 4. Klassen der Grundschule Geschwister-Scholl\, SchreberstraÃŸe 37\, NUR Fenster \n12.12. Siedler & Eigenheimer\, SchreberstraÃŸe 1\, ab 18:00 Uhr \n13.12. Monika Dahms\, Fischbacher Weg 36\, ab 18:00 Uhr \n14.12. Fam. Leixner\, Gut-Heim-StraÃŸe 59 a\, ab 17:00 Uhr \n16.12. Kita Mobile\, Asternweg 61\, ab 17:00 Uhr \n18.12. Kita St. Norbert\, MennonitenstraÃŸe 3\, ab 17:00 Uhr \n24.12. Zum Ilse\, Asternweg 20\, NUR Fenster
URL:https://gruebentaelchen.de/termine/adventsfenster-2/2025-12-04/
LOCATION:Rheinland-Pfalz
ATTACH;FMTTYPE=image/jpeg:https://gruebentaelchen.de/wp-content/uploads/2025/11/FC2AA491-18E7-4BBE-84DB-FA7AA8137933.jpeg
END:VEVENT
BEGIN:VEVENT
DTSTART;TZID=Europe/Berlin:20251216T110000
DTEND;TZID=Europe/Berlin:20251216T120000
DTSTAMP:20260421T064526
CREATED:20251120T104201Z
LAST-MODIFIED:20251203T140240Z
UID:10006046-1765882800-1765886400@gruebentaelchen.de
SUMMARY:Gemeinsam bewegen an der frischen Luft
DESCRIPTION:Gemeinsamer Spaziergang &#8211; gerne auch mit Walking-StÃ¶cken. Mit Dehn- und GleichgewichtsÃ¼bungen\, je nach Interesse und Fitness der Teilnehmenden. \nAlle sind willkommen! \nDie Teilnahme ist kostenfrei! \nKeine Anmeldung notwendig. Einstieg jederzeit mÃ¶glich. \nTermine: jeden Dienstag von 11.00 bis 12.00 Uhr \nOrt: Volkspark Kaiserslautern |Treffpunkt an der Konzertmuschel \n  \nSie haben Fragen?\nMelden Sie sich gerne im StadtteilbÃ¼ro GrÃ¼bentÃ¤lchen unter 0631 680 316 90.
URL:https://gruebentaelchen.de/termine/gemeinsam-bewegen-an-der-frischen-luft/2025-12-16/
LOCATION:Volkspark\, EntersweilerstraÃŸe\, Kaiserslautern
ATTACH;FMTTYPE=image/jpeg:https://gruebentaelchen.de/wp-content/uploads/2025/11/IMG_1419.jpeg
END:VEVENT
BEGIN:VEVENT
DTSTART;TZID=Europe/Berlin:20251216T170000
DTEND;TZID=Europe/Berlin:20251216T190000
DTSTAMP:20260421T064526
CREATED:20251124T122911Z
LAST-MODIFIED:20251203T133048Z
UID:10008860-1765904400-1765911600@gruebentaelchen.de
SUMMARY:Adventsfenster
DESCRIPTION:  \nAuch in diesem Jahr findet im GrÃ¼bentÃ¤lchen das Adventsfenster statt. Vom 4. bis 24. Dezember Ã¶ffnet sich tÃ¤glich an einer anderen Adresse im Stadtteil ein liebevoll gestaltetes Fenster. Die Aktion lÃ¤dt zu abendlichen SpaziergÃ¤ngen im Quartier ein und bietet Gelegenheit fÃ¼r Begegnungen und GesprÃ¤che. \nAn den gekennzeichneten Adressen erwartet die Besucherinnen und Besucher ein gemÃ¼tliches Beisammensein. Teilweise wird ein kleiner Umtrunk angeboten. Wer mÃ¶chte\, kann gerne einen eigenen Trinkbecher mitbringen. \nWir freuen uns auf eine stimmungsvolle Adventszeit und viele schÃ¶ne Begegnungen im GrÃ¼bentÃ¤lchen. \n  \n4.12. Fam. Hanf-Poppitz\, Im GrÃ¼bentÃ¤lchen 9\, ab 18:00 Uhr \n5.12. Fam. MÃ¼ller / Scherf\, Am HeiligenhÃ¤uschen 14\, ab 18:00 Uhr \n6.12. Angela Illig\, Gut-Heim-StraÃŸe 94\, NUR Fenster \n6.12. Guud Stubb\, Nils-Wohnen im Quartier\, FriedenstraÃŸe 63\, 15:00 &#8211; 18:00 Uhr \n9.12. StadtteilbÃ¼ro GrÃ¼bentÃ¤lchen\, FriedenstraÃŸe 118\, ab 17:00 Uhr \n10.12 2.Klassen der Grundschule Geschwister-Scholl\, SchreberstraÃŸe 37\, NUR Fenster \n11.12. 4. Klassen der Grundschule Geschwister-Scholl\, SchreberstraÃŸe 37\, NUR Fenster \n12.12. Siedler & Eigenheimer\, SchreberstraÃŸe 1\, ab 18:00 Uhr \n13.12. Monika Dahms\, Fischbacher Weg 36\, ab 18:00 Uhr \n14.12. Fam. Leixner\, Gut-Heim-StraÃŸe 59 a\, ab 17:00 Uhr \n16.12. Kita Mobile\, Asternweg 61\, ab 17:00 Uhr \n18.12. Kita St. Norbert\, MennonitenstraÃŸe 3\, ab 17:00 Uhr \n24.12. Zum Ilse\, Asternweg 20\, NUR Fenster
URL:https://gruebentaelchen.de/termine/adventsfenster-2/2025-12-16/
LOCATION:Rheinland-Pfalz
ATTACH;FMTTYPE=image/jpeg:https://gruebentaelchen.de/wp-content/uploads/2025/11/FC2AA491-18E7-4BBE-84DB-FA7AA8137933.jpeg
END:VEVENT
END:VCALENDAR