BEGIN:VCALENDAR
VERSION:2.0
PRODID:-//Stadtteilbüro Grübentälchen - ECPv6.15.20//NONSGML v1.0//EN
CALSCALE:GREGORIAN
METHOD:PUBLISH
X-ORIGINAL-URL:https://gruebentaelchen.de
X-WR-CALDESC:Veranstaltungen für Stadtteilbüro Grübentälchen
REFRESH-INTERVAL;VALUE=DURATION:PT1H
X-Robots-Tag:noindex
X-PUBLISHED-TTL:PT1H
BEGIN:VTIMEZONE
TZID:Europe/Berlin
BEGIN:DAYLIGHT
TZOFFSETFROM:+0100
TZOFFSETTO:+0200
TZNAME:CEST
DTSTART:20240331T010000
END:DAYLIGHT
BEGIN:STANDARD
TZOFFSETFROM:+0200
TZOFFSETTO:+0100
TZNAME:CET
DTSTART:20241027T010000
END:STANDARD
BEGIN:DAYLIGHT
TZOFFSETFROM:+0100
TZOFFSETTO:+0200
TZNAME:CEST
DTSTART:20250330T010000
END:DAYLIGHT
BEGIN:STANDARD
TZOFFSETFROM:+0200
TZOFFSETTO:+0100
TZNAME:CET
DTSTART:20251026T010000
END:STANDARD
BEGIN:DAYLIGHT
TZOFFSETFROM:+0100
TZOFFSETTO:+0200
TZNAME:CEST
DTSTART:20260329T010000
END:DAYLIGHT
BEGIN:STANDARD
TZOFFSETFROM:+0200
TZOFFSETTO:+0100
TZNAME:CET
DTSTART:20261025T010000
END:STANDARD
END:VTIMEZONE
BEGIN:VEVENT
DTSTART;TZID=Europe/Berlin:20251204T180000
DTEND;TZID=Europe/Berlin:20251224T190000
DTSTAMP:20260421T064505
CREATED:20251124T122911Z
LAST-MODIFIED:20251203T133048Z
UID:10007017-1764871200-1766602800@gruebentaelchen.de
SUMMARY:Adventsfenster
DESCRIPTION: \nAuch in diesem Jahr findet im Grübentälchen das Adventsfenster statt. Vom 4. bis 24. Dezember öffnet sich täglich an einer anderen Adresse im Stadtteil ein liebevoll gestaltetes Fenster. Die Aktion lädt zu abendlichen Spaziergängen im Quartier ein und bietet Gelegenheit für Begegnungen und Gespräche. \nAn den gekennzeichneten Adressen erwartet die Besucherinnen und Besucher ein gemütliches Beisammensein. Teilweise wird ein kleiner Umtrunk angeboten. Wer möchte\, kann gerne einen eigenen Trinkbecher mitbringen. \nWir freuen uns auf eine stimmungsvolle Adventszeit und viele schöne Begegnungen im Grübentälchen. \n \n4.12. Fam. Hanf-Poppitz\, Im Grübentälchen 9\, ab 18:00 Uhr \n5.12. Fam. Müller / Scherf\, Am Heiligenhäuschen 14\, ab 18:00 Uhr \n6.12. Angela Illig\, Gut-Heim-Straße 94\, NUR Fenster \n6.12. Guud Stubb\, Nils-Wohnen im Quartier\, Friedenstraße 63\, 15:00 &#8211; 18:00 Uhr \n9.12. Stadtteilbüro Grübentälchen\, Friedenstraße 118\, ab 17:00 Uhr \n10.12 2.Klassen der Grundschule Geschwister-Scholl\, Schreberstraße 37\, NUR Fenster \n11.12. 4. Klassen der Grundschule Geschwister-Scholl\, Schreberstraße 37\, NUR Fenster \n12.12. Siedler & Eigenheimer\, Schreberstraße 1\, ab 18:00 Uhr \n13.12. Monika Dahms\, Fischbacher Weg 36\, ab 18:00 Uhr \n14.12. Fam. Leixner\, Gut-Heim-Straße 59 a\, ab 17:00 Uhr \n16.12. Kita Mobile\, Asternweg 61\, ab 17:00 Uhr \n18.12. Kita St. Norbert\, Mennonitenstraße 3\, ab 17:00 Uhr \n24.12. Zum Ilse\, Asternweg 20\, NUR Fenster
URL:https://gruebentaelchen.de/termine/adventsfenster-2/2025-12-04/
LOCATION:Rheinland-Pfalz
ATTACH;FMTTYPE=image/jpeg:https://gruebentaelchen.de/wp-content/uploads/2025/11/FC2AA491-18E7-4BBE-84DB-FA7AA8137933.jpeg
END:VEVENT
BEGIN:VEVENT
DTSTART;TZID=Europe/Berlin:20251217T140000
DTEND;TZID=Europe/Berlin:20251217T160000
DTSTAMP:20260421T064505
CREATED:20240102T003714Z
LAST-MODIFIED:20251124T143038Z
UID:10004217-1765980000-1765987200@gruebentaelchen.de
SUMMARY:Übersetzungshilfe Arabisch-Deutsch
DESCRIPTION:Das Stadtteilbüro Grübentälchen bietet kostenlose Übersetzungshilfe für Arabisch – Deutsch an. \nJeden Mittwoch ist von 14:00 – 16:00 Uhr ein Dolmetscher für Arabisch vor Ort\, der kostenlos bei der Übersetzung von Unterlagen hilft. Eine Beglaubigung der Unterlagen ist nicht möglich. Individuelle Termine können auch nach Bedarf ausgemacht werden.
URL:https://gruebentaelchen.de/termine/uebersetzungshilfe-arabisch-deutsch/2025-12-17/
LOCATION:Stadtteilbüro Grübentälchen\, Friedenstraße 118\, Kaiserslautern\, Rheinland-Pfalz\, 67657\, Deutschland
CATEGORIES:Beratung
END:VEVENT
BEGIN:VEVENT
DTSTART;TZID=Europe/Berlin:20251217T140000
DTEND;TZID=Europe/Berlin:20251217T160000
DTSTAMP:20260421T064505
CREATED:20251126T144129Z
LAST-MODIFIED:20251126T144302Z
UID:10009330-1765980000-1765987200@gruebentaelchen.de
SUMMARY:Kostenloses Übersetzungsangebot „Urdu – Deutsch“
DESCRIPTION: \nDas Stadtteilbüro Grübentälchen bietet ab sofort eine kostenlose Übersetzungshilfe für Urdu – Deutsch an. \nJeden Mittwoch von 14-16 Uhr. \nWeitere Termine können individuell ausgemacht werden. \nEine Beglaubigung der Unterlagen ist nicht möglich. \n \nKontakt: \nStadtteilbüro Grübentälchen \nFriedenstraße 118\, 67657 Kaiserslautern \nTel. 0631 – 680 316 90 \n \nمفت ترجمہ سروس “اردو &#8211; جرمن” اسٹاڈٹ ٹائل بیورو گروبن ٹیلیشن میں \n \nاسٹاڈٹ ٹائل بیورو گروبن ٹیلیشن اب اردو &#8211; جرمن میں مفت ترجمے کی مدد دیتا ہے۔ \nوقت ضرورت کے مطابق طے کیا جا سکتا ہے۔ \nدستاویزات کی تصدیق نہیں کی جا سکتی۔ \n \nرابطہ: \nاسٹاڈٹ ٹائل بیورو گروبن ٹیلیشن \nفریڈن شٹراس 118، 67657 کائزرز لاؤٹرن \nٹیلی فون: 0631 – 680 316 90
URL:https://gruebentaelchen.de/termine/kostenloses-uebersetzungsangebot-urdu-deutsch/2025-12-17/
LOCATION:Rheinland-Pfalz
ATTACH;FMTTYPE=image/jpeg:https://gruebentaelchen.de/wp-content/uploads/2025/11/FullSizeRender-scaled.jpeg
END:VEVENT
END:VCALENDAR