BEGIN:VCALENDAR
VERSION:2.0
PRODID:-//Stadtteilbüro Grübentälchen - ECPv6.15.20//NONSGML v1.0//EN
CALSCALE:GREGORIAN
METHOD:PUBLISH
X-WR-CALNAME:Stadtteilbüro Grübentälchen
X-ORIGINAL-URL:https://gruebentaelchen.de
X-WR-CALDESC:Veranstaltungen für Stadtteilbüro Grübentälchen
REFRESH-INTERVAL;VALUE=DURATION:PT1H
X-Robots-Tag:noindex
X-PUBLISHED-TTL:PT1H
BEGIN:VTIMEZONE
TZID:Europe/Berlin
BEGIN:DAYLIGHT
TZOFFSETFROM:+0100
TZOFFSETTO:+0200
TZNAME:CEST
DTSTART:20250330T010000
END:DAYLIGHT
BEGIN:STANDARD
TZOFFSETFROM:+0200
TZOFFSETTO:+0100
TZNAME:CET
DTSTART:20251026T010000
END:STANDARD
BEGIN:DAYLIGHT
TZOFFSETFROM:+0100
TZOFFSETTO:+0200
TZNAME:CEST
DTSTART:20260329T010000
END:DAYLIGHT
BEGIN:STANDARD
TZOFFSETFROM:+0200
TZOFFSETTO:+0100
TZNAME:CET
DTSTART:20261025T010000
END:STANDARD
BEGIN:DAYLIGHT
TZOFFSETFROM:+0100
TZOFFSETTO:+0200
TZNAME:CEST
DTSTART:20270328T010000
END:DAYLIGHT
BEGIN:STANDARD
TZOFFSETFROM:+0200
TZOFFSETTO:+0100
TZNAME:CET
DTSTART:20271031T010000
END:STANDARD
END:VTIMEZONE
BEGIN:VEVENT
DTSTART;TZID=Europe/Berlin:20260107T110000
DTEND;TZID=Europe/Berlin:20260107T123000
DTSTAMP:20260421T111135
CREATED:20230326T204725Z
LAST-MODIFIED:20260205T195711Z
UID:10003377-1767783600-1767789000@gruebentaelchen.de
SUMMARY:Sprechstunde des Betreuungsvereins DRK
DESCRIPTION:Jeden 1. Mittwoch im Monat von 11:00 – 12:30 Uhr \nkostenloses Beratungsangebot des Betreuungsvereins DRK Kaiserslautern \n \nBetreuungsvereine\nIn der  Stadt Kaiserslautern finden Sie 4 Betreuungsvereine. Diese sind bei der  Arbeiterwohlfahrt\, der Lebenshilfe\, dem Sozialdienst katholischer Männer und Frauen und  dem Deutschen Roten Kreuz zu finden. \nDie  Betreuungsvereine informieren und beraten Sie kostenlos zu den Themen Vorsorgevollmacht und Patientenverfügung.  Weiterhin sind sie zuständig für die Gewinnung  ehrenamtlicher Betreuer*innen. Diese werden im Vorfeld über ihre Arbeit aufgeklärt\, geschult und erhalten während ihrer Tätigkeit Unterstützung und Hilfestellung bei allen Fragen rund um die gesetzliche Betreuung. Regelmäßig werden von den Betreuungsvereinen Treffen zum Austausch und zur Fortbildung für ehrenamtlichen Betreuer*innen angeboten. \nSo finden Sie die Betreuungsvereine: \nAWO   \nSchumannstraße 1\, Kaiserslautern\nTelefon 0631 – 89 23 119 \nDRK\nBarbarossastraße 27\, Kaiserslautern\nTelefon 0631 – 800 93 184 \nLebenshilfe\nPariserstraße 18. Kaiserslautern\nTelefon 0631 – 414 70 789 \nSKFM\nKlosterstr. 6\, Kaiserslautern\nTelefon 0631 – 361 25 310
URL:https://gruebentaelchen.de/termine/sprechstunde-der-betreuungsvereine/2026-01-07/
LOCATION:Rheinland-Pfalz
CATEGORIES:Beratung
ATTACH;FMTTYPE=image/jpeg:https://gruebentaelchen.de/wp-content/uploads/2023/02/Betreeungsvereine-Kaiserslautern.jpg
END:VEVENT
BEGIN:VEVENT
DTSTART;TZID=Europe/Berlin:20260107T140000
DTEND;TZID=Europe/Berlin:20260107T160000
DTSTAMP:20260421T111135
CREATED:20240102T003714Z
LAST-MODIFIED:20251124T143038Z
UID:10004220-1767794400-1767801600@gruebentaelchen.de
SUMMARY:Übersetzungshilfe Arabisch-Deutsch
DESCRIPTION:Das Stadtteilbüro Grübentälchen bietet kostenlose Übersetzungshilfe für Arabisch – Deutsch an. \nJeden Mittwoch ist von 14:00 – 16:00 Uhr ein Dolmetscher für Arabisch vor Ort\, der kostenlos bei der Übersetzung von Unterlagen hilft. Eine Beglaubigung der Unterlagen ist nicht möglich. Individuelle Termine können auch nach Bedarf ausgemacht werden.
URL:https://gruebentaelchen.de/termine/uebersetzungshilfe-arabisch-deutsch/2026-01-07/
LOCATION:Stadtteilbüro Grübentälchen\, Friedenstraße 118\, Kaiserslautern\, Rheinland-Pfalz\, 67657\, Deutschland
CATEGORIES:Beratung
END:VEVENT
BEGIN:VEVENT
DTSTART;TZID=Europe/Berlin:20260107T140000
DTEND;TZID=Europe/Berlin:20260107T160000
DTSTAMP:20260421T111135
CREATED:20251126T144129Z
LAST-MODIFIED:20251126T144302Z
UID:10009331-1767794400-1767801600@gruebentaelchen.de
SUMMARY:Kostenloses Übersetzungsangebot „Urdu – Deutsch“
DESCRIPTION: \nDas Stadtteilbüro Grübentälchen bietet ab sofort eine kostenlose Übersetzungshilfe für Urdu – Deutsch an. \nJeden Mittwoch von 14-16 Uhr. \nWeitere Termine können individuell ausgemacht werden. \nEine Beglaubigung der Unterlagen ist nicht möglich. \n \nKontakt: \nStadtteilbüro Grübentälchen \nFriedenstraße 118\, 67657 Kaiserslautern \nTel. 0631 – 680 316 90 \n \nمفت ترجمہ سروس “اردو &#8211; جرمن” اسٹاڈٹ ٹائل بیورو گروبن ٹیلیشن میں \n \nاسٹاڈٹ ٹائل بیورو گروبن ٹیلیشن اب اردو &#8211; جرمن میں مفت ترجمے کی مدد دیتا ہے۔ \nوقت ضرورت کے مطابق طے کیا جا سکتا ہے۔ \nدستاویزات کی تصدیق نہیں کی جا سکتی۔ \n \nرابطہ: \nاسٹاڈٹ ٹائل بیورو گروبن ٹیلیشن \nفریڈن شٹراس 118، 67657 کائزرز لاؤٹرن \nٹیلی فون: 0631 – 680 316 90
URL:https://gruebentaelchen.de/termine/kostenloses-uebersetzungsangebot-urdu-deutsch/2026-01-07/
LOCATION:Rheinland-Pfalz
ATTACH;FMTTYPE=image/jpeg:https://gruebentaelchen.de/wp-content/uploads/2025/11/FullSizeRender-scaled.jpeg
END:VEVENT
END:VCALENDAR