BEGIN:VCALENDAR
VERSION:2.0
PRODID:-//Stadtteilbüro Grübentälchen - ECPv6.15.20//NONSGML v1.0//EN
CALSCALE:GREGORIAN
METHOD:PUBLISH
X-ORIGINAL-URL:https://gruebentaelchen.de
X-WR-CALDESC:Veranstaltungen für Stadtteilbüro Grübentälchen
REFRESH-INTERVAL;VALUE=DURATION:PT1H
X-Robots-Tag:noindex
X-PUBLISHED-TTL:PT1H
BEGIN:VTIMEZONE
TZID:Europe/Berlin
BEGIN:DAYLIGHT
TZOFFSETFROM:+0100
TZOFFSETTO:+0200
TZNAME:CEST
DTSTART:20250330T010000
END:DAYLIGHT
BEGIN:STANDARD
TZOFFSETFROM:+0200
TZOFFSETTO:+0100
TZNAME:CET
DTSTART:20251026T010000
END:STANDARD
BEGIN:DAYLIGHT
TZOFFSETFROM:+0100
TZOFFSETTO:+0200
TZNAME:CEST
DTSTART:20260329T010000
END:DAYLIGHT
BEGIN:STANDARD
TZOFFSETFROM:+0200
TZOFFSETTO:+0100
TZNAME:CET
DTSTART:20261025T010000
END:STANDARD
BEGIN:DAYLIGHT
TZOFFSETFROM:+0100
TZOFFSETTO:+0200
TZNAME:CEST
DTSTART:20270328T010000
END:DAYLIGHT
BEGIN:STANDARD
TZOFFSETFROM:+0200
TZOFFSETTO:+0100
TZNAME:CET
DTSTART:20271031T010000
END:STANDARD
END:VTIMEZONE
BEGIN:VEVENT
DTSTART;TZID=Europe/Berlin:20260128T140000
DTEND;TZID=Europe/Berlin:20260128T160000
DTSTAMP:20260423T135906
CREATED:20240102T003714Z
LAST-MODIFIED:20251124T143038Z
UID:10004223-1769608800-1769616000@gruebentaelchen.de
SUMMARY:Übersetzungshilfe Arabisch-Deutsch
DESCRIPTION:Das Stadtteilbüro Grübentälchen bietet kostenlose Übersetzungshilfe für Arabisch – Deutsch an. \nJeden Mittwoch ist von 14:00 – 16:00 Uhr ein Dolmetscher für Arabisch vor Ort\, der kostenlos bei der Übersetzung von Unterlagen hilft. Eine Beglaubigung der Unterlagen ist nicht möglich. Individuelle Termine können auch nach Bedarf ausgemacht werden.
URL:https://gruebentaelchen.de/termine/uebersetzungshilfe-arabisch-deutsch/2026-01-28/
LOCATION:Stadtteilbüro Grübentälchen\, Friedenstraße 118\, Kaiserslautern\, Rheinland-Pfalz\, 67657\, Deutschland
CATEGORIES:Beratung
END:VEVENT
BEGIN:VEVENT
DTSTART;TZID=Europe/Berlin:20260128T140000
DTEND;TZID=Europe/Berlin:20260128T160000
DTSTAMP:20260423T135906
CREATED:20251126T144129Z
LAST-MODIFIED:20251126T144302Z
UID:10009334-1769608800-1769616000@gruebentaelchen.de
SUMMARY:Kostenloses Übersetzungsangebot „Urdu – Deutsch“
DESCRIPTION: \nDas Stadtteilbüro Grübentälchen bietet ab sofort eine kostenlose Übersetzungshilfe für Urdu – Deutsch an. \nJeden Mittwoch von 14-16 Uhr. \nWeitere Termine können individuell ausgemacht werden. \nEine Beglaubigung der Unterlagen ist nicht möglich. \n \nKontakt: \nStadtteilbüro Grübentälchen \nFriedenstraße 118\, 67657 Kaiserslautern \nTel. 0631 – 680 316 90 \n \nمفت ترجمہ سروس “اردو &#8211; جرمن” اسٹاڈٹ ٹائل بیورو گروبن ٹیلیشن میں \n \nاسٹاڈٹ ٹائل بیورو گروبن ٹیلیشن اب اردو &#8211; جرمن میں مفت ترجمے کی مدد دیتا ہے۔ \nوقت ضرورت کے مطابق طے کیا جا سکتا ہے۔ \nدستاویزات کی تصدیق نہیں کی جا سکتی۔ \n \nرابطہ: \nاسٹاڈٹ ٹائل بیورو گروبن ٹیلیشن \nفریڈن شٹراس 118، 67657 کائزرز لاؤٹرن \nٹیلی فون: 0631 – 680 316 90
URL:https://gruebentaelchen.de/termine/kostenloses-uebersetzungsangebot-urdu-deutsch/2026-01-28/
LOCATION:Rheinland-Pfalz
ATTACH;FMTTYPE=image/jpeg:https://gruebentaelchen.de/wp-content/uploads/2025/11/FullSizeRender-scaled.jpeg
END:VEVENT
END:VCALENDAR