BEGIN:VCALENDAR
VERSION:2.0
PRODID:-//Stadtteilbüro Grübentälchen - ECPv6.15.20//NONSGML v1.0//EN
CALSCALE:GREGORIAN
METHOD:PUBLISH
X-ORIGINAL-URL:https://gruebentaelchen.de
X-WR-CALDESC:Veranstaltungen für Stadtteilbüro Grübentälchen
REFRESH-INTERVAL;VALUE=DURATION:PT1H
X-Robots-Tag:noindex
X-PUBLISHED-TTL:PT1H
BEGIN:VTIMEZONE
TZID:Europe/Berlin
BEGIN:DAYLIGHT
TZOFFSETFROM:+0100
TZOFFSETTO:+0200
TZNAME:CEST
DTSTART:20220327T010000
END:DAYLIGHT
BEGIN:STANDARD
TZOFFSETFROM:+0200
TZOFFSETTO:+0100
TZNAME:CET
DTSTART:20221030T010000
END:STANDARD
BEGIN:DAYLIGHT
TZOFFSETFROM:+0100
TZOFFSETTO:+0200
TZNAME:CEST
DTSTART:20230326T010000
END:DAYLIGHT
BEGIN:STANDARD
TZOFFSETFROM:+0200
TZOFFSETTO:+0100
TZNAME:CET
DTSTART:20231029T010000
END:STANDARD
BEGIN:DAYLIGHT
TZOFFSETFROM:+0100
TZOFFSETTO:+0200
TZNAME:CEST
DTSTART:20240331T010000
END:DAYLIGHT
BEGIN:STANDARD
TZOFFSETFROM:+0200
TZOFFSETTO:+0100
TZNAME:CET
DTSTART:20241027T010000
END:STANDARD
END:VTIMEZONE
BEGIN:VEVENT
DTSTART;TZID=Europe/Berlin:20230316T130000
DTEND;TZID=Europe/Berlin:20230316T143000
DTSTAMP:20260424T184602
CREATED:20230315T115238Z
LAST-MODIFIED:20230327T124401Z
UID:10002296-1678971600-1678977000@gruebentaelchen.de
SUMMARY:Sprechstunde der Gemeindeschwester Plus
DESCRIPTION:Gemeindeschwester plus – Angebot für ältere Menschen in der Stadt Kaiserslautern\nDie Gemeindeschwester plus unterstützt und hört zu. Sie möchten solange es geht zu Hause wohnen\, aber der Alltag ist manchmal beschwerlich? Dann wenden Sie sich vertrauensvoll an die Gemeindeschwester plus. Sie hat ein offenes Ohr für Sie und kommt auf Wunsch zu Ihnen nach Hause. \nKontakt:\nTelefon 0631 / 365 40 87\nE-Mail: nicole.beitelstein@kaiserslautern.de \nSprechstunde im Stadtteilbüro \njeden Donnerstag von 13:00-14:30 Uhr \nLiebe Seniorinnen und Senioren\, ab sofort findet wieder regelmäßig meine Sprechstunde statt. Sie treffen mich jeden Donnerstag von 13:00-14:30 Uhr im Stadtteilbüro an. Einmal im Monat wird die Sprechstunde von meiner Kollegin Frau Roscher\, von der Seniorenberatung der Stadtverwaltung übernommen. Wir würden uns sehr freuen\, wenn Sie unser kostenfreies Beratungsangebot wahrnehmen. Bei Fragen dürfen Sie uns gerne telefonisch kontaktieren.
URL:https://gruebentaelchen.de/termine/sprechstunde-der-gemeindeschwester-plus-46/2023-03-16/
LOCATION:Stadtteilbüro Grübentälchen\, Friedenstraße 118\, Kaiserslautern\, Rheinland-Pfalz\, 67657\, Deutschland
CATEGORIES:Sprechstunde
ATTACH;FMTTYPE=image/jpeg:https://gruebentaelchen.de/wp-content/uploads/2023/02/Gemeindeschwester-plus.jpg
END:VEVENT
BEGIN:VEVENT
DTSTART;TZID=Europe/Berlin:20230323T130000
DTEND;TZID=Europe/Berlin:20230323T143000
DTSTAMP:20260424T184602
CREATED:20230315T115238Z
LAST-MODIFIED:20230327T124401Z
UID:10002566-1679576400-1679581800@gruebentaelchen.de
SUMMARY:Sprechstunde der Gemeindeschwester Plus
DESCRIPTION:Gemeindeschwester plus – Angebot für ältere Menschen in der Stadt Kaiserslautern\nDie Gemeindeschwester plus unterstützt und hört zu. Sie möchten solange es geht zu Hause wohnen\, aber der Alltag ist manchmal beschwerlich? Dann wenden Sie sich vertrauensvoll an die Gemeindeschwester plus. Sie hat ein offenes Ohr für Sie und kommt auf Wunsch zu Ihnen nach Hause. \nKontakt:\nTelefon 0631 / 365 40 87\nE-Mail: nicole.beitelstein@kaiserslautern.de \nSprechstunde im Stadtteilbüro \njeden Donnerstag von 13:00-14:30 Uhr \nLiebe Seniorinnen und Senioren\, ab sofort findet wieder regelmäßig meine Sprechstunde statt. Sie treffen mich jeden Donnerstag von 13:00-14:30 Uhr im Stadtteilbüro an. Einmal im Monat wird die Sprechstunde von meiner Kollegin Frau Roscher\, von der Seniorenberatung der Stadtverwaltung übernommen. Wir würden uns sehr freuen\, wenn Sie unser kostenfreies Beratungsangebot wahrnehmen. Bei Fragen dürfen Sie uns gerne telefonisch kontaktieren.
URL:https://gruebentaelchen.de/termine/sprechstunde-der-gemeindeschwester-plus-46/2023-03-23/
LOCATION:Stadtteilbüro Grübentälchen\, Friedenstraße 118\, Kaiserslautern\, Rheinland-Pfalz\, 67657\, Deutschland
CATEGORIES:Sprechstunde
ATTACH;FMTTYPE=image/jpeg:https://gruebentaelchen.de/wp-content/uploads/2023/02/Gemeindeschwester-plus.jpg
END:VEVENT
BEGIN:VEVENT
DTSTART;TZID=Europe/Berlin:20230330T130000
DTEND;TZID=Europe/Berlin:20230330T143000
DTSTAMP:20260424T184602
CREATED:20230315T115238Z
LAST-MODIFIED:20230327T124401Z
UID:10002567-1680181200-1680186600@gruebentaelchen.de
SUMMARY:Sprechstunde der Gemeindeschwester Plus
DESCRIPTION:Gemeindeschwester plus – Angebot für ältere Menschen in der Stadt Kaiserslautern\nDie Gemeindeschwester plus unterstützt und hört zu. Sie möchten solange es geht zu Hause wohnen\, aber der Alltag ist manchmal beschwerlich? Dann wenden Sie sich vertrauensvoll an die Gemeindeschwester plus. Sie hat ein offenes Ohr für Sie und kommt auf Wunsch zu Ihnen nach Hause. \nKontakt:\nTelefon 0631 / 365 40 87\nE-Mail: nicole.beitelstein@kaiserslautern.de \nSprechstunde im Stadtteilbüro \njeden Donnerstag von 13:00-14:30 Uhr \nLiebe Seniorinnen und Senioren\, ab sofort findet wieder regelmäßig meine Sprechstunde statt. Sie treffen mich jeden Donnerstag von 13:00-14:30 Uhr im Stadtteilbüro an. Einmal im Monat wird die Sprechstunde von meiner Kollegin Frau Roscher\, von der Seniorenberatung der Stadtverwaltung übernommen. Wir würden uns sehr freuen\, wenn Sie unser kostenfreies Beratungsangebot wahrnehmen. Bei Fragen dürfen Sie uns gerne telefonisch kontaktieren.
URL:https://gruebentaelchen.de/termine/sprechstunde-der-gemeindeschwester-plus-46/2023-03-30/
LOCATION:Stadtteilbüro Grübentälchen\, Friedenstraße 118\, Kaiserslautern\, Rheinland-Pfalz\, 67657\, Deutschland
CATEGORIES:Sprechstunde
ATTACH;FMTTYPE=image/jpeg:https://gruebentaelchen.de/wp-content/uploads/2023/02/Gemeindeschwester-plus.jpg
END:VEVENT
BEGIN:VEVENT
DTSTART;TZID=Europe/Berlin:20230331T160000
DTEND;TZID=Europe/Berlin:20230331T180000
DTSTAMP:20260424T184602
CREATED:20230326T203407Z
LAST-MODIFIED:20231026T151928Z
UID:10002582-1680278400-1680285600@gruebentaelchen.de
SUMMARY:PlauderKaffee mit Jakkolo
DESCRIPTION:Jakkolo im Grübentälchen\nJeden letzten Freitag im Monat von 16:00 – 18:00 Uhr\nkönnen Sie im Rahmen unseres PlauderKaffees Jakkolo oder andere Spiele spielen. \nBeim Jakkolo müssen 30 Holzscheiben direkt oder indirekt in vier Boxen\, die mit Punktzeichen gekennzeichnet sind\, gespielt werden. \nAb ca. 9 Jahren können alle mit gleichen Chancen spielen\, egal ob Frau oder Mann\, Kinder oder Erwachsener\, Jung oder Alt\, Menschen mit oder ohne Handicap. Es kann im Stehen oder Sitzen gespielt werden. \nMachen Sie mit! Unser Team freut sich auf Ihr Kommen in die Begegnungsstätte der Siedler- und Eigenheimer „Im Grübentälchen“ e. V\, Schreberstraße 1. \nKontakt unter 0631 – 680 316 90
URL:https://gruebentaelchen.de/termine/plauderkaffee-mit-jakkolo/2023-03-31/
LOCATION:Begegnungsstätte der Siedler- und Eigenheimer &#8222;Im Grübentälchen&#8220; e.V.\, Schreberstraße 1\, Kaiserslautern\, Rheinland-Pfalz\, 67657
CATEGORIES:Veranstaltung
ATTACH;FMTTYPE=image/jpeg:https://gruebentaelchen.de/wp-content/uploads/2023/03/Jakkolo.jpg
END:VEVENT
END:VCALENDAR