BEGIN:VCALENDAR
VERSION:2.0
PRODID:-//StadtteilbÃ¼ro GrÃ¼bentÃ¤lchen - ECPv6.15.20//NONSGML v1.0//EN
CALSCALE:GREGORIAN
METHOD:PUBLISH
X-ORIGINAL-URL:https://gruebentaelchen.de
X-WR-CALDESC:Veranstaltungen fÃ¼r StadtteilbÃ¼ro GrÃ¼bentÃ¤lchen
REFRESH-INTERVAL;VALUE=DURATION:PT1H
X-Robots-Tag:noindex
X-PUBLISHED-TTL:PT1H
BEGIN:VTIMEZONE
TZID:Europe/Berlin
BEGIN:DAYLIGHT
TZOFFSETFROM:+0100
TZOFFSETTO:+0200
TZNAME:CEST
DTSTART:20220327T010000
END:DAYLIGHT
BEGIN:STANDARD
TZOFFSETFROM:+0200
TZOFFSETTO:+0100
TZNAME:CET
DTSTART:20221030T010000
END:STANDARD
BEGIN:DAYLIGHT
TZOFFSETFROM:+0100
TZOFFSETTO:+0200
TZNAME:CEST
DTSTART:20230326T010000
END:DAYLIGHT
BEGIN:STANDARD
TZOFFSETFROM:+0200
TZOFFSETTO:+0100
TZNAME:CET
DTSTART:20231029T010000
END:STANDARD
BEGIN:DAYLIGHT
TZOFFSETFROM:+0100
TZOFFSETTO:+0200
TZNAME:CEST
DTSTART:20240331T010000
END:DAYLIGHT
BEGIN:STANDARD
TZOFFSETFROM:+0200
TZOFFSETTO:+0100
TZNAME:CET
DTSTART:20241027T010000
END:STANDARD
END:VTIMEZONE
BEGIN:VEVENT
DTSTART;TZID=Europe/Berlin:20230602T133000
DTEND;TZID=Europe/Berlin:20230602T153000
DTSTAMP:20260424T115323
CREATED:20230329T201516Z
LAST-MODIFIED:20231105T202519Z
UID:10002803-1685712600-1685719800@gruebentaelchen.de
SUMMARY:Migrationsberatung durch die Diakonie
DESCRIPTION:Migrationsberatung\nFreitagsÂ von 13:30 â€“ 15:30 Uhr \nHerr Breier bietet jeweils freitags in der Zeit vom 13:30 bis 15:30 Uhr GesprÃ¤chs- und Beratungszeiten fÃ¼r GeflÃ¼chtete und BÃ¼rger:innen aus dem Stadtteil in den RÃ¤umlichkeiten des StadtteilbÃ¼ros (FriedenstraÃŸe 118) an. \nNeben diesen PrÃ¤senzzeiten kÃ¶nnen Sie auch Termine fÃ¼r GesprÃ¤che in seinem BÃ¼ro in dem Haus der Diakonie (Pirmasenser StraÃŸe 82 neben dem Altenzentrum â€žDiakonissenhaus am Stadtparkâ€œ) vereinbaren. \nZwecks Terminvereinbarung setzen Sie sich bitte mit Herrn Breier telefonisch oder per MailÂ  in Verbindung:\nMobil: 0176 â€“ 11 66 40 74\nMail:Â andreasphilipp.breier@diakonie-pfalz.de
URL:https://gruebentaelchen.de/termine/migrationsberatung-durch-die-diakonie-2/2023-06-02/
LOCATION:StadtteilbÃ¼ro GrÃ¼bentÃ¤lchen\, FriedenstraÃŸe 118\, Kaiserslautern\, Rheinland-Pfalz\, 67657\, Deutschland
CATEGORIES:Sprechstunde
ATTACH;FMTTYPE=image/jpeg:https://gruebentaelchen.de/wp-content/uploads/2023/03/Andreas-Philipp-Breier.jpg
END:VEVENT
BEGIN:VEVENT
DTSTART;TZID=Europe/Berlin:20230604T160000
DTEND;TZID=Europe/Berlin:20230604T190000
DTSTAMP:20260424T115323
CREATED:20230522T120839Z
LAST-MODIFIED:20230522T123829Z
UID:10002854-1685894400-1685905200@gruebentaelchen.de
SUMMARY:Ein Mann seiner Klasse | on tour
DESCRIPTION:Ein Mann seiner Klasse.\nStÃ¼ck nach dem Roman von Christian Baron \nUngeschÃ¶nt erzÃ¤hlt Christian Baron in seinem autobiografischen Roman von 2020\, was es heiÃŸt\, in Deutschland arm zu sein. Was es heiÃŸt\, wenn der alkoholkranke Vater schlÃ¤gt und die depressive Mutter stirbt\, viel zu frÃ¼h mit 32 Jahren. Er erzÃ¤hlt davon\, wer oder was seine Eltern zu dem machte\, was sie waren\, von Ausgrenzung und dem Ringen um Stolz und WÃ¼rde. Und was von all den Erinnerungen am Ende bleibt. \nTourhalt am 04.06.23 im Asternweg \nWeitere Informationen
URL:https://gruebentaelchen.de/termine/ein-mann-seiner-klasse-on-tour/
LOCATION:Rheinland-Pfalz
CATEGORIES:Veranstaltung
ATTACH;FMTTYPE=image/jpeg:https://gruebentaelchen.de/wp-content/uploads/2023/05/Ein-Mann-seiner-Klasse-on-tour-Auffuehrung-Asternweg-Logo.jpg
END:VEVENT
BEGIN:VEVENT
DTSTART;TZID=Europe/Berlin:20230605T170000
DTEND;TZID=Europe/Berlin:20230605T180000
DTSTAMP:20260424T115323
CREATED:20230331T052350Z
LAST-MODIFIED:20230914T152345Z
UID:10002637-1685984400-1685988000@gruebentaelchen.de
SUMMARY:Jakkolo in â€žNils â€“ Wohnen im Quartierâ€œ
DESCRIPTION:Jakkolo in â€žNils â€“ Wohnen im Quartierâ€œ\nBeim Jakkolo mÃ¼ssen 30 Holzscheiben direkt oder indirekt in vier Boxen\, die mit Punktzeichen gekennzeichnet sind\, gespielt werden. \nAb ca. 9 Jahren kÃ¶nnen alle mit gleichen Chancen spielen\, egal ob Frau oder Mann\, Kinder oder Erwachsener\, Jung oder Alt\, Menschen mit oder ohne Handicap. Es kann im Stehen oder Sitzen gespielt werden. \nMachen Sie mit! Unser Team freut sich auf Ihr Kommen imÂ â€žNils â€“ Wohnen im Quartierâ€œ. \nKontakt unter 0631 &#8211; 3640 119
URL:https://gruebentaelchen.de/termine/jakkolo-in-nils-wohnen-im-quartier/2023-06-05/
LOCATION:Nils &#8211; Wohnen im Quartier\, FriedenstraÃŸe 63 (Guud Stubb)\, Kaiserslautern\, 67657\, Deutschland
CATEGORIES:Veranstaltung
ATTACH;FMTTYPE=image/jpeg:https://gruebentaelchen.de/wp-content/uploads/2023/03/Jakkolo-im-Nils.jpg
END:VEVENT
BEGIN:VEVENT
DTSTART;TZID=Europe/Berlin:20230606T150000
DTEND;TZID=Europe/Berlin:20230606T170000
DTSTAMP:20260424T115323
CREATED:20230326T204115Z
LAST-MODIFIED:20251203T133352Z
UID:10002693-1686063600-1686070800@gruebentaelchen.de
SUMMARY:Digitales CafÃ©
DESCRIPTION:Digitales CafÃ©\n  \nEin kostenloses Angebot fÃ¼r Seniorinnen und Senioren â€“ Sie haben Fragen im Umgang mit Smartphone\, Tablet\, Laptop und Co? Ein Team von Freiwilligen hilft Ihnen bei Ihren Fragen in gemÃ¼tlicher Runde bei Kaffee\, Tee und GebÃ¤ck. \nJeden 1. Dienstag im Monat von 15:00 â€“ 17:00 Uhr in gemÃ¼tlicher Runde bei Kaffee\, Tee und GebÃ¤ck! Sie kÃ¶nnen auch gerne eine Einzelsprechstunde vereinbaren.
URL:https://gruebentaelchen.de/termine/digitale-hilfe/2023-06-06/
LOCATION:StadtteilbÃ¼ro GrÃ¼bentÃ¤lchen\, FriedenstraÃŸe 118\, Kaiserslautern\, Rheinland-Pfalz\, 67657\, Deutschland
CATEGORIES:Veranstaltung
ATTACH;FMTTYPE=image/jpeg:https://gruebentaelchen.de/wp-content/uploads/2023/03/Digitale-Hilfen.jpg
END:VEVENT
BEGIN:VEVENT
DTSTART;TZID=Europe/Berlin:20230607T110000
DTEND;TZID=Europe/Berlin:20230607T123000
DTSTAMP:20260424T115323
CREATED:20230326T204725Z
LAST-MODIFIED:20260205T195711Z
UID:10002832-1686135600-1686141000@gruebentaelchen.de
SUMMARY:Sprechstunde des Betreuungsvereins DRK
DESCRIPTION:Jeden 1. Mittwoch im Monat von 11:00 â€“ 12:30 Uhr \nkostenloses Beratungsangebot des Betreuungsvereins DRK Kaiserslautern \n  \nBetreuungsvereine\nIn derÂ  Stadt Kaiserslautern finden Sie 4 Betreuungsvereine. Diese sind bei derÂ  Arbeiterwohlfahrt\, der Lebenshilfe\, dem Sozialdienst katholischer MÃ¤nner und Frauen undÂ  dem Deutschen Roten Kreuz zu finden. \nDieÂ  Betreuungsvereine informieren und beraten Sie kostenlos zu den Themen Vorsorgevollmacht und PatientenverfÃ¼gung.Â  Weiterhin sind sie zustÃ¤ndig fÃ¼r die GewinnungÂ  ehrenamtlicher Betreuer*innen. Diese werden im Vorfeld Ã¼ber ihre Arbeit aufgeklÃ¤rt\, geschult und erhalten wÃ¤hrend ihrer TÃ¤tigkeit UnterstÃ¼tzung und Hilfestellung bei allen Fragen rund um die gesetzliche Betreuung. RegelmÃ¤ÃŸig werden von den Betreuungsvereinen Treffen zum Austausch und zur Fortbildung fÃ¼r ehrenamtlichen Betreuer*innen angeboten. \nSo finden Sie die Betreuungsvereine: \nAWOÂ Â Â \nSchumannstraÃŸe 1\, Kaiserslautern\nTelefon 0631 â€“ 89 23 119 \nDRK\nBarbarossastraÃŸe 27\, Kaiserslautern\nTelefon 0631 â€“ 800 93 184 \nLebenshilfe\nPariserstraÃŸe 18. Kaiserslautern\nTelefon 0631 â€“ 414 70 789 \nSKFM\nKlosterstr. 6\, Kaiserslautern\nTelefon 0631 â€“ 361 25 310
URL:https://gruebentaelchen.de/termine/sprechstunde-der-betreuungsvereine/2023-06-07/
LOCATION:Rheinland-Pfalz
CATEGORIES:Beratung
ATTACH;FMTTYPE=image/jpeg:https://gruebentaelchen.de/wp-content/uploads/2023/02/Betreeungsvereine-Kaiserslautern.jpg
END:VEVENT
BEGIN:VEVENT
DTSTART;TZID=Europe/Berlin:20230609T133000
DTEND;TZID=Europe/Berlin:20230609T153000
DTSTAMP:20260424T115323
CREATED:20230329T201516Z
LAST-MODIFIED:20231105T202519Z
UID:10002804-1686317400-1686324600@gruebentaelchen.de
SUMMARY:Migrationsberatung durch die Diakonie
DESCRIPTION:Migrationsberatung\nFreitagsÂ von 13:30 â€“ 15:30 Uhr \nHerr Breier bietet jeweils freitags in der Zeit vom 13:30 bis 15:30 Uhr GesprÃ¤chs- und Beratungszeiten fÃ¼r GeflÃ¼chtete und BÃ¼rger:innen aus dem Stadtteil in den RÃ¤umlichkeiten des StadtteilbÃ¼ros (FriedenstraÃŸe 118) an. \nNeben diesen PrÃ¤senzzeiten kÃ¶nnen Sie auch Termine fÃ¼r GesprÃ¤che in seinem BÃ¼ro in dem Haus der Diakonie (Pirmasenser StraÃŸe 82 neben dem Altenzentrum â€žDiakonissenhaus am Stadtparkâ€œ) vereinbaren. \nZwecks Terminvereinbarung setzen Sie sich bitte mit Herrn Breier telefonisch oder per MailÂ  in Verbindung:\nMobil: 0176 â€“ 11 66 40 74\nMail:Â andreasphilipp.breier@diakonie-pfalz.de
URL:https://gruebentaelchen.de/termine/migrationsberatung-durch-die-diakonie-2/2023-06-09/
LOCATION:StadtteilbÃ¼ro GrÃ¼bentÃ¤lchen\, FriedenstraÃŸe 118\, Kaiserslautern\, Rheinland-Pfalz\, 67657\, Deutschland
CATEGORIES:Sprechstunde
ATTACH;FMTTYPE=image/jpeg:https://gruebentaelchen.de/wp-content/uploads/2023/03/Andreas-Philipp-Breier.jpg
END:VEVENT
BEGIN:VEVENT
DTSTART;TZID=Europe/Berlin:20230613T140000
DTEND;TZID=Europe/Berlin:20230613T160000
DTSTAMP:20260424T115323
CREATED:20230404T200352Z
LAST-MODIFIED:20230718T193628Z
UID:10002790-1686664800-1686672000@gruebentaelchen.de
SUMMARY:Handarbeitstreff
DESCRIPTION:Seit Februar 2017 trifft sich jeden 2. und 4. Dienstag im Monat um 14 Uhr eine Gruppe von BÃ¼rgerIinnen\, die Lust haben\, gemeinsam zu stricken und zu hÃ¤keln\, zum Handarbeitstreff. Dabei entstehen in netter Gemeinschaft TÃ¼cher\, Schals\, StrÃ¼mpfe\, Kinderdecken und weitere Projekte. Der Phantasie wird freien Lauf gelassen und neue Farben sowie Muster werden ausprobiert. Jeder arbeitet an seinem eigenen Projekt\, auf das er Lust hat\, aber es gibt auch gegenseitige Tipps und UnterstÃ¼tzung. \nAlle BewohnerInnen des GrÃ¼bentÃ¤lchens sind herzlich zum Mitmachen eingeladen! Nach MÃ¶glichkeit sollte bitte jede TeilnehmerIn eigene Handarbeitsutensilien mitbringen. \nDie Teilnahme ist kostenlos. \nDer Handarbeitstreff findet in der BegegnungsstÃ¤tte der Siedler und Eigenheimer â€žIm GrÃ¼bentÃ¤lchenâ€œ e. V. \, SchreberstraÃŸe 1\, statt.\nKontakt Ã¼ber StadtteilbÃ¼ro GrÃ¼bentÃ¤lchen
URL:https://gruebentaelchen.de/termine/handarbeitstreff/2023-06-13/
LOCATION:Rheinland-Pfalz
CATEGORIES:Kreatives
ATTACH;FMTTYPE=image/jpeg:https://gruebentaelchen.de/wp-content/uploads/2023/02/Handarbeitstreff-jpg.jpg
END:VEVENT
BEGIN:VEVENT
DTSTART;TZID=Europe/Berlin:20230614T100000
DTEND;TZID=Europe/Berlin:20230614T120000
DTSTAMP:20260424T115323
CREATED:20230329T202135Z
LAST-MODIFIED:20240102T000038Z
UID:10002625-1686736800-1686744000@gruebentaelchen.de
SUMMARY:Kostenlose Hilfe und/oder Anleitung bei kleineren NÃ¤harbeiten
DESCRIPTION:Im StadtteilbÃ¼ro wird neuerdings â€žabgesteckt\, anprobiert\, gebÃ¼gelt und genÃ¤htâ€¦\, aber auch gelacht und gefachsimpeltâ€¦â€œ \nWir bieten UnterstuÌˆtzung an: \nbeim ReiÃŸverschluÌˆsse einsetzen\,\nHosen/RÃ¶cke kuÌˆrzen\,\nNÃ¤hte aufarbeiten\noder anderen kleineren Ã„nderungen\nsowie Vermittlung von Grundkenntnissen /Â Einstieg in Patchworkâ€¦ \nHaben Sie auch kleinere Ã„nderungen an KleidungsstÃ¼cken wie Hosen/RÃ¶cke kÃ¼rzen\, ReiÃŸverschlÃ¼sse einsetzen oder andere kleinere NÃ¤harbeiten\, die Sie gerne unter kundiger Anleitung selbst oder von einer unserer ehrenamtlich Mitarbeitenden vornehmen wollen? \nDann melden Sie sich bei uns im StadtteilbÃ¼ro! Unser kostenloses Angebot gibt es jeden 2. Mittwoch / Monat von 10:00 â€“ 12:00 UhrÂ im StadtteilbÃ¼ro. Spenden sind willlkommen.
URL:https://gruebentaelchen.de/termine/kostenlose-hilfe-und-oder-anleitung-bei-kleineren-naeharbeiten/2023-06-14/
LOCATION:StadtteilbÃ¼ro GrÃ¼bentÃ¤lchen\, FriedenstraÃŸe 118\, Kaiserslautern\, Rheinland-Pfalz\, 67657\, Deutschland
CATEGORIES:Kreatives
ATTACH;FMTTYPE=image/jpeg:https://gruebentaelchen.de/wp-content/uploads/2023/03/Naehhilfe.jpg
END:VEVENT
BEGIN:VEVENT
DTSTART;TZID=Europe/Berlin:20230615T130000
DTEND;TZID=Europe/Berlin:20230615T180000
DTSTAMP:20260424T115323
CREATED:20230412T071622Z
LAST-MODIFIED:20230612T120655Z
UID:10002840-1686834000-1686852000@gruebentaelchen.de
SUMMARY:Tag der offenen TÃ¼r im StadtteilbÃ¼ro GrÃ¼bentÃ¤lchen
DESCRIPTION:Kommen Sie vorbei und informieren Sie sich bei kleinen Leckereien und GetrÃ¤nken Ã¼ber uns und unsere Angebote! Auch Ihre Ideen\, Anregungen\, Fragen sowie Kritik und Engagement sind willkommen. \n \nDownload Flyer
URL:https://gruebentaelchen.de/termine/tag-der-offenen-tuer-im-stadtteilbuero-gruebentaelchen/
LOCATION:StadtteilbÃ¼ro GrÃ¼bentÃ¤lchen\, FriedenstraÃŸe 118\, Kaiserslautern\, Rheinland-Pfalz\, 67657\, Deutschland
CATEGORIES:Veranstaltung
ATTACH;FMTTYPE=image/jpeg:https://gruebentaelchen.de/wp-content/uploads/2023/04/Tag-der-offenen-Tuer-im-Stadtteilbuero.jpg
END:VEVENT
BEGIN:VEVENT
DTSTART;TZID=Europe/Berlin:20230616T133000
DTEND;TZID=Europe/Berlin:20230616T153000
DTSTAMP:20260424T115323
CREATED:20230329T201516Z
LAST-MODIFIED:20231105T202519Z
UID:10002805-1686922200-1686929400@gruebentaelchen.de
SUMMARY:Migrationsberatung durch die Diakonie
DESCRIPTION:Migrationsberatung\nFreitagsÂ von 13:30 â€“ 15:30 Uhr \nHerr Breier bietet jeweils freitags in der Zeit vom 13:30 bis 15:30 Uhr GesprÃ¤chs- und Beratungszeiten fÃ¼r GeflÃ¼chtete und BÃ¼rger:innen aus dem Stadtteil in den RÃ¤umlichkeiten des StadtteilbÃ¼ros (FriedenstraÃŸe 118) an. \nNeben diesen PrÃ¤senzzeiten kÃ¶nnen Sie auch Termine fÃ¼r GesprÃ¤che in seinem BÃ¼ro in dem Haus der Diakonie (Pirmasenser StraÃŸe 82 neben dem Altenzentrum â€žDiakonissenhaus am Stadtparkâ€œ) vereinbaren. \nZwecks Terminvereinbarung setzen Sie sich bitte mit Herrn Breier telefonisch oder per MailÂ  in Verbindung:\nMobil: 0176 â€“ 11 66 40 74\nMail:Â andreasphilipp.breier@diakonie-pfalz.de
URL:https://gruebentaelchen.de/termine/migrationsberatung-durch-die-diakonie-2/2023-06-16/
LOCATION:StadtteilbÃ¼ro GrÃ¼bentÃ¤lchen\, FriedenstraÃŸe 118\, Kaiserslautern\, Rheinland-Pfalz\, 67657\, Deutschland
CATEGORIES:Sprechstunde
ATTACH;FMTTYPE=image/jpeg:https://gruebentaelchen.de/wp-content/uploads/2023/03/Andreas-Philipp-Breier.jpg
END:VEVENT
BEGIN:VEVENT
DTSTART;TZID=Europe/Berlin:20230623T133000
DTEND;TZID=Europe/Berlin:20230623T153000
DTSTAMP:20260424T115323
CREATED:20230329T201516Z
LAST-MODIFIED:20231105T202519Z
UID:10002806-1687527000-1687534200@gruebentaelchen.de
SUMMARY:Migrationsberatung durch die Diakonie
DESCRIPTION:Migrationsberatung\nFreitagsÂ von 13:30 â€“ 15:30 Uhr \nHerr Breier bietet jeweils freitags in der Zeit vom 13:30 bis 15:30 Uhr GesprÃ¤chs- und Beratungszeiten fÃ¼r GeflÃ¼chtete und BÃ¼rger:innen aus dem Stadtteil in den RÃ¤umlichkeiten des StadtteilbÃ¼ros (FriedenstraÃŸe 118) an. \nNeben diesen PrÃ¤senzzeiten kÃ¶nnen Sie auch Termine fÃ¼r GesprÃ¤che in seinem BÃ¼ro in dem Haus der Diakonie (Pirmasenser StraÃŸe 82 neben dem Altenzentrum â€žDiakonissenhaus am Stadtparkâ€œ) vereinbaren. \nZwecks Terminvereinbarung setzen Sie sich bitte mit Herrn Breier telefonisch oder per MailÂ  in Verbindung:\nMobil: 0176 â€“ 11 66 40 74\nMail:Â andreasphilipp.breier@diakonie-pfalz.de
URL:https://gruebentaelchen.de/termine/migrationsberatung-durch-die-diakonie-2/2023-06-23/
LOCATION:StadtteilbÃ¼ro GrÃ¼bentÃ¤lchen\, FriedenstraÃŸe 118\, Kaiserslautern\, Rheinland-Pfalz\, 67657\, Deutschland
CATEGORIES:Sprechstunde
ATTACH;FMTTYPE=image/jpeg:https://gruebentaelchen.de/wp-content/uploads/2023/03/Andreas-Philipp-Breier.jpg
END:VEVENT
BEGIN:VEVENT
DTSTART;TZID=Europe/Berlin:20230627T140000
DTEND;TZID=Europe/Berlin:20230627T160000
DTSTAMP:20260424T115323
CREATED:20230404T200352Z
LAST-MODIFIED:20230718T193628Z
UID:10002791-1687874400-1687881600@gruebentaelchen.de
SUMMARY:Handarbeitstreff
DESCRIPTION:Seit Februar 2017 trifft sich jeden 2. und 4. Dienstag im Monat um 14 Uhr eine Gruppe von BÃ¼rgerIinnen\, die Lust haben\, gemeinsam zu stricken und zu hÃ¤keln\, zum Handarbeitstreff. Dabei entstehen in netter Gemeinschaft TÃ¼cher\, Schals\, StrÃ¼mpfe\, Kinderdecken und weitere Projekte. Der Phantasie wird freien Lauf gelassen und neue Farben sowie Muster werden ausprobiert. Jeder arbeitet an seinem eigenen Projekt\, auf das er Lust hat\, aber es gibt auch gegenseitige Tipps und UnterstÃ¼tzung. \nAlle BewohnerInnen des GrÃ¼bentÃ¤lchens sind herzlich zum Mitmachen eingeladen! Nach MÃ¶glichkeit sollte bitte jede TeilnehmerIn eigene Handarbeitsutensilien mitbringen. \nDie Teilnahme ist kostenlos. \nDer Handarbeitstreff findet in der BegegnungsstÃ¤tte der Siedler und Eigenheimer â€žIm GrÃ¼bentÃ¤lchenâ€œ e. V. \, SchreberstraÃŸe 1\, statt.\nKontakt Ã¼ber StadtteilbÃ¼ro GrÃ¼bentÃ¤lchen
URL:https://gruebentaelchen.de/termine/handarbeitstreff/2023-06-27/
LOCATION:Rheinland-Pfalz
CATEGORIES:Kreatives
ATTACH;FMTTYPE=image/jpeg:https://gruebentaelchen.de/wp-content/uploads/2023/02/Handarbeitstreff-jpg.jpg
END:VEVENT
BEGIN:VEVENT
DTSTART;TZID=Europe/Berlin:20230630T133000
DTEND;TZID=Europe/Berlin:20230630T153000
DTSTAMP:20260424T115323
CREATED:20230329T201516Z
LAST-MODIFIED:20231105T202519Z
UID:10002807-1688131800-1688139000@gruebentaelchen.de
SUMMARY:Migrationsberatung durch die Diakonie
DESCRIPTION:Migrationsberatung\nFreitagsÂ von 13:30 â€“ 15:30 Uhr \nHerr Breier bietet jeweils freitags in der Zeit vom 13:30 bis 15:30 Uhr GesprÃ¤chs- und Beratungszeiten fÃ¼r GeflÃ¼chtete und BÃ¼rger:innen aus dem Stadtteil in den RÃ¤umlichkeiten des StadtteilbÃ¼ros (FriedenstraÃŸe 118) an. \nNeben diesen PrÃ¤senzzeiten kÃ¶nnen Sie auch Termine fÃ¼r GesprÃ¤che in seinem BÃ¼ro in dem Haus der Diakonie (Pirmasenser StraÃŸe 82 neben dem Altenzentrum â€žDiakonissenhaus am Stadtparkâ€œ) vereinbaren. \nZwecks Terminvereinbarung setzen Sie sich bitte mit Herrn Breier telefonisch oder per MailÂ  in Verbindung:\nMobil: 0176 â€“ 11 66 40 74\nMail:Â andreasphilipp.breier@diakonie-pfalz.de
URL:https://gruebentaelchen.de/termine/migrationsberatung-durch-die-diakonie-2/2023-06-30/
LOCATION:StadtteilbÃ¼ro GrÃ¼bentÃ¤lchen\, FriedenstraÃŸe 118\, Kaiserslautern\, Rheinland-Pfalz\, 67657\, Deutschland
CATEGORIES:Sprechstunde
ATTACH;FMTTYPE=image/jpeg:https://gruebentaelchen.de/wp-content/uploads/2023/03/Andreas-Philipp-Breier.jpg
END:VEVENT
END:VCALENDAR