BEGIN:VCALENDAR
VERSION:2.0
PRODID:-//StadtteilbÃ¼ro GrÃ¼bentÃ¤lchen - ECPv6.15.20//NONSGML v1.0//EN
CALSCALE:GREGORIAN
METHOD:PUBLISH
X-WR-CALNAME:StadtteilbÃ¼ro GrÃ¼bentÃ¤lchen
X-ORIGINAL-URL:https://gruebentaelchen.de
X-WR-CALDESC:Veranstaltungen fÃ¼r StadtteilbÃ¼ro GrÃ¼bentÃ¤lchen
REFRESH-INTERVAL;VALUE=DURATION:PT1H
X-Robots-Tag:noindex
X-PUBLISHED-TTL:PT1H
BEGIN:VTIMEZONE
TZID:Europe/Berlin
BEGIN:DAYLIGHT
TZOFFSETFROM:+0100
TZOFFSETTO:+0200
TZNAME:CEST
DTSTART:20220327T010000
END:DAYLIGHT
BEGIN:STANDARD
TZOFFSETFROM:+0200
TZOFFSETTO:+0100
TZNAME:CET
DTSTART:20221030T010000
END:STANDARD
BEGIN:DAYLIGHT
TZOFFSETFROM:+0100
TZOFFSETTO:+0200
TZNAME:CEST
DTSTART:20230326T010000
END:DAYLIGHT
BEGIN:STANDARD
TZOFFSETFROM:+0200
TZOFFSETTO:+0100
TZNAME:CET
DTSTART:20231029T010000
END:STANDARD
BEGIN:DAYLIGHT
TZOFFSETFROM:+0100
TZOFFSETTO:+0200
TZNAME:CEST
DTSTART:20240331T010000
END:DAYLIGHT
BEGIN:STANDARD
TZOFFSETFROM:+0200
TZOFFSETTO:+0100
TZNAME:CET
DTSTART:20241027T010000
END:STANDARD
END:VTIMEZONE
BEGIN:VEVENT
DTSTART;TZID=Europe/Berlin:20231201T080000
DTEND;TZID=Europe/Berlin:20231224T170000
DTSTAMP:20260423T213909
CREATED:20230412T074813Z
LAST-MODIFIED:20231206T113941Z
UID:10002851-1701417600-1703437200@gruebentaelchen.de
SUMMARY:Adventsfenster im GrÃ¼bentÃ¤lchen 2023
DESCRIPTION:Wir laden Sie ein auf abendliche SpaziergÃ¤nge und GesprÃ¤che im GrÃ¼bentÃ¤lchen. Erfreuen Sie sich wieder an Adventsfenstern.. \nÃœbersicht
URL:https://gruebentaelchen.de/termine/adventsfenster-im-gruebentaelchen-2023/
LOCATION:Im gesamten GrÃ¼bentÃ¤lchen
CATEGORIES:Veranstaltung
ATTACH;FMTTYPE=image/png:https://gruebentaelchen.de/wp-content/uploads/2023/04/Plakat-Adventsfenster-Gruebentaelchen-2023.png
END:VEVENT
BEGIN:VEVENT
DTSTART;TZID=Europe/Berlin:20231201T133000
DTEND;TZID=Europe/Berlin:20231201T153000
DTSTAMP:20260423T213909
CREATED:20230329T201516Z
LAST-MODIFIED:20231105T202519Z
UID:10002829-1701437400-1701444600@gruebentaelchen.de
SUMMARY:Migrationsberatung durch die Diakonie
DESCRIPTION:Migrationsberatung\nFreitagsÂ von 13:30 â€“ 15:30 Uhr \nHerr Breier bietet jeweils freitags in der Zeit vom 13:30 bis 15:30 Uhr GesprÃ¤chs- und Beratungszeiten fÃ¼r GeflÃ¼chtete und BÃ¼rger:innen aus dem Stadtteil in den RÃ¤umlichkeiten des StadtteilbÃ¼ros (FriedenstraÃŸe 118) an. \nNeben diesen PrÃ¤senzzeiten kÃ¶nnen Sie auch Termine fÃ¼r GesprÃ¤che in seinem BÃ¼ro in dem Haus der Diakonie (Pirmasenser StraÃŸe 82 neben dem Altenzentrum â€žDiakonissenhaus am Stadtparkâ€œ) vereinbaren. \nZwecks Terminvereinbarung setzen Sie sich bitte mit Herrn Breier telefonisch oder per MailÂ  in Verbindung:\nMobil: 0176 â€“ 11 66 40 74\nMail:Â andreasphilipp.breier@diakonie-pfalz.de
URL:https://gruebentaelchen.de/termine/migrationsberatung-durch-die-diakonie-2/2023-12-01/
LOCATION:StadtteilbÃ¼ro GrÃ¼bentÃ¤lchen\, FriedenstraÃŸe 118\, Kaiserslautern\, Rheinland-Pfalz\, 67657\, Deutschland
CATEGORIES:Sprechstunde
ATTACH;FMTTYPE=image/jpeg:https://gruebentaelchen.de/wp-content/uploads/2023/03/Andreas-Philipp-Breier.jpg
END:VEVENT
BEGIN:VEVENT
DTSTART;TZID=Europe/Berlin:20231205T150000
DTEND;TZID=Europe/Berlin:20231205T170000
DTSTAMP:20260423T213909
CREATED:20230326T204115Z
LAST-MODIFIED:20251203T133352Z
UID:10002699-1701788400-1701795600@gruebentaelchen.de
SUMMARY:Digitales CafÃ©
DESCRIPTION:Digitales CafÃ©\n  \nEin kostenloses Angebot fÃ¼r Seniorinnen und Senioren â€“ Sie haben Fragen im Umgang mit Smartphone\, Tablet\, Laptop und Co? Ein Team von Freiwilligen hilft Ihnen bei Ihren Fragen in gemÃ¼tlicher Runde bei Kaffee\, Tee und GebÃ¤ck. \nJeden 1. Dienstag im Monat von 15:00 â€“ 17:00 Uhr in gemÃ¼tlicher Runde bei Kaffee\, Tee und GebÃ¤ck! Sie kÃ¶nnen auch gerne eine Einzelsprechstunde vereinbaren.
URL:https://gruebentaelchen.de/termine/digitale-hilfe/2023-12-05/
LOCATION:StadtteilbÃ¼ro GrÃ¼bentÃ¤lchen\, FriedenstraÃŸe 118\, Kaiserslautern\, Rheinland-Pfalz\, 67657\, Deutschland
CATEGORIES:Veranstaltung
ATTACH;FMTTYPE=image/jpeg:https://gruebentaelchen.de/wp-content/uploads/2023/03/Digitale-Hilfen.jpg
END:VEVENT
BEGIN:VEVENT
DTSTART;TZID=Europe/Berlin:20231206T110000
DTEND;TZID=Europe/Berlin:20231206T123000
DTSTAMP:20260423T213909
CREATED:20230326T204725Z
LAST-MODIFIED:20260205T195711Z
UID:10002838-1701860400-1701865800@gruebentaelchen.de
SUMMARY:Sprechstunde des Betreuungsvereins DRK
DESCRIPTION:Jeden 1. Mittwoch im Monat von 11:00 â€“ 12:30 Uhr \nkostenloses Beratungsangebot des Betreuungsvereins DRK Kaiserslautern \n  \nBetreuungsvereine\nIn derÂ  Stadt Kaiserslautern finden Sie 4 Betreuungsvereine. Diese sind bei derÂ  Arbeiterwohlfahrt\, der Lebenshilfe\, dem Sozialdienst katholischer MÃ¤nner und Frauen undÂ  dem Deutschen Roten Kreuz zu finden. \nDieÂ  Betreuungsvereine informieren und beraten Sie kostenlos zu den Themen Vorsorgevollmacht und PatientenverfÃ¼gung.Â  Weiterhin sind sie zustÃ¤ndig fÃ¼r die GewinnungÂ  ehrenamtlicher Betreuer*innen. Diese werden im Vorfeld Ã¼ber ihre Arbeit aufgeklÃ¤rt\, geschult und erhalten wÃ¤hrend ihrer TÃ¤tigkeit UnterstÃ¼tzung und Hilfestellung bei allen Fragen rund um die gesetzliche Betreuung. RegelmÃ¤ÃŸig werden von den Betreuungsvereinen Treffen zum Austausch und zur Fortbildung fÃ¼r ehrenamtlichen Betreuer*innen angeboten. \nSo finden Sie die Betreuungsvereine: \nAWOÂ Â Â \nSchumannstraÃŸe 1\, Kaiserslautern\nTelefon 0631 â€“ 89 23 119 \nDRK\nBarbarossastraÃŸe 27\, Kaiserslautern\nTelefon 0631 â€“ 800 93 184 \nLebenshilfe\nPariserstraÃŸe 18. Kaiserslautern\nTelefon 0631 â€“ 414 70 789 \nSKFM\nKlosterstr. 6\, Kaiserslautern\nTelefon 0631 â€“ 361 25 310
URL:https://gruebentaelchen.de/termine/sprechstunde-der-betreuungsvereine/2023-12-06/
LOCATION:Rheinland-Pfalz
CATEGORIES:Beratung
ATTACH;FMTTYPE=image/jpeg:https://gruebentaelchen.de/wp-content/uploads/2023/02/Betreeungsvereine-Kaiserslautern.jpg
END:VEVENT
BEGIN:VEVENT
DTSTART;TZID=Europe/Berlin:20231207T130000
DTEND;TZID=Europe/Berlin:20231207T140000
DTSTAMP:20260423T213909
CREATED:20230331T193914Z
LAST-MODIFIED:20251203T134920Z
UID:10008963-1701954000-1701957600@gruebentaelchen.de
SUMMARY:MobilitÃ¤tstraining
DESCRIPTION:Zeit fÃ¼r Bewegung â€“ weilâ€™s mir gut tut!\nMobilitÃ¤tstraining im GrÃ¼bentÃ¤lchen\nMachen Sie mit bei Ãœbungen\, die gut fÃ¼r die Gesundheit sind und SpaÃŸ und Freude an der Bewegung vermitteln. Wichtige Muskelgruppen\, die die WirbelsÃ¤ule aufrichten\, werden gekrÃ¤ftigt und die in der Tiefe liegenden Muskeln trainiert. Musik\, die gute Laune macht\, begleitet das Programm. \nJeden donnerstags von 13:00 â€“ 14:00 Uhr\,\nVeranstaltungsraum der Gemeinschaftsunterkunft fÃ¼r ukrainisch GeflÃ¼chtete\, Mennonitenstr. 28 (ehemals Zoar-Alten- und Pflegeheim) \nUnser Angebot ist kostenlos und ganz in Ihrer NÃ¤he. Sie kÃ¶nnen in bequemer Alltagskleidung kommen. Alle Termine kÃ¶nnen unabhÃ¤ngig voneinander und ohne Voranmeldung besucht werden. Und Sie lernen nette Menschen kennenâ€¦ \nDas MobilitÃ¤tstraining wird durchgefÃ¼hrt vonÂ  Jennifer HÃ¶ning\, Physiotherapeutin und Bewegungsmanagerin der Stadt Kaiserslautern der Landesinitiative â€žRheinland-Pfalz â€“ Land in Bewegungâ€œ.
URL:https://gruebentaelchen.de/termine/mobilitaetstraining-2/2023-12-07/
LOCATION:MennonitenstraÃŸe 28
CATEGORIES:Sport
ATTACH;FMTTYPE=image/jpeg:https://gruebentaelchen.de/wp-content/uploads/2023/03/Mobilitaestraining-1.jpg
END:VEVENT
BEGIN:VEVENT
DTSTART;TZID=Europe/Berlin:20231207T150000
DTEND;TZID=Europe/Berlin:20231207T160000
DTSTAMP:20260423T213909
CREATED:20230914T154223Z
LAST-MODIFIED:20231202T130234Z
UID:10002900-1701961200-1701964800@gruebentaelchen.de
SUMMARY:Singkreis
DESCRIPTION:Karen Fuchs\, Mitglied des Seniorenbeirats der Stadt Kaiserslautern\, bietet einmal im Monat einen Singkreis mit Volksliedern und Schlagern an. \nSingen in Gemeinschaft schÃ¼ttet GlÃ¼ckshormone aus\, fÃ¶rdert KreativitÃ¤t und KonzentrationsfÃ¤higkeit. Auch SprachgefÃ¼hl und Wortschatz werden trainiert. \nKommen Sie vorbei und lassen Sie uns gemeinsam Weihnachtslieder singen. \nDas StadtteilbÃ¼ro lÃ¤dt ein zum Adventsfenster ab 16 Uhr zu FrÃ¼chtepunsch und WeihnachtsgebÃ¤ck. Unser Singkreis wird mit Gitarrenbegleitung Weihnachtslieder singen â€“ und wir wÃ¼rden uns Ã¼ber viele Miteinstimmende freuen!
URL:https://gruebentaelchen.de/termine/singkreis-2/
LOCATION:StadtteilbÃ¼ro GrÃ¼bentÃ¤lchen\, FriedenstraÃŸe 118\, Kaiserslautern\, Rheinland-Pfalz\, 67657\, Deutschland
CATEGORIES:Veranstaltung
ATTACH;FMTTYPE=image/png:https://gruebentaelchen.de/wp-content/uploads/2023/09/2023-08-08-Flyerlang-Stadtteilbuero_Singkreis-1.png
END:VEVENT
BEGIN:VEVENT
DTSTART;TZID=Europe/Berlin:20231207T160000
DTEND;TZID=Europe/Berlin:20231207T180000
DTSTAMP:20260423T213909
CREATED:20231206T114209Z
LAST-MODIFIED:20231206T202323Z
UID:10002910-1701964800-1701972000@gruebentaelchen.de
SUMMARY:Adventsterfenster im StadtteilbÃ¼ro
DESCRIPTION:Das StadtteilbÃ¼ro GrÃ¼bentÃ¤lchen lÃ¤dt ein ins StadtteilbÃ¼ro zum Adventsfenster ab 16 Uhr mit FrÃ¼chtepunsch und WeihnachtsgebÃ¤ck. Unser Singkreis wird mit Gitarrenbegleitung Weihnachtslieder singen â€“ und wir wÃ¼rden uns Ã¼ber viele Miteinstimmende freuen!
URL:https://gruebentaelchen.de/termine/adventsterfenster-im-stadtteilbuero-2023/
LOCATION:Rheinland-Pfalz
ATTACH;FMTTYPE=image/png:https://gruebentaelchen.de/wp-content/uploads/2023/04/Plakat-Adventsfenster-Gruebentaelchen-2023.png
END:VEVENT
BEGIN:VEVENT
DTSTART;TZID=Europe/Berlin:20231208T133000
DTEND;TZID=Europe/Berlin:20231208T153000
DTSTAMP:20260423T213909
CREATED:20230329T201516Z
LAST-MODIFIED:20231105T202519Z
UID:10002830-1702042200-1702049400@gruebentaelchen.de
SUMMARY:Migrationsberatung durch die Diakonie
DESCRIPTION:Migrationsberatung\nFreitagsÂ von 13:30 â€“ 15:30 Uhr \nHerr Breier bietet jeweils freitags in der Zeit vom 13:30 bis 15:30 Uhr GesprÃ¤chs- und Beratungszeiten fÃ¼r GeflÃ¼chtete und BÃ¼rger:innen aus dem Stadtteil in den RÃ¤umlichkeiten des StadtteilbÃ¼ros (FriedenstraÃŸe 118) an. \nNeben diesen PrÃ¤senzzeiten kÃ¶nnen Sie auch Termine fÃ¼r GesprÃ¤che in seinem BÃ¼ro in dem Haus der Diakonie (Pirmasenser StraÃŸe 82 neben dem Altenzentrum â€žDiakonissenhaus am Stadtparkâ€œ) vereinbaren. \nZwecks Terminvereinbarung setzen Sie sich bitte mit Herrn Breier telefonisch oder per MailÂ  in Verbindung:\nMobil: 0176 â€“ 11 66 40 74\nMail:Â andreasphilipp.breier@diakonie-pfalz.de
URL:https://gruebentaelchen.de/termine/migrationsberatung-durch-die-diakonie-2/2023-12-08/
LOCATION:StadtteilbÃ¼ro GrÃ¼bentÃ¤lchen\, FriedenstraÃŸe 118\, Kaiserslautern\, Rheinland-Pfalz\, 67657\, Deutschland
CATEGORIES:Sprechstunde
ATTACH;FMTTYPE=image/jpeg:https://gruebentaelchen.de/wp-content/uploads/2023/03/Andreas-Philipp-Breier.jpg
END:VEVENT
BEGIN:VEVENT
DTSTART;TZID=Europe/Berlin:20231210T160000
DTEND;TZID=Europe/Berlin:20231210T170000
DTSTAMP:20260423T213909
CREATED:20231206T120034Z
LAST-MODIFIED:20231206T120918Z
UID:10002911-1702224000-1702227600@gruebentaelchen.de
SUMMARY:Weihnachtsgeschenke-Tausch-Markt
DESCRIPTION:Am 10. Dezember (2. Advent) von 14:00 â€“ 17:00 Uhr findet unser 1. Weihnachtsgeschenke Tausch-Markt fÃ¼r Spielsachen im StadtteilbÃ¼ro statt. Wir wollen gebrauchten Spielsachen eine zweite Chance geben und Eltern\, GroÃŸeltern\, Verwandten und Freunden beim Finden von Weihnachtsgeschenken fÃ¼r Kinder helfen. Es kann auch nur abgegeben oder nur gefunden werden. Die Abgabe von Spielsachen ist auch wÃ¤hrend der Ã–ffnungszeiten des StadtteilbÃ¼ros mÃ¶glich.
URL:https://gruebentaelchen.de/termine/weihnachtsgeschenke-tausch-markt-2023/
LOCATION:Rheinland-Pfalz
ATTACH;FMTTYPE=image/jpeg:https://gruebentaelchen.de/wp-content/uploads/2023/12/Plakat-Tauschmarkt-2023-scaled.jpg
END:VEVENT
BEGIN:VEVENT
DTSTART;TZID=Europe/Berlin:20231211T173000
DTEND;TZID=Europe/Berlin:20231211T183000
DTSTAMP:20260423T213909
CREATED:20230331T052350Z
LAST-MODIFIED:20230914T152345Z
UID:10002887-1702315800-1702319400@gruebentaelchen.de
SUMMARY:Jakkolo in â€žNils â€“ Wohnen im Quartierâ€œ
DESCRIPTION:Jakkolo in â€žNils â€“ Wohnen im Quartierâ€œ\nBeim Jakkolo mÃ¼ssen 30 Holzscheiben direkt oder indirekt in vier Boxen\, die mit Punktzeichen gekennzeichnet sind\, gespielt werden. \nAb ca. 9 Jahren kÃ¶nnen alle mit gleichen Chancen spielen\, egal ob Frau oder Mann\, Kinder oder Erwachsener\, Jung oder Alt\, Menschen mit oder ohne Handicap. Es kann im Stehen oder Sitzen gespielt werden. \nMachen Sie mit! Unser Team freut sich auf Ihr Kommen imÂ â€žNils â€“ Wohnen im Quartierâ€œ. \nKontakt unter 0631 &#8211; 3640 119
URL:https://gruebentaelchen.de/termine/jakkolo-in-nils-wohnen-im-quartier/2023-12-11/
LOCATION:Nils &#8211; Wohnen im Quartier\, FriedenstraÃŸe 63 (Guud Stubb)\, Kaiserslautern\, 67657\, Deutschland
CATEGORIES:Veranstaltung
ATTACH;FMTTYPE=image/jpeg:https://gruebentaelchen.de/wp-content/uploads/2023/03/Jakkolo-im-Nils.jpg
END:VEVENT
BEGIN:VEVENT
DTSTART;TZID=Europe/Berlin:20231212T140000
DTEND;TZID=Europe/Berlin:20231212T160000
DTSTAMP:20260423T213909
CREATED:20230404T200352Z
LAST-MODIFIED:20230718T193628Z
UID:10002802-1702389600-1702396800@gruebentaelchen.de
SUMMARY:Handarbeitstreff
DESCRIPTION:Seit Februar 2017 trifft sich jeden 2. und 4. Dienstag im Monat um 14 Uhr eine Gruppe von BÃ¼rgerIinnen\, die Lust haben\, gemeinsam zu stricken und zu hÃ¤keln\, zum Handarbeitstreff. Dabei entstehen in netter Gemeinschaft TÃ¼cher\, Schals\, StrÃ¼mpfe\, Kinderdecken und weitere Projekte. Der Phantasie wird freien Lauf gelassen und neue Farben sowie Muster werden ausprobiert. Jeder arbeitet an seinem eigenen Projekt\, auf das er Lust hat\, aber es gibt auch gegenseitige Tipps und UnterstÃ¼tzung. \nAlle BewohnerInnen des GrÃ¼bentÃ¤lchens sind herzlich zum Mitmachen eingeladen! Nach MÃ¶glichkeit sollte bitte jede TeilnehmerIn eigene Handarbeitsutensilien mitbringen. \nDie Teilnahme ist kostenlos. \nDer Handarbeitstreff findet in der BegegnungsstÃ¤tte der Siedler und Eigenheimer â€žIm GrÃ¼bentÃ¤lchenâ€œ e. V. \, SchreberstraÃŸe 1\, statt.\nKontakt Ã¼ber StadtteilbÃ¼ro GrÃ¼bentÃ¤lchen
URL:https://gruebentaelchen.de/termine/handarbeitstreff/2023-12-12/
LOCATION:Rheinland-Pfalz
CATEGORIES:Kreatives
ATTACH;FMTTYPE=image/jpeg:https://gruebentaelchen.de/wp-content/uploads/2023/02/Handarbeitstreff-jpg.jpg
END:VEVENT
BEGIN:VEVENT
DTSTART;TZID=Europe/Berlin:20231213T100000
DTEND;TZID=Europe/Berlin:20231213T120000
DTSTAMP:20260423T213909
CREATED:20230329T202135Z
LAST-MODIFIED:20240102T000038Z
UID:10002631-1702461600-1702468800@gruebentaelchen.de
SUMMARY:Kostenlose Hilfe und/oder Anleitung bei kleineren NÃ¤harbeiten
DESCRIPTION:Im StadtteilbÃ¼ro wird neuerdings â€žabgesteckt\, anprobiert\, gebÃ¼gelt und genÃ¤htâ€¦\, aber auch gelacht und gefachsimpeltâ€¦â€œ \nWir bieten UnterstuÌˆtzung an: \nbeim ReiÃŸverschluÌˆsse einsetzen\,\nHosen/RÃ¶cke kuÌˆrzen\,\nNÃ¤hte aufarbeiten\noder anderen kleineren Ã„nderungen\nsowie Vermittlung von Grundkenntnissen /Â Einstieg in Patchworkâ€¦ \nHaben Sie auch kleinere Ã„nderungen an KleidungsstÃ¼cken wie Hosen/RÃ¶cke kÃ¼rzen\, ReiÃŸverschlÃ¼sse einsetzen oder andere kleinere NÃ¤harbeiten\, die Sie gerne unter kundiger Anleitung selbst oder von einer unserer ehrenamtlich Mitarbeitenden vornehmen wollen? \nDann melden Sie sich bei uns im StadtteilbÃ¼ro! Unser kostenloses Angebot gibt es jeden 2. Mittwoch / Monat von 10:00 â€“ 12:00 UhrÂ im StadtteilbÃ¼ro. Spenden sind willlkommen.
URL:https://gruebentaelchen.de/termine/kostenlose-hilfe-und-oder-anleitung-bei-kleineren-naeharbeiten/2023-12-13/
LOCATION:StadtteilbÃ¼ro GrÃ¼bentÃ¤lchen\, FriedenstraÃŸe 118\, Kaiserslautern\, Rheinland-Pfalz\, 67657\, Deutschland
CATEGORIES:Kreatives
ATTACH;FMTTYPE=image/jpeg:https://gruebentaelchen.de/wp-content/uploads/2023/03/Naehhilfe.jpg
END:VEVENT
BEGIN:VEVENT
DTSTART;TZID=Europe/Berlin:20231214T103000
DTEND;TZID=Europe/Berlin:20231214T120000
DTSTAMP:20260423T213909
CREATED:20230326T205431Z
LAST-MODIFIED:20230720T204349Z
UID:10002873-1702549800-1702555200@gruebentaelchen.de
SUMMARY:Sprechstunde der Seniorenberaterin
DESCRIPTION:jeden 2. Donnerstag im Monat von 10:30 â€“ 12:00 Uhr \nSprechstunde derÂ Seniorenberaterin Margit Walg-Joyce
URL:https://gruebentaelchen.de/termine/sprechstunde-der-seniorenberaterin/2023-12-14/
LOCATION:StadtteilbÃ¼ro GrÃ¼bentÃ¤lchen\, FriedenstraÃŸe 118\, Kaiserslautern\, Rheinland-Pfalz\, 67657\, Deutschland
CATEGORIES:Beratung
ATTACH;FMTTYPE=image/jpeg:https://gruebentaelchen.de/wp-content/uploads/2023/03/Sprechstunde-Seniorenberaterin.jpg
END:VEVENT
BEGIN:VEVENT
DTSTART;TZID=Europe/Berlin:20231214T130000
DTEND;TZID=Europe/Berlin:20231214T140000
DTSTAMP:20260423T213909
CREATED:20230331T193914Z
LAST-MODIFIED:20251203T134920Z
UID:10008964-1702558800-1702562400@gruebentaelchen.de
SUMMARY:MobilitÃ¤tstraining
DESCRIPTION:Zeit fÃ¼r Bewegung â€“ weilâ€™s mir gut tut!\nMobilitÃ¤tstraining im GrÃ¼bentÃ¤lchen\nMachen Sie mit bei Ãœbungen\, die gut fÃ¼r die Gesundheit sind und SpaÃŸ und Freude an der Bewegung vermitteln. Wichtige Muskelgruppen\, die die WirbelsÃ¤ule aufrichten\, werden gekrÃ¤ftigt und die in der Tiefe liegenden Muskeln trainiert. Musik\, die gute Laune macht\, begleitet das Programm. \nJeden donnerstags von 13:00 â€“ 14:00 Uhr\,\nVeranstaltungsraum der Gemeinschaftsunterkunft fÃ¼r ukrainisch GeflÃ¼chtete\, Mennonitenstr. 28 (ehemals Zoar-Alten- und Pflegeheim) \nUnser Angebot ist kostenlos und ganz in Ihrer NÃ¤he. Sie kÃ¶nnen in bequemer Alltagskleidung kommen. Alle Termine kÃ¶nnen unabhÃ¤ngig voneinander und ohne Voranmeldung besucht werden. Und Sie lernen nette Menschen kennenâ€¦ \nDas MobilitÃ¤tstraining wird durchgefÃ¼hrt vonÂ  Jennifer HÃ¶ning\, Physiotherapeutin und Bewegungsmanagerin der Stadt Kaiserslautern der Landesinitiative â€žRheinland-Pfalz â€“ Land in Bewegungâ€œ.
URL:https://gruebentaelchen.de/termine/mobilitaetstraining-2/2023-12-14/
LOCATION:MennonitenstraÃŸe 28
CATEGORIES:Sport
ATTACH;FMTTYPE=image/jpeg:https://gruebentaelchen.de/wp-content/uploads/2023/03/Mobilitaestraining-1.jpg
END:VEVENT
BEGIN:VEVENT
DTSTART;TZID=Europe/Berlin:20231215T133000
DTEND;TZID=Europe/Berlin:20231215T153000
DTSTAMP:20260423T213909
CREATED:20230329T201516Z
LAST-MODIFIED:20231105T202519Z
UID:10002831-1702647000-1702654200@gruebentaelchen.de
SUMMARY:Migrationsberatung durch die Diakonie
DESCRIPTION:Migrationsberatung\nFreitagsÂ von 13:30 â€“ 15:30 Uhr \nHerr Breier bietet jeweils freitags in der Zeit vom 13:30 bis 15:30 Uhr GesprÃ¤chs- und Beratungszeiten fÃ¼r GeflÃ¼chtete und BÃ¼rger:innen aus dem Stadtteil in den RÃ¤umlichkeiten des StadtteilbÃ¼ros (FriedenstraÃŸe 118) an. \nNeben diesen PrÃ¤senzzeiten kÃ¶nnen Sie auch Termine fÃ¼r GesprÃ¤che in seinem BÃ¼ro in dem Haus der Diakonie (Pirmasenser StraÃŸe 82 neben dem Altenzentrum â€žDiakonissenhaus am Stadtparkâ€œ) vereinbaren. \nZwecks Terminvereinbarung setzen Sie sich bitte mit Herrn Breier telefonisch oder per MailÂ  in Verbindung:\nMobil: 0176 â€“ 11 66 40 74\nMail:Â andreasphilipp.breier@diakonie-pfalz.de
URL:https://gruebentaelchen.de/termine/migrationsberatung-durch-die-diakonie-2/2023-12-15/
LOCATION:StadtteilbÃ¼ro GrÃ¼bentÃ¤lchen\, FriedenstraÃŸe 118\, Kaiserslautern\, Rheinland-Pfalz\, 67657\, Deutschland
CATEGORIES:Sprechstunde
ATTACH;FMTTYPE=image/jpeg:https://gruebentaelchen.de/wp-content/uploads/2023/03/Andreas-Philipp-Breier.jpg
END:VEVENT
BEGIN:VEVENT
DTSTART;TZID=Europe/Berlin:20231221T130000
DTEND;TZID=Europe/Berlin:20231221T140000
DTSTAMP:20260423T213909
CREATED:20230331T193914Z
LAST-MODIFIED:20251203T134920Z
UID:10008965-1703163600-1703167200@gruebentaelchen.de
SUMMARY:MobilitÃ¤tstraining
DESCRIPTION:Zeit fÃ¼r Bewegung â€“ weilâ€™s mir gut tut!\nMobilitÃ¤tstraining im GrÃ¼bentÃ¤lchen\nMachen Sie mit bei Ãœbungen\, die gut fÃ¼r die Gesundheit sind und SpaÃŸ und Freude an der Bewegung vermitteln. Wichtige Muskelgruppen\, die die WirbelsÃ¤ule aufrichten\, werden gekrÃ¤ftigt und die in der Tiefe liegenden Muskeln trainiert. Musik\, die gute Laune macht\, begleitet das Programm. \nJeden donnerstags von 13:00 â€“ 14:00 Uhr\,\nVeranstaltungsraum der Gemeinschaftsunterkunft fÃ¼r ukrainisch GeflÃ¼chtete\, Mennonitenstr. 28 (ehemals Zoar-Alten- und Pflegeheim) \nUnser Angebot ist kostenlos und ganz in Ihrer NÃ¤he. Sie kÃ¶nnen in bequemer Alltagskleidung kommen. Alle Termine kÃ¶nnen unabhÃ¤ngig voneinander und ohne Voranmeldung besucht werden. Und Sie lernen nette Menschen kennenâ€¦ \nDas MobilitÃ¤tstraining wird durchgefÃ¼hrt vonÂ  Jennifer HÃ¶ning\, Physiotherapeutin und Bewegungsmanagerin der Stadt Kaiserslautern der Landesinitiative â€žRheinland-Pfalz â€“ Land in Bewegungâ€œ.
URL:https://gruebentaelchen.de/termine/mobilitaetstraining-2/2023-12-21/
LOCATION:MennonitenstraÃŸe 28
CATEGORIES:Sport
ATTACH;FMTTYPE=image/jpeg:https://gruebentaelchen.de/wp-content/uploads/2023/03/Mobilitaestraining-1.jpg
END:VEVENT
BEGIN:VEVENT
DTSTART;VALUE=DATE:20231227
DTEND;VALUE=DATE:20231230
DTSTAMP:20260423T213909
CREATED:20231105T210328Z
LAST-MODIFIED:20231105T210328Z
UID:10002908-1703635200-1703894399@gruebentaelchen.de
SUMMARY:StadtteilbÃ¼ro geschlossen
DESCRIPTION:
URL:https://gruebentaelchen.de/termine/stadtteilbuero-geschlossen/
LOCATION:Rheinland-Pfalz
END:VEVENT
BEGIN:VEVENT
DTSTART;TZID=Europe/Berlin:20231228T130000
DTEND;TZID=Europe/Berlin:20231228T140000
DTSTAMP:20260423T213909
CREATED:20230331T193914Z
LAST-MODIFIED:20251203T134920Z
UID:10008966-1703768400-1703772000@gruebentaelchen.de
SUMMARY:MobilitÃ¤tstraining
DESCRIPTION:Zeit fÃ¼r Bewegung â€“ weilâ€™s mir gut tut!\nMobilitÃ¤tstraining im GrÃ¼bentÃ¤lchen\nMachen Sie mit bei Ãœbungen\, die gut fÃ¼r die Gesundheit sind und SpaÃŸ und Freude an der Bewegung vermitteln. Wichtige Muskelgruppen\, die die WirbelsÃ¤ule aufrichten\, werden gekrÃ¤ftigt und die in der Tiefe liegenden Muskeln trainiert. Musik\, die gute Laune macht\, begleitet das Programm. \nJeden donnerstags von 13:00 â€“ 14:00 Uhr\,\nVeranstaltungsraum der Gemeinschaftsunterkunft fÃ¼r ukrainisch GeflÃ¼chtete\, Mennonitenstr. 28 (ehemals Zoar-Alten- und Pflegeheim) \nUnser Angebot ist kostenlos und ganz in Ihrer NÃ¤he. Sie kÃ¶nnen in bequemer Alltagskleidung kommen. Alle Termine kÃ¶nnen unabhÃ¤ngig voneinander und ohne Voranmeldung besucht werden. Und Sie lernen nette Menschen kennenâ€¦ \nDas MobilitÃ¤tstraining wird durchgefÃ¼hrt vonÂ  Jennifer HÃ¶ning\, Physiotherapeutin und Bewegungsmanagerin der Stadt Kaiserslautern der Landesinitiative â€žRheinland-Pfalz â€“ Land in Bewegungâ€œ.
URL:https://gruebentaelchen.de/termine/mobilitaetstraining-2/2023-12-28/
LOCATION:MennonitenstraÃŸe 28
CATEGORIES:Sport
ATTACH;FMTTYPE=image/jpeg:https://gruebentaelchen.de/wp-content/uploads/2023/03/Mobilitaestraining-1.jpg
END:VEVENT
END:VCALENDAR