BEGIN:VCALENDAR
VERSION:2.0
PRODID:-//StadtteilbÃ¼ro GrÃ¼bentÃ¤lchen - ECPv6.15.20//NONSGML v1.0//EN
CALSCALE:GREGORIAN
METHOD:PUBLISH
X-ORIGINAL-URL:https://gruebentaelchen.de
X-WR-CALDESC:Veranstaltungen fÃ¼r StadtteilbÃ¼ro GrÃ¼bentÃ¤lchen
REFRESH-INTERVAL;VALUE=DURATION:PT1H
X-Robots-Tag:noindex
X-PUBLISHED-TTL:PT1H
BEGIN:VTIMEZONE
TZID:Europe/Berlin
BEGIN:DAYLIGHT
TZOFFSETFROM:+0100
TZOFFSETTO:+0200
TZNAME:CEST
DTSTART:20230326T010000
END:DAYLIGHT
BEGIN:STANDARD
TZOFFSETFROM:+0200
TZOFFSETTO:+0100
TZNAME:CET
DTSTART:20231029T010000
END:STANDARD
BEGIN:DAYLIGHT
TZOFFSETFROM:+0100
TZOFFSETTO:+0200
TZNAME:CEST
DTSTART:20240331T010000
END:DAYLIGHT
BEGIN:STANDARD
TZOFFSETFROM:+0200
TZOFFSETTO:+0100
TZNAME:CET
DTSTART:20241027T010000
END:STANDARD
BEGIN:DAYLIGHT
TZOFFSETFROM:+0100
TZOFFSETTO:+0200
TZNAME:CEST
DTSTART:20250330T010000
END:DAYLIGHT
BEGIN:STANDARD
TZOFFSETFROM:+0200
TZOFFSETTO:+0100
TZNAME:CET
DTSTART:20251026T010000
END:STANDARD
END:VTIMEZONE
BEGIN:VEVENT
DTSTART;TZID=Europe/Berlin:20241105T150000
DTEND;TZID=Europe/Berlin:20241105T170000
DTSTAMP:20260425T151950
CREATED:20230326T204115Z
LAST-MODIFIED:20251203T133352Z
UID:10003184-1730818800-1730826000@gruebentaelchen.de
SUMMARY:Digitales CafÃ©
DESCRIPTION:Digitales CafÃ©\n  \nEin kostenloses Angebot fÃ¼r Seniorinnen und Senioren â€“ Sie haben Fragen im Umgang mit Smartphone\, Tablet\, Laptop und Co? Ein Team von Freiwilligen hilft Ihnen bei Ihren Fragen in gemÃ¼tlicher Runde bei Kaffee\, Tee und GebÃ¤ck. \nJeden 1. Dienstag im Monat von 15:00 â€“ 17:00 Uhr in gemÃ¼tlicher Runde bei Kaffee\, Tee und GebÃ¤ck! Sie kÃ¶nnen auch gerne eine Einzelsprechstunde vereinbaren.
URL:https://gruebentaelchen.de/termine/digitale-hilfe/2024-11-05/
LOCATION:StadtteilbÃ¼ro GrÃ¼bentÃ¤lchen\, FriedenstraÃŸe 118\, Kaiserslautern\, Rheinland-Pfalz\, 67657\, Deutschland
CATEGORIES:Veranstaltung
ATTACH;FMTTYPE=image/jpeg:https://gruebentaelchen.de/wp-content/uploads/2023/03/Digitale-Hilfen.jpg
END:VEVENT
BEGIN:VEVENT
DTSTART;TZID=Europe/Berlin:20241106T110000
DTEND;TZID=Europe/Berlin:20241106T123000
DTSTAMP:20260425T151950
CREATED:20230326T204725Z
LAST-MODIFIED:20260205T195711Z
UID:10003363-1730890800-1730896200@gruebentaelchen.de
SUMMARY:Sprechstunde des Betreuungsvereins DRK
DESCRIPTION:Jeden 1. Mittwoch im Monat von 11:00 â€“ 12:30 Uhr \nkostenloses Beratungsangebot des Betreuungsvereins DRK Kaiserslautern \n  \nBetreuungsvereine\nIn derÂ  Stadt Kaiserslautern finden Sie 4 Betreuungsvereine. Diese sind bei derÂ  Arbeiterwohlfahrt\, der Lebenshilfe\, dem Sozialdienst katholischer MÃ¤nner und Frauen undÂ  dem Deutschen Roten Kreuz zu finden. \nDieÂ  Betreuungsvereine informieren und beraten Sie kostenlos zu den Themen Vorsorgevollmacht und PatientenverfÃ¼gung.Â  Weiterhin sind sie zustÃ¤ndig fÃ¼r die GewinnungÂ  ehrenamtlicher Betreuer*innen. Diese werden im Vorfeld Ã¼ber ihre Arbeit aufgeklÃ¤rt\, geschult und erhalten wÃ¤hrend ihrer TÃ¤tigkeit UnterstÃ¼tzung und Hilfestellung bei allen Fragen rund um die gesetzliche Betreuung. RegelmÃ¤ÃŸig werden von den Betreuungsvereinen Treffen zum Austausch und zur Fortbildung fÃ¼r ehrenamtlichen Betreuer*innen angeboten. \nSo finden Sie die Betreuungsvereine: \nAWOÂ Â Â \nSchumannstraÃŸe 1\, Kaiserslautern\nTelefon 0631 â€“ 89 23 119 \nDRK\nBarbarossastraÃŸe 27\, Kaiserslautern\nTelefon 0631 â€“ 800 93 184 \nLebenshilfe\nPariserstraÃŸe 18. Kaiserslautern\nTelefon 0631 â€“ 414 70 789 \nSKFM\nKlosterstr. 6\, Kaiserslautern\nTelefon 0631 â€“ 361 25 310
URL:https://gruebentaelchen.de/termine/sprechstunde-der-betreuungsvereine/2024-11-06/
LOCATION:Rheinland-Pfalz
CATEGORIES:Beratung
ATTACH;FMTTYPE=image/jpeg:https://gruebentaelchen.de/wp-content/uploads/2023/02/Betreeungsvereine-Kaiserslautern.jpg
END:VEVENT
BEGIN:VEVENT
DTSTART;TZID=Europe/Berlin:20241106T140000
DTEND;TZID=Europe/Berlin:20241106T160000
DTSTAMP:20260425T151950
CREATED:20240102T003714Z
LAST-MODIFIED:20251124T143038Z
UID:10004159-1730901600-1730908800@gruebentaelchen.de
SUMMARY:Ãœbersetzungshilfe Arabisch-Deutsch
DESCRIPTION:Das StadtteilbuÌˆro GruÌˆbentÃ¤lchen bietet kostenlose Ãœbersetzungshilfe fuÌˆr Arabisch â€“ Deutsch an. \nJeden Mittwoch ist von 14:00 â€“ 16:00 Uhr ein Dolmetscher fuÌˆr Arabisch vor Ort\, der kostenlos bei der Ãœbersetzung von Unterlagen hilft. Eine Beglaubigung der Unterlagen ist nicht mÃ¶glich. Individuelle Termine kÃ¶nnen auch nach Bedarf ausgemacht werden.
URL:https://gruebentaelchen.de/termine/uebersetzungshilfe-arabisch-deutsch/2024-11-06/
LOCATION:StadtteilbÃ¼ro GrÃ¼bentÃ¤lchen\, FriedenstraÃŸe 118\, Kaiserslautern\, Rheinland-Pfalz\, 67657\, Deutschland
CATEGORIES:Beratung
END:VEVENT
BEGIN:VEVENT
DTSTART;TZID=Europe/Berlin:20241106T180000
DTEND;TZID=Europe/Berlin:20241106T190000
DTSTAMP:20260425T151950
CREATED:20240906T161336Z
LAST-MODIFIED:20251203T134437Z
UID:10004678-1730916000-1730919600@gruebentaelchen.de
SUMMARY:Bewegung fÃ¼r Alle
DESCRIPTION:Gemeinsam bewegen und SpaÃŸ haben!\n\nDas Angebot wird von einem Physiotherapeuten Filippo La Spina durchgefÃ¼hrt.\nKeine Vorkenntnisse notwendig.\nKommen Sie in bequemer Alltagskleidung.\nDie Teilnahme ist kostenfrei.\nAlle Termine kÃ¶nnen unabhÃ¤ngig voneinander besucht werden.\n\nSie haben Fragen? Melden Sie sich gerne im StadteilbÃ¼ro GrÃ¼bentÃ¤lchen.
URL:https://gruebentaelchen.de/termine/bewegung-fuer-alle-3-2/2024-11-06/
LOCATION:Turnsaal der Kita Mobile\, Asternweg 61\, Kaiserslautern\, Rheinland-Pfalz\, 67657\, Deutschland
CATEGORIES:Sport
ATTACH;FMTTYPE=image/jpeg:https://gruebentaelchen.de/wp-content/uploads/2024/09/IMG_1418.jpeg
END:VEVENT
BEGIN:VEVENT
DTSTART;TZID=Europe/Berlin:20241107T130000
DTEND;TZID=Europe/Berlin:20241107T140000
DTSTAMP:20260425T151950
CREATED:20230331T193914Z
LAST-MODIFIED:20251203T134920Z
UID:10009011-1730984400-1730988000@gruebentaelchen.de
SUMMARY:MobilitÃ¤tstraining
DESCRIPTION:Zeit fÃ¼r Bewegung â€“ weilâ€™s mir gut tut!\nMobilitÃ¤tstraining im GrÃ¼bentÃ¤lchen\nMachen Sie mit bei Ãœbungen\, die gut fÃ¼r die Gesundheit sind und SpaÃŸ und Freude an der Bewegung vermitteln. Wichtige Muskelgruppen\, die die WirbelsÃ¤ule aufrichten\, werden gekrÃ¤ftigt und die in der Tiefe liegenden Muskeln trainiert. Musik\, die gute Laune macht\, begleitet das Programm. \nJeden donnerstags von 13:00 â€“ 14:00 Uhr\,\nVeranstaltungsraum der Gemeinschaftsunterkunft fÃ¼r ukrainisch GeflÃ¼chtete\, Mennonitenstr. 28 (ehemals Zoar-Alten- und Pflegeheim) \nUnser Angebot ist kostenlos und ganz in Ihrer NÃ¤he. Sie kÃ¶nnen in bequemer Alltagskleidung kommen. Alle Termine kÃ¶nnen unabhÃ¤ngig voneinander und ohne Voranmeldung besucht werden. Und Sie lernen nette Menschen kennenâ€¦ \nDas MobilitÃ¤tstraining wird durchgefÃ¼hrt vonÂ  Jennifer HÃ¶ning\, Physiotherapeutin und Bewegungsmanagerin der Stadt Kaiserslautern der Landesinitiative â€žRheinland-Pfalz â€“ Land in Bewegungâ€œ.
URL:https://gruebentaelchen.de/termine/mobilitaetstraining-2/2024-11-07/
LOCATION:MennonitenstraÃŸe 28
CATEGORIES:Sport
ATTACH;FMTTYPE=image/jpeg:https://gruebentaelchen.de/wp-content/uploads/2023/03/Mobilitaestraining-1.jpg
END:VEVENT
BEGIN:VEVENT
DTSTART;TZID=Europe/Berlin:20241112T140000
DTEND;TZID=Europe/Berlin:20241112T160000
DTSTAMP:20260425T151950
CREATED:20231212T171849Z
LAST-MODIFIED:20231212T171849Z
UID:10003244-1731420000-1731427200@gruebentaelchen.de
SUMMARY:Handarbeitstreff
DESCRIPTION:Seit Februar 2017 trifft sich jeden 2. und 4. Dienstag im Monat um 14 Uhr eine Gruppe von BÃ¼rgerIinnen\, die Lust haben\, gemeinsam zu stricken und zu hÃ¤keln\, zum Handarbeitstreff. Dabei entstehen in netter Gemeinschaft TÃ¼cher\, Schals\, StrÃ¼mpfe\, Kinderdecken und weitere Projekte. Der Phantasie wird freien Lauf gelassen und neue Farben sowie Muster werden ausprobiert. Jeder arbeitet an seinem eigenen Projekt\, auf das er Lust hat\, aber es gibt auch gegenseitige Tipps und UnterstÃ¼tzung. \nAlle BewohnerInnen des GrÃ¼bentÃ¤lchens sind herzlich zum Mitmachen eingeladen! Nach MÃ¶glichkeit sollte bitte jede TeilnehmerIn eigene Handarbeitsutensilien mitbringen. \nDie Teilnahme ist kostenlos. \nDer Handarbeitstreff findet in der BegegnungsstÃ¤tte der Siedler und Eigenheimer â€žIm GrÃ¼bentÃ¤lchenâ€œ e. V. \, SchreberstraÃŸe 1\, statt.\nKontakt Ã¼ber StadtteilbÃ¼ro GrÃ¼bentÃ¤lchen
URL:https://gruebentaelchen.de/termine/handarbeitstreff-1/2024-11-12/
LOCATION:BegegnungsstÃ¤tte der Siedler- und Eigenheimer &#8222;Im GrÃ¼bentÃ¤lchen&#8220; e.V.\, SchreberstraÃŸe 1\, Kaiserslautern\, Rheinland-Pfalz\, 67657
ATTACH;FMTTYPE=image/jpeg:https://gruebentaelchen.de/wp-content/uploads/2023/02/Handarbeitstreff-jpg.jpg
END:VEVENT
BEGIN:VEVENT
DTSTART;TZID=Europe/Berlin:20241113T100000
DTEND;TZID=Europe/Berlin:20241113T120000
DTSTAMP:20260425T151950
CREATED:20230329T202135Z
LAST-MODIFIED:20240102T000038Z
UID:10003423-1731492000-1731499200@gruebentaelchen.de
SUMMARY:Kostenlose Hilfe und/oder Anleitung bei kleineren NÃ¤harbeiten
DESCRIPTION:Im StadtteilbÃ¼ro wird neuerdings â€žabgesteckt\, anprobiert\, gebÃ¼gelt und genÃ¤htâ€¦\, aber auch gelacht und gefachsimpeltâ€¦â€œ \nWir bieten UnterstuÌˆtzung an: \nbeim ReiÃŸverschluÌˆsse einsetzen\,\nHosen/RÃ¶cke kuÌˆrzen\,\nNÃ¤hte aufarbeiten\noder anderen kleineren Ã„nderungen\nsowie Vermittlung von Grundkenntnissen /Â Einstieg in Patchworkâ€¦ \nHaben Sie auch kleinere Ã„nderungen an KleidungsstÃ¼cken wie Hosen/RÃ¶cke kÃ¼rzen\, ReiÃŸverschlÃ¼sse einsetzen oder andere kleinere NÃ¤harbeiten\, die Sie gerne unter kundiger Anleitung selbst oder von einer unserer ehrenamtlich Mitarbeitenden vornehmen wollen? \nDann melden Sie sich bei uns im StadtteilbÃ¼ro! Unser kostenloses Angebot gibt es jeden 2. Mittwoch / Monat von 10:00 â€“ 12:00 UhrÂ im StadtteilbÃ¼ro. Spenden sind willlkommen.
URL:https://gruebentaelchen.de/termine/kostenlose-hilfe-und-oder-anleitung-bei-kleineren-naeharbeiten/2024-11-13/
LOCATION:StadtteilbÃ¼ro GrÃ¼bentÃ¤lchen\, FriedenstraÃŸe 118\, Kaiserslautern\, Rheinland-Pfalz\, 67657\, Deutschland
CATEGORIES:Kreatives
ATTACH;FMTTYPE=image/jpeg:https://gruebentaelchen.de/wp-content/uploads/2023/03/Naehhilfe.jpg
END:VEVENT
BEGIN:VEVENT
DTSTART;TZID=Europe/Berlin:20241113T140000
DTEND;TZID=Europe/Berlin:20241113T160000
DTSTAMP:20260425T151950
CREATED:20240102T003714Z
LAST-MODIFIED:20251124T143038Z
UID:10004160-1731506400-1731513600@gruebentaelchen.de
SUMMARY:Ãœbersetzungshilfe Arabisch-Deutsch
DESCRIPTION:Das StadtteilbuÌˆro GruÌˆbentÃ¤lchen bietet kostenlose Ãœbersetzungshilfe fuÌˆr Arabisch â€“ Deutsch an. \nJeden Mittwoch ist von 14:00 â€“ 16:00 Uhr ein Dolmetscher fuÌˆr Arabisch vor Ort\, der kostenlos bei der Ãœbersetzung von Unterlagen hilft. Eine Beglaubigung der Unterlagen ist nicht mÃ¶glich. Individuelle Termine kÃ¶nnen auch nach Bedarf ausgemacht werden.
URL:https://gruebentaelchen.de/termine/uebersetzungshilfe-arabisch-deutsch/2024-11-13/
LOCATION:StadtteilbÃ¼ro GrÃ¼bentÃ¤lchen\, FriedenstraÃŸe 118\, Kaiserslautern\, Rheinland-Pfalz\, 67657\, Deutschland
CATEGORIES:Beratung
END:VEVENT
BEGIN:VEVENT
DTSTART;TZID=Europe/Berlin:20241113T180000
DTEND;TZID=Europe/Berlin:20241113T190000
DTSTAMP:20260425T151950
CREATED:20240906T161336Z
LAST-MODIFIED:20251203T134437Z
UID:10004679-1731520800-1731524400@gruebentaelchen.de
SUMMARY:Bewegung fÃ¼r Alle
DESCRIPTION:Gemeinsam bewegen und SpaÃŸ haben!\n\nDas Angebot wird von einem Physiotherapeuten Filippo La Spina durchgefÃ¼hrt.\nKeine Vorkenntnisse notwendig.\nKommen Sie in bequemer Alltagskleidung.\nDie Teilnahme ist kostenfrei.\nAlle Termine kÃ¶nnen unabhÃ¤ngig voneinander besucht werden.\n\nSie haben Fragen? Melden Sie sich gerne im StadteilbÃ¼ro GrÃ¼bentÃ¤lchen.
URL:https://gruebentaelchen.de/termine/bewegung-fuer-alle-3-2/2024-11-13/
LOCATION:Turnsaal der Kita Mobile\, Asternweg 61\, Kaiserslautern\, Rheinland-Pfalz\, 67657\, Deutschland
CATEGORIES:Sport
ATTACH;FMTTYPE=image/jpeg:https://gruebentaelchen.de/wp-content/uploads/2024/09/IMG_1418.jpeg
END:VEVENT
BEGIN:VEVENT
DTSTART;TZID=Europe/Berlin:20241114T103000
DTEND;TZID=Europe/Berlin:20241114T120000
DTSTAMP:20260425T151950
CREATED:20240125T171940Z
LAST-MODIFIED:20251120T104545Z
UID:10004512-1731580200-1731585600@gruebentaelchen.de
SUMMARY:Sprechstunde der Seniorenberaterin
DESCRIPTION:jeden 2. Donnerstag im Monat von 10:30 â€“ 12:00 Uhr \nSprechstunde derÂ Seniorenberaterin Margit Walg-Joyce
URL:https://gruebentaelchen.de/termine/sprechstunde-der-seniorenberaterin-2/2024-11-14/
LOCATION:StadtteilbÃ¼ro GrÃ¼bentÃ¤lchen\, FriedenstraÃŸe 118\, Kaiserslautern\, Rheinland-Pfalz\, 67657\, Deutschland
ATTACH;FMTTYPE=image/jpeg:https://gruebentaelchen.de/wp-content/uploads/2023/03/Sprechstunde-Seniorenberaterin.jpg
END:VEVENT
BEGIN:VEVENT
DTSTART;TZID=Europe/Berlin:20241114T130000
DTEND;TZID=Europe/Berlin:20241114T140000
DTSTAMP:20260425T151950
CREATED:20230331T193914Z
LAST-MODIFIED:20251203T134920Z
UID:10009012-1731589200-1731592800@gruebentaelchen.de
SUMMARY:MobilitÃ¤tstraining
DESCRIPTION:Zeit fÃ¼r Bewegung â€“ weilâ€™s mir gut tut!\nMobilitÃ¤tstraining im GrÃ¼bentÃ¤lchen\nMachen Sie mit bei Ãœbungen\, die gut fÃ¼r die Gesundheit sind und SpaÃŸ und Freude an der Bewegung vermitteln. Wichtige Muskelgruppen\, die die WirbelsÃ¤ule aufrichten\, werden gekrÃ¤ftigt und die in der Tiefe liegenden Muskeln trainiert. Musik\, die gute Laune macht\, begleitet das Programm. \nJeden donnerstags von 13:00 â€“ 14:00 Uhr\,\nVeranstaltungsraum der Gemeinschaftsunterkunft fÃ¼r ukrainisch GeflÃ¼chtete\, Mennonitenstr. 28 (ehemals Zoar-Alten- und Pflegeheim) \nUnser Angebot ist kostenlos und ganz in Ihrer NÃ¤he. Sie kÃ¶nnen in bequemer Alltagskleidung kommen. Alle Termine kÃ¶nnen unabhÃ¤ngig voneinander und ohne Voranmeldung besucht werden. Und Sie lernen nette Menschen kennenâ€¦ \nDas MobilitÃ¤tstraining wird durchgefÃ¼hrt vonÂ  Jennifer HÃ¶ning\, Physiotherapeutin und Bewegungsmanagerin der Stadt Kaiserslautern der Landesinitiative â€žRheinland-Pfalz â€“ Land in Bewegungâ€œ.
URL:https://gruebentaelchen.de/termine/mobilitaetstraining-2/2024-11-14/
LOCATION:MennonitenstraÃŸe 28
CATEGORIES:Sport
ATTACH;FMTTYPE=image/jpeg:https://gruebentaelchen.de/wp-content/uploads/2023/03/Mobilitaestraining-1.jpg
END:VEVENT
BEGIN:VEVENT
DTSTART;TZID=Europe/Berlin:20241114T150000
DTEND;TZID=Europe/Berlin:20241114T160000
DTSTAMP:20260425T151950
CREATED:20240123T161306Z
LAST-MODIFIED:20251203T135800Z
UID:10004384-1731596400-1731600000@gruebentaelchen.de
SUMMARY:Singkreis
DESCRIPTION:  \nSingen in Gemeinschaft schÃ¼ttet GlÃ¼ckshormone aus\, fÃ¶rdert KreativitÃ¤t und KonzentrationsfÃ¤higkeit. Auch SprachgefÃ¼hl und Wortschatz werden trainiert. \nKommen Sie vorbei und Â lassen Sie uns gemeinsam Volkslieder und Schlager singen!
URL:https://gruebentaelchen.de/termine/singkreis-3-2/2024-11-14/
LOCATION:StadtteilbÃ¼ro GrÃ¼bentÃ¤lchen\, FriedenstraÃŸe 118\, Kaiserslautern\, Rheinland-Pfalz\, 67657\, Deutschland
CATEGORIES:Veranstaltung
ATTACH;FMTTYPE=image/png:https://gruebentaelchen.de/wp-content/uploads/2023/12/2023-11-29-Flyerlang-Stadtteilbuero_Singkreis-1.png
END:VEVENT
BEGIN:VEVENT
DTSTART;TZID=Europe/Berlin:20241115T080000
DTEND;TZID=Europe/Berlin:20241115T170000
DTSTAMP:20260425T151950
CREATED:20230705T075103Z
LAST-MODIFIED:20241114T133552Z
UID:10002864-1731657600-1731690000@gruebentaelchen.de
SUMMARY:Vorlesetag
DESCRIPTION:Zusammen mit der VHS (Volkshochschule) Kaiserslautern laden wir zum diesjÃ¤hrigen Vorlesetag in die Friedenskapelle ein. Unter dem Motto â€žAbenteuer und Fantasieâ€œ erwartet die BesucherInnen ein vielfÃ¤ltiges Programm\, das Kinder und Erwachsene gleichermaÃŸen begeistert.\nUm 17:00 Uhr startet die Lesung fÃ¼r Kinder ab 5 Jahren. Die Vorleserinnen Angelika Schwarz und Iggi Weber nehmen die Kinder mit auf eine Reise durch beliebte Geschichten von Autoren wie Janosch und Astrid Lindgren bis hin zur â€žDie Schule der magischen Tiereâ€œ. Diese liebevoll ausgewÃ¤hlten ErzÃ¤hlungen laden ein zum Staunen\, Lachen und Mitfiebern und lassen die Fantasie der Kinder sprÃ¼hen.\nUm 19:30 Uhr folgt die Lesung fÃ¼r Erwachsene: Die in Kaiserslautern bekannte Schauspielerin Barbara Seeliger liest aus Walter Moersâ€˜ fantasievollem Meisterwerk â€žDie 13 Â½ Leben des KÃ¤ptâ€˜n BlaubÃ¤r. Dieses Buch\, das mit klassischen Kinderbuchidyllen wenig gemein hat\, entfÃ¼hrt in die skurrile Welt des fiktiven Kontinents Zamonien. Â Hier jagt Moers seinen Helden KÃ¤tptâ€™n BlaubÃ¤r von einer Gefahr in die nÃ¤chste und prÃ¤sentiert ein Abenteuer\, das humorvoll\, einzigartig uns voll fantastischer KreativitÃ¤t ist. \nDie Teilnahme an allen Veranstaltungen ist kostenlos. Alle teilnehmenden Institutionen freuen sich Ã¼ber regen Besuch!
URL:https://gruebentaelchen.de/termine/vorlesetag/
LOCATION:Rheinland-Pfalz
CATEGORIES:Veranstaltung
ATTACH;FMTTYPE=image/jpeg:https://gruebentaelchen.de/wp-content/uploads/2023/07/Friedenskappele.jpg
END:VEVENT
BEGIN:VEVENT
DTSTART;TZID=Europe/Berlin:20241120T140000
DTEND;TZID=Europe/Berlin:20241120T160000
DTSTAMP:20260425T151950
CREATED:20240102T003714Z
LAST-MODIFIED:20251124T143038Z
UID:10004161-1732111200-1732118400@gruebentaelchen.de
SUMMARY:Ãœbersetzungshilfe Arabisch-Deutsch
DESCRIPTION:Das StadtteilbuÌˆro GruÌˆbentÃ¤lchen bietet kostenlose Ãœbersetzungshilfe fuÌˆr Arabisch â€“ Deutsch an. \nJeden Mittwoch ist von 14:00 â€“ 16:00 Uhr ein Dolmetscher fuÌˆr Arabisch vor Ort\, der kostenlos bei der Ãœbersetzung von Unterlagen hilft. Eine Beglaubigung der Unterlagen ist nicht mÃ¶glich. Individuelle Termine kÃ¶nnen auch nach Bedarf ausgemacht werden.
URL:https://gruebentaelchen.de/termine/uebersetzungshilfe-arabisch-deutsch/2024-11-20/
LOCATION:StadtteilbÃ¼ro GrÃ¼bentÃ¤lchen\, FriedenstraÃŸe 118\, Kaiserslautern\, Rheinland-Pfalz\, 67657\, Deutschland
CATEGORIES:Beratung
END:VEVENT
BEGIN:VEVENT
DTSTART;TZID=Europe/Berlin:20241120T140000
DTEND;TZID=Europe/Berlin:20241120T160000
DTSTAMP:20260425T151950
CREATED:20241106T140737Z
LAST-MODIFIED:20241119T145809Z
UID:10005053-1732111200-1732118400@gruebentaelchen.de
SUMMARY:Digitaler Engel
DESCRIPTION:Eine vom Bundesministerium fÃ¼r Familie\, Senioren\, Frauen und Jugend (BMFSFJ) gefÃ¶rderte Informationsveranstaltung\, die sich an Ã¤ltere Menschen richtet\, die digitale Kompetenzen erwerben wollen\, um in der Online-Welt sicher zu agieren. \nEine Digital-Expertin wird eine EinfÃ¼hrung in die Grundlagen von Smartphone und Tablet geben und aufkommende Fragen der Teilnehmenden beantworten.
URL:https://gruebentaelchen.de/termine/digitaler-engel/
LOCATION:Nils-Wohnen im Quartier\, Friedenstr. 63\, kaisesrslautern\, RheinlandPfalz\, 67657\, Germany
ATTACH;FMTTYPE=image/jpeg:https://gruebentaelchen.de/wp-content/uploads/2024/11/IMG_9756.jpg
END:VEVENT
BEGIN:VEVENT
DTSTART;TZID=Europe/Berlin:20241120T180000
DTEND;TZID=Europe/Berlin:20241120T190000
DTSTAMP:20260425T151950
CREATED:20240906T161336Z
LAST-MODIFIED:20251203T134437Z
UID:10004680-1732125600-1732129200@gruebentaelchen.de
SUMMARY:Bewegung fÃ¼r Alle
DESCRIPTION:Gemeinsam bewegen und SpaÃŸ haben!\n\nDas Angebot wird von einem Physiotherapeuten Filippo La Spina durchgefÃ¼hrt.\nKeine Vorkenntnisse notwendig.\nKommen Sie in bequemer Alltagskleidung.\nDie Teilnahme ist kostenfrei.\nAlle Termine kÃ¶nnen unabhÃ¤ngig voneinander besucht werden.\n\nSie haben Fragen? Melden Sie sich gerne im StadteilbÃ¼ro GrÃ¼bentÃ¤lchen.
URL:https://gruebentaelchen.de/termine/bewegung-fuer-alle-3-2/2024-11-20/
LOCATION:Turnsaal der Kita Mobile\, Asternweg 61\, Kaiserslautern\, Rheinland-Pfalz\, 67657\, Deutschland
CATEGORIES:Sport
ATTACH;FMTTYPE=image/jpeg:https://gruebentaelchen.de/wp-content/uploads/2024/09/IMG_1418.jpeg
END:VEVENT
BEGIN:VEVENT
DTSTART;TZID=Europe/Berlin:20241121T130000
DTEND;TZID=Europe/Berlin:20241121T140000
DTSTAMP:20260425T151950
CREATED:20230331T193914Z
LAST-MODIFIED:20251203T134920Z
UID:10009013-1732194000-1732197600@gruebentaelchen.de
SUMMARY:MobilitÃ¤tstraining
DESCRIPTION:Zeit fÃ¼r Bewegung â€“ weilâ€™s mir gut tut!\nMobilitÃ¤tstraining im GrÃ¼bentÃ¤lchen\nMachen Sie mit bei Ãœbungen\, die gut fÃ¼r die Gesundheit sind und SpaÃŸ und Freude an der Bewegung vermitteln. Wichtige Muskelgruppen\, die die WirbelsÃ¤ule aufrichten\, werden gekrÃ¤ftigt und die in der Tiefe liegenden Muskeln trainiert. Musik\, die gute Laune macht\, begleitet das Programm. \nJeden donnerstags von 13:00 â€“ 14:00 Uhr\,\nVeranstaltungsraum der Gemeinschaftsunterkunft fÃ¼r ukrainisch GeflÃ¼chtete\, Mennonitenstr. 28 (ehemals Zoar-Alten- und Pflegeheim) \nUnser Angebot ist kostenlos und ganz in Ihrer NÃ¤he. Sie kÃ¶nnen in bequemer Alltagskleidung kommen. Alle Termine kÃ¶nnen unabhÃ¤ngig voneinander und ohne Voranmeldung besucht werden. Und Sie lernen nette Menschen kennenâ€¦ \nDas MobilitÃ¤tstraining wird durchgefÃ¼hrt vonÂ  Jennifer HÃ¶ning\, Physiotherapeutin und Bewegungsmanagerin der Stadt Kaiserslautern der Landesinitiative â€žRheinland-Pfalz â€“ Land in Bewegungâ€œ.
URL:https://gruebentaelchen.de/termine/mobilitaetstraining-2/2024-11-21/
LOCATION:MennonitenstraÃŸe 28
CATEGORIES:Sport
ATTACH;FMTTYPE=image/jpeg:https://gruebentaelchen.de/wp-content/uploads/2023/03/Mobilitaestraining-1.jpg
END:VEVENT
BEGIN:VEVENT
DTSTART;TZID=Europe/Berlin:20241123T080000
DTEND;TZID=Europe/Berlin:20241123T170000
DTSTAMP:20260425T151950
CREATED:20240906T163049Z
LAST-MODIFIED:20240906T163307Z
UID:10005046-1732348800-1732381200@gruebentaelchen.de
SUMMARY:WeihnachtsplÃ¤tzchen backen
DESCRIPTION:in Kooperation mit den Siedlern und Eigenheimern\,\ngefÃ¶rdert vom GKV-BÃ¼ndnis fÃ¼r Gesundheit
URL:https://gruebentaelchen.de/termine/weihnachtsplaetzchen-backen/
LOCATION:Rheinland-Pfalz
CATEGORIES:Kreatives
ATTACH;FMTTYPE=image/jpeg:https://gruebentaelchen.de/wp-content/uploads/2024/09/Weihnachtsplaetchen_backen.jpg
END:VEVENT
BEGIN:VEVENT
DTSTART;TZID=Europe/Berlin:20241126T140000
DTEND;TZID=Europe/Berlin:20241126T160000
DTSTAMP:20260425T151950
CREATED:20231212T172354Z
LAST-MODIFIED:20251124T142723Z
UID:10003304-1732629600-1732636800@gruebentaelchen.de
SUMMARY:Handarbeitstreff
DESCRIPTION:Seit Februar 2017 trifft sich jeden 2. und 4. Dienstag im Monat um 14 Uhr eine Gruppe von BÃ¼rgerIinnen\, die Lust haben\, gemeinsam zu stricken und zu hÃ¤keln\, zum Handarbeitstreff. Dabei entstehen in netter Gemeinschaft TÃ¼cher\, Schals\, StrÃ¼mpfe\, Kinderdecken und weitere Projekte. Der Phantasie wird freien Lauf gelassen und neue Farben sowie Muster werden ausprobiert. Jeder arbeitet an seinem eigenen Projekt\, auf das er Lust hat\, aber es gibt auch gegenseitige Tipps und UnterstÃ¼tzung. \nAlle BewohnerInnen des GrÃ¼bentÃ¤lchens sind herzlich zum Mitmachen eingeladen! Nach MÃ¶glichkeit sollte bitte jede TeilnehmerIn eigene Handarbeitsutensilien mitbringen. \nDie Teilnahme ist kostenlos. \nDer Handarbeitstreff findet in der BegegnungsstÃ¤tte der Siedler und Eigenheimer â€žIm GrÃ¼bentÃ¤lchenâ€œ e. V. \, SchreberstraÃŸe 1\, statt.\nKontakt Ã¼ber StadtteilbÃ¼ro GrÃ¼bentÃ¤lchen
URL:https://gruebentaelchen.de/termine/handarbeitstreff-2/2024-11-26/
LOCATION:BegegnungsstÃ¤tte der Siedler- und Eigenheimer &#8222;Im GrÃ¼bentÃ¤lchen&#8220; e.V.\, SchreberstraÃŸe 1\, Kaiserslautern\, Rheinland-Pfalz\, 67657
ATTACH;FMTTYPE=image/jpeg:https://gruebentaelchen.de/wp-content/uploads/2023/02/Handarbeitstreff-jpg.jpg
END:VEVENT
BEGIN:VEVENT
DTSTART;TZID=Europe/Berlin:20241127T140000
DTEND;TZID=Europe/Berlin:20241127T160000
DTSTAMP:20260425T151950
CREATED:20240102T003714Z
LAST-MODIFIED:20251124T143038Z
UID:10004162-1732716000-1732723200@gruebentaelchen.de
SUMMARY:Ãœbersetzungshilfe Arabisch-Deutsch
DESCRIPTION:Das StadtteilbuÌˆro GruÌˆbentÃ¤lchen bietet kostenlose Ãœbersetzungshilfe fuÌˆr Arabisch â€“ Deutsch an. \nJeden Mittwoch ist von 14:00 â€“ 16:00 Uhr ein Dolmetscher fuÌˆr Arabisch vor Ort\, der kostenlos bei der Ãœbersetzung von Unterlagen hilft. Eine Beglaubigung der Unterlagen ist nicht mÃ¶glich. Individuelle Termine kÃ¶nnen auch nach Bedarf ausgemacht werden.
URL:https://gruebentaelchen.de/termine/uebersetzungshilfe-arabisch-deutsch/2024-11-27/
LOCATION:StadtteilbÃ¼ro GrÃ¼bentÃ¤lchen\, FriedenstraÃŸe 118\, Kaiserslautern\, Rheinland-Pfalz\, 67657\, Deutschland
CATEGORIES:Beratung
END:VEVENT
BEGIN:VEVENT
DTSTART;TZID=Europe/Berlin:20241127T180000
DTEND;TZID=Europe/Berlin:20241127T190000
DTSTAMP:20260425T151950
CREATED:20240906T161336Z
LAST-MODIFIED:20251203T134437Z
UID:10004681-1732730400-1732734000@gruebentaelchen.de
SUMMARY:Bewegung fÃ¼r Alle
DESCRIPTION:Gemeinsam bewegen und SpaÃŸ haben!\n\nDas Angebot wird von einem Physiotherapeuten Filippo La Spina durchgefÃ¼hrt.\nKeine Vorkenntnisse notwendig.\nKommen Sie in bequemer Alltagskleidung.\nDie Teilnahme ist kostenfrei.\nAlle Termine kÃ¶nnen unabhÃ¤ngig voneinander besucht werden.\n\nSie haben Fragen? Melden Sie sich gerne im StadteilbÃ¼ro GrÃ¼bentÃ¤lchen.
URL:https://gruebentaelchen.de/termine/bewegung-fuer-alle-3-2/2024-11-27/
LOCATION:Turnsaal der Kita Mobile\, Asternweg 61\, Kaiserslautern\, Rheinland-Pfalz\, 67657\, Deutschland
CATEGORIES:Sport
ATTACH;FMTTYPE=image/jpeg:https://gruebentaelchen.de/wp-content/uploads/2024/09/IMG_1418.jpeg
END:VEVENT
BEGIN:VEVENT
DTSTART;TZID=Europe/Berlin:20241128T130000
DTEND;TZID=Europe/Berlin:20241128T140000
DTSTAMP:20260425T151950
CREATED:20230331T193914Z
LAST-MODIFIED:20251203T134920Z
UID:10009014-1732798800-1732802400@gruebentaelchen.de
SUMMARY:MobilitÃ¤tstraining
DESCRIPTION:Zeit fÃ¼r Bewegung â€“ weilâ€™s mir gut tut!\nMobilitÃ¤tstraining im GrÃ¼bentÃ¤lchen\nMachen Sie mit bei Ãœbungen\, die gut fÃ¼r die Gesundheit sind und SpaÃŸ und Freude an der Bewegung vermitteln. Wichtige Muskelgruppen\, die die WirbelsÃ¤ule aufrichten\, werden gekrÃ¤ftigt und die in der Tiefe liegenden Muskeln trainiert. Musik\, die gute Laune macht\, begleitet das Programm. \nJeden donnerstags von 13:00 â€“ 14:00 Uhr\,\nVeranstaltungsraum der Gemeinschaftsunterkunft fÃ¼r ukrainisch GeflÃ¼chtete\, Mennonitenstr. 28 (ehemals Zoar-Alten- und Pflegeheim) \nUnser Angebot ist kostenlos und ganz in Ihrer NÃ¤he. Sie kÃ¶nnen in bequemer Alltagskleidung kommen. Alle Termine kÃ¶nnen unabhÃ¤ngig voneinander und ohne Voranmeldung besucht werden. Und Sie lernen nette Menschen kennenâ€¦ \nDas MobilitÃ¤tstraining wird durchgefÃ¼hrt vonÂ  Jennifer HÃ¶ning\, Physiotherapeutin und Bewegungsmanagerin der Stadt Kaiserslautern der Landesinitiative â€žRheinland-Pfalz â€“ Land in Bewegungâ€œ.
URL:https://gruebentaelchen.de/termine/mobilitaetstraining-2/2024-11-28/
LOCATION:MennonitenstraÃŸe 28
CATEGORIES:Sport
ATTACH;FMTTYPE=image/jpeg:https://gruebentaelchen.de/wp-content/uploads/2023/03/Mobilitaestraining-1.jpg
END:VEVENT
BEGIN:VEVENT
DTSTART;TZID=Europe/Berlin:20241129T160000
DTEND;TZID=Europe/Berlin:20241129T180000
DTSTAMP:20260425T151950
CREATED:20240123T161935Z
LAST-MODIFIED:20240324T215110Z
UID:10004445-1732896000-1732903200@gruebentaelchen.de
SUMMARY:Spieletreff mit Jakkolo
DESCRIPTION:Jakkolo im GrÃ¼bentÃ¤lchen\nJeden letzten Freitag im Monat von 16:00 â€“ 18:00 Uhr\nkÃ¶nnen Sie im Rahmen unseres Spieletreffs Jakkolo oder andere Spiele spielen. \nBeim Jakkolo mÃ¼ssen 30 Holzscheiben direkt oder indirekt in vier Boxen\, die mit Punktzeichen gekennzeichnet sind\, gespielt werden. \nAb ca. 9 Jahren kÃ¶nnen alle mit gleichen Chancen spielen\, egal ob Frau oder Mann\, Kinder oder Erwachsener\, Jung oder Alt\, Menschen mit oder ohne Handicap. Es kann im Stehen oder Sitzen gespielt werden. \nMachen Sie mit! Unser Team freut sich auf Ihr Kommen in die BegegnungsstÃ¤tte der Siedler- und Eigenheimer â€žIm GrÃ¼bentÃ¤lchenâ€œ e. V\, SchreberstraÃŸe 1. \nKontakt unter 0631 â€“ 680 316 90
URL:https://gruebentaelchen.de/termine/spieletreff-mit-jakkolo/2024-11-29/
LOCATION:BegegnungsstÃ¤tte der Siedler- und Eigenheimer &#8222;Im GrÃ¼bentÃ¤lchen&#8220; e.V.\, SchreberstraÃŸe 1\, Kaiserslautern\, Rheinland-Pfalz\, 67657
CATEGORIES:Veranstaltung
ATTACH;FMTTYPE=image/jpeg:https://gruebentaelchen.de/wp-content/uploads/2023/07/Plaudercafe-mit-Jakkolo-im-Gruebentaelchen-Kaiserslautern-01.jpg
END:VEVENT
BEGIN:VEVENT
DTSTART;TZID=Europe/Berlin:20241129T170000
DTEND;TZID=Europe/Berlin:20241129T190000
DTSTAMP:20260425T151950
CREATED:20241106T144818Z
LAST-MODIFIED:20241106T144818Z
UID:10005054-1732899600-1732906800@gruebentaelchen.de
SUMMARY:Backofen im Quartier
DESCRIPTION:Die Bau AG lÃ¤dt ein zu â€žGemeinsam backen â€“ Gemeinschaft erlebenâ€œ: Claus Linde von Slow Food PfÃ¤lzerwald wird den Backofen vorstellen wird und es besteht die MÃ¶glichkeit\, selbstgemachte Teige mitzubringen und eigenes Brot zu backen. \nDurch den Verein Slow Food wurde angeregt\, einen Brotbackofen anzuschaffen\, um im Rahmen der StÃ¤dtebaufÃ¶rdermaÃŸnahme Kaiserslautern Ost (Siedlung GrÃ¼bentÃ¤lchen) das aktive Zusammenleben im Quartier zu fÃ¶rdern und die SensibilitÃ¤t fÃ¼r gesunde ErnÃ¤hrungsmittel zu stÃ¤rken.
URL:https://gruebentaelchen.de/termine/backofen-im-quartier/
LOCATION:Nils-Wohnen im Quartrier\, Friedenstr. 63\, Kaiserslautern\, Rheinlandpfalz\, 67657\, Germany
ATTACH;FMTTYPE=image/jpeg:https://gruebentaelchen.de/wp-content/uploads/2024/11/Flyer-1.jpg
END:VEVENT
END:VCALENDAR