BEGIN:VCALENDAR
VERSION:2.0
PRODID:-//StadtteilbÃ¼ro GrÃ¼bentÃ¤lchen - ECPv6.15.20//NONSGML v1.0//EN
CALSCALE:GREGORIAN
METHOD:PUBLISH
X-WR-CALNAME:StadtteilbÃ¼ro GrÃ¼bentÃ¤lchen
X-ORIGINAL-URL:https://gruebentaelchen.de
X-WR-CALDESC:Veranstaltungen fÃ¼r StadtteilbÃ¼ro GrÃ¼bentÃ¤lchen
REFRESH-INTERVAL;VALUE=DURATION:PT1H
X-Robots-Tag:noindex
X-PUBLISHED-TTL:PT1H
BEGIN:VTIMEZONE
TZID:Europe/Berlin
BEGIN:DAYLIGHT
TZOFFSETFROM:+0100
TZOFFSETTO:+0200
TZNAME:CEST
DTSTART:20220327T010000
END:DAYLIGHT
BEGIN:STANDARD
TZOFFSETFROM:+0200
TZOFFSETTO:+0100
TZNAME:CET
DTSTART:20221030T010000
END:STANDARD
BEGIN:DAYLIGHT
TZOFFSETFROM:+0100
TZOFFSETTO:+0200
TZNAME:CEST
DTSTART:20230326T010000
END:DAYLIGHT
BEGIN:STANDARD
TZOFFSETFROM:+0200
TZOFFSETTO:+0100
TZNAME:CET
DTSTART:20231029T010000
END:STANDARD
BEGIN:DAYLIGHT
TZOFFSETFROM:+0100
TZOFFSETTO:+0200
TZNAME:CEST
DTSTART:20240331T010000
END:DAYLIGHT
BEGIN:STANDARD
TZOFFSETFROM:+0200
TZOFFSETTO:+0100
TZNAME:CET
DTSTART:20241027T010000
END:STANDARD
END:VTIMEZONE
BEGIN:VEVENT
DTSTART;TZID=Europe/Berlin:20230502T100000
DTEND;TZID=Europe/Berlin:20230502T120000
DTSTAMP:20260424T172245
CREATED:20230329T203740Z
LAST-MODIFIED:20230412T073802Z
UID:10002633-1683021600-1683028800@gruebentaelchen.de
SUMMARY:Sprechstunde der Seniorenbeirats
DESCRIPTION:1x dienstags im Quartal von 10:00 â€“ 12:00 Uhr \nSprechstunde desÂ Seniorenbeirats
URL:https://gruebentaelchen.de/termine/sprechstunde-der-seniorenbeirats/2023-05-02/
LOCATION:StadtteilbÃ¼ro GrÃ¼bentÃ¤lchen\, FriedenstraÃŸe 118\, Kaiserslautern\, Rheinland-Pfalz\, 67657\, Deutschland
CATEGORIES:Sprechstunde
ATTACH;FMTTYPE=image/jpeg:https://gruebentaelchen.de/wp-content/uploads/2023/02/Plauderkaffee.jpg
END:VEVENT
BEGIN:VEVENT
DTSTART;TZID=Europe/Berlin:20230502T150000
DTEND;TZID=Europe/Berlin:20230502T170000
DTSTAMP:20260424T172245
CREATED:20230326T204115Z
LAST-MODIFIED:20251203T133352Z
UID:10002692-1683039600-1683046800@gruebentaelchen.de
SUMMARY:Digitales CafÃ©
DESCRIPTION:Digitales CafÃ©\n  \nEin kostenloses Angebot fÃ¼r Seniorinnen und Senioren â€“ Sie haben Fragen im Umgang mit Smartphone\, Tablet\, Laptop und Co? Ein Team von Freiwilligen hilft Ihnen bei Ihren Fragen in gemÃ¼tlicher Runde bei Kaffee\, Tee und GebÃ¤ck. \nJeden 1. Dienstag im Monat von 15:00 â€“ 17:00 Uhr in gemÃ¼tlicher Runde bei Kaffee\, Tee und GebÃ¤ck! Sie kÃ¶nnen auch gerne eine Einzelsprechstunde vereinbaren.
URL:https://gruebentaelchen.de/termine/digitale-hilfe/2023-05-02/
LOCATION:StadtteilbÃ¼ro GrÃ¼bentÃ¤lchen\, FriedenstraÃŸe 118\, Kaiserslautern\, Rheinland-Pfalz\, 67657\, Deutschland
CATEGORIES:Veranstaltung
ATTACH;FMTTYPE=image/jpeg:https://gruebentaelchen.de/wp-content/uploads/2023/03/Digitale-Hilfen.jpg
END:VEVENT
BEGIN:VEVENT
DTSTART;TZID=Europe/Berlin:20230503T100000
DTEND;TZID=Europe/Berlin:20230523T180000
DTSTAMP:20260424T172245
CREATED:20230331T193453Z
LAST-MODIFIED:20230405T072422Z
UID:10002700-1683108000-1684864800@gruebentaelchen.de
SUMMARY:Stadtradeln Team GrÃ¼bentÃ¤lchen
DESCRIPTION:Vom 3. Mai bis 23. Mai:\nDas StadtteilbÃ¼ro wird wieder ein eigenes Team anmelden und freut sich Ã¼ber viele Mitradelnde. \nInfos im StadtteilbÃ¼ro.
URL:https://gruebentaelchen.de/termine/stadtradeln-team-gruebentaelchen/
LOCATION:StadtteilbÃ¼ro GrÃ¼bentÃ¤lchen\, FriedenstraÃŸe 118\, Kaiserslautern\, Rheinland-Pfalz\, 67657\, Deutschland
CATEGORIES:Sport
ATTACH;FMTTYPE=image/jpeg:https://gruebentaelchen.de/wp-content/uploads/2023/03/Stadtradeln.jpg
END:VEVENT
BEGIN:VEVENT
DTSTART;TZID=Europe/Berlin:20230503T110000
DTEND;TZID=Europe/Berlin:20230503T123000
DTSTAMP:20260424T172245
CREATED:20230326T204725Z
LAST-MODIFIED:20260205T195711Z
UID:10002588-1683111600-1683117000@gruebentaelchen.de
SUMMARY:Sprechstunde des Betreuungsvereins DRK
DESCRIPTION:Jeden 1. Mittwoch im Monat von 11:00 â€“ 12:30 Uhr \nkostenloses Beratungsangebot des Betreuungsvereins DRK Kaiserslautern \n  \nBetreuungsvereine\nIn derÂ  Stadt Kaiserslautern finden Sie 4 Betreuungsvereine. Diese sind bei derÂ  Arbeiterwohlfahrt\, der Lebenshilfe\, dem Sozialdienst katholischer MÃ¤nner und Frauen undÂ  dem Deutschen Roten Kreuz zu finden. \nDieÂ  Betreuungsvereine informieren und beraten Sie kostenlos zu den Themen Vorsorgevollmacht und PatientenverfÃ¼gung.Â  Weiterhin sind sie zustÃ¤ndig fÃ¼r die GewinnungÂ  ehrenamtlicher Betreuer*innen. Diese werden im Vorfeld Ã¼ber ihre Arbeit aufgeklÃ¤rt\, geschult und erhalten wÃ¤hrend ihrer TÃ¤tigkeit UnterstÃ¼tzung und Hilfestellung bei allen Fragen rund um die gesetzliche Betreuung. RegelmÃ¤ÃŸig werden von den Betreuungsvereinen Treffen zum Austausch und zur Fortbildung fÃ¼r ehrenamtlichen Betreuer*innen angeboten. \nSo finden Sie die Betreuungsvereine: \nAWOÂ Â Â \nSchumannstraÃŸe 1\, Kaiserslautern\nTelefon 0631 â€“ 89 23 119 \nDRK\nBarbarossastraÃŸe 27\, Kaiserslautern\nTelefon 0631 â€“ 800 93 184 \nLebenshilfe\nPariserstraÃŸe 18. Kaiserslautern\nTelefon 0631 â€“ 414 70 789 \nSKFM\nKlosterstr. 6\, Kaiserslautern\nTelefon 0631 â€“ 361 25 310
URL:https://gruebentaelchen.de/termine/sprechstunde-der-betreuungsvereine/2023-05-03/
LOCATION:Rheinland-Pfalz
CATEGORIES:Beratung
ATTACH;FMTTYPE=image/jpeg:https://gruebentaelchen.de/wp-content/uploads/2023/02/Betreeungsvereine-Kaiserslautern.jpg
END:VEVENT
BEGIN:VEVENT
DTSTART;TZID=Europe/Berlin:20230505T133000
DTEND;TZID=Europe/Berlin:20230505T153000
DTSTAMP:20260424T172245
CREATED:20230329T201516Z
LAST-MODIFIED:20231105T202519Z
UID:10002574-1683293400-1683300600@gruebentaelchen.de
SUMMARY:Migrationsberatung durch die Diakonie
DESCRIPTION:Migrationsberatung\nFreitagsÂ von 13:30 â€“ 15:30 Uhr \nHerr Breier bietet jeweils freitags in der Zeit vom 13:30 bis 15:30 Uhr GesprÃ¤chs- und Beratungszeiten fÃ¼r GeflÃ¼chtete und BÃ¼rger:innen aus dem Stadtteil in den RÃ¤umlichkeiten des StadtteilbÃ¼ros (FriedenstraÃŸe 118) an. \nNeben diesen PrÃ¤senzzeiten kÃ¶nnen Sie auch Termine fÃ¼r GesprÃ¤che in seinem BÃ¼ro in dem Haus der Diakonie (Pirmasenser StraÃŸe 82 neben dem Altenzentrum â€žDiakonissenhaus am Stadtparkâ€œ) vereinbaren. \nZwecks Terminvereinbarung setzen Sie sich bitte mit Herrn Breier telefonisch oder per MailÂ  in Verbindung:\nMobil: 0176 â€“ 11 66 40 74\nMail:Â andreasphilipp.breier@diakonie-pfalz.de
URL:https://gruebentaelchen.de/termine/migrationsberatung-durch-die-diakonie-2/2023-05-05/
LOCATION:StadtteilbÃ¼ro GrÃ¼bentÃ¤lchen\, FriedenstraÃŸe 118\, Kaiserslautern\, Rheinland-Pfalz\, 67657\, Deutschland
CATEGORIES:Sprechstunde
ATTACH;FMTTYPE=image/jpeg:https://gruebentaelchen.de/wp-content/uploads/2023/03/Andreas-Philipp-Breier.jpg
END:VEVENT
END:VCALENDAR