BEGIN:VCALENDAR
VERSION:2.0
PRODID:-//Stadtteilbüro Grübentälchen - ECPv6.15.20//NONSGML v1.0//EN
CALSCALE:GREGORIAN
METHOD:PUBLISH
X-WR-CALNAME:Stadtteilbüro Grübentälchen
X-ORIGINAL-URL:https://gruebentaelchen.de
X-WR-CALDESC:Veranstaltungen für Stadtteilbüro Grübentälchen
REFRESH-INTERVAL;VALUE=DURATION:PT1H
X-Robots-Tag:noindex
X-PUBLISHED-TTL:PT1H
BEGIN:VTIMEZONE
TZID:Europe/Berlin
BEGIN:DAYLIGHT
TZOFFSETFROM:+0100
TZOFFSETTO:+0200
TZNAME:CEST
DTSTART:20220327T010000
END:DAYLIGHT
BEGIN:STANDARD
TZOFFSETFROM:+0200
TZOFFSETTO:+0100
TZNAME:CET
DTSTART:20221030T010000
END:STANDARD
BEGIN:DAYLIGHT
TZOFFSETFROM:+0100
TZOFFSETTO:+0200
TZNAME:CEST
DTSTART:20230326T010000
END:DAYLIGHT
BEGIN:STANDARD
TZOFFSETFROM:+0200
TZOFFSETTO:+0100
TZNAME:CET
DTSTART:20231029T010000
END:STANDARD
BEGIN:DAYLIGHT
TZOFFSETFROM:+0100
TZOFFSETTO:+0200
TZNAME:CEST
DTSTART:20240331T010000
END:DAYLIGHT
BEGIN:STANDARD
TZOFFSETFROM:+0200
TZOFFSETTO:+0100
TZNAME:CET
DTSTART:20241027T010000
END:STANDARD
END:VTIMEZONE
BEGIN:VEVENT
DTSTART;TZID=Europe/Berlin:20230711T140000
DTEND;TZID=Europe/Berlin:20230711T160000
DTSTAMP:20260424T183437
CREATED:20230404T200352Z
LAST-MODIFIED:20230718T193628Z
UID:10002792-1689084000-1689091200@gruebentaelchen.de
SUMMARY:Handarbeitstreff
DESCRIPTION:Seit Februar 2017 trifft sich jeden 2. und 4. Dienstag im Monat um 14 Uhr eine Gruppe von BürgerIinnen\, die Lust haben\, gemeinsam zu stricken und zu häkeln\, zum Handarbeitstreff. Dabei entstehen in netter Gemeinschaft Tücher\, Schals\, Strümpfe\, Kinderdecken und weitere Projekte. Der Phantasie wird freien Lauf gelassen und neue Farben sowie Muster werden ausprobiert. Jeder arbeitet an seinem eigenen Projekt\, auf das er Lust hat\, aber es gibt auch gegenseitige Tipps und Unterstützung. \nAlle BewohnerInnen des Grübentälchens sind herzlich zum Mitmachen eingeladen! Nach Möglichkeit sollte bitte jede TeilnehmerIn eigene Handarbeitsutensilien mitbringen. \nDie Teilnahme ist kostenlos. \nDer Handarbeitstreff findet in der Begegnungsstätte der Siedler und Eigenheimer „Im Grübentälchen“ e. V. \, Schreberstraße 1\, statt.\nKontakt über Stadtteilbüro Grübentälchen
URL:https://gruebentaelchen.de/termine/handarbeitstreff/2023-07-11/
LOCATION:Rheinland-Pfalz
CATEGORIES:Kreatives
ATTACH;FMTTYPE=image/jpeg:https://gruebentaelchen.de/wp-content/uploads/2023/02/Handarbeitstreff-jpg.jpg
END:VEVENT
BEGIN:VEVENT
DTSTART;TZID=Europe/Berlin:20230712T100000
DTEND;TZID=Europe/Berlin:20230712T120000
DTSTAMP:20260424T183437
CREATED:20230329T202135Z
LAST-MODIFIED:20240102T000038Z
UID:10002626-1689156000-1689163200@gruebentaelchen.de
SUMMARY:Kostenlose Hilfe und/oder Anleitung bei kleineren Näharbeiten
DESCRIPTION:Im Stadtteilbüro wird neuerdings „abgesteckt\, anprobiert\, gebügelt und genäht…\, aber auch gelacht und gefachsimpelt…“ \nWir bieten Unterstützung an: \nbeim Reißverschlüsse einsetzen\,\nHosen/Röcke kürzen\,\nNähte aufarbeiten\noder anderen kleineren Änderungen\nsowie Vermittlung von Grundkenntnissen / Einstieg in Patchwork… \nHaben Sie auch kleinere Änderungen an Kleidungsstücken wie Hosen/Röcke kürzen\, Reißverschlüsse einsetzen oder andere kleinere Näharbeiten\, die Sie gerne unter kundiger Anleitung selbst oder von einer unserer ehrenamtlich Mitarbeitenden vornehmen wollen? \nDann melden Sie sich bei uns im Stadtteilbüro! Unser kostenloses Angebot gibt es jeden 2. Mittwoch / Monat von 10:00 – 12:00 Uhr im Stadtteilbüro. Spenden sind willlkommen.
URL:https://gruebentaelchen.de/termine/kostenlose-hilfe-und-oder-anleitung-bei-kleineren-naeharbeiten/2023-07-12/
LOCATION:Stadtteilbüro Grübentälchen\, Friedenstraße 118\, Kaiserslautern\, Rheinland-Pfalz\, 67657\, Deutschland
CATEGORIES:Kreatives
ATTACH;FMTTYPE=image/jpeg:https://gruebentaelchen.de/wp-content/uploads/2023/03/Naehhilfe.jpg
END:VEVENT
BEGIN:VEVENT
DTSTART;TZID=Europe/Berlin:20230712T160000
DTEND;TZID=Europe/Berlin:20230712T180000
DTSTAMP:20260424T183437
CREATED:20230704T075138Z
LAST-MODIFIED:20240123T164257Z
UID:10002841-1689177600-1689184800@gruebentaelchen.de
SUMMARY:Sprechstunden zu Karriere und Weiterbildung im Stadtteilbüro Grübentälchen
DESCRIPTION:Nutzen Sie die Sprechstunde und kommen Sie mit einem Berufsberater/einer Berufsberaterin im Erwerbsleben ins Gespräch. Im Anschluss können Sie\, wenn gewünscht\, einen Beratungstermin vereinbaren. Das Angebot richtet sich an Menschen\, die bereits arbeiten bzw. ihre Arbeit aufgrund einer Familienphase derzeit unterbrochen haben. Wir unterstützten Sie bei Fragen bezüglich Ihrer beruflichen Zukunft und begleiten Sie auf Ihrem Weg. Im Vordergrund stehen Ihre beruflichen Wünsche und Ziele. Ein Berufsberater/eine Berufsberaterin steht Ihnen im Stadtteilbüro Grübentälchen in der Friedenstraße 118\, in der Zeit von 16:00 bis 18:00 Uhr\, ohne Anmeldung zur Verfügung.
URL:https://gruebentaelchen.de/termine/sprechstunden-zu-karriere-und-weiterbildung-im-stadtteilbuero-gruebentaelchen-2/2023-07-12/
LOCATION:Stadtteilbüro Grübentälchen\, Friedenstraße 118\, Kaiserslautern\, Rheinland-Pfalz\, 67657\, Deutschland
CATEGORIES:Beratung
ATTACH;FMTTYPE=image/jpeg:https://gruebentaelchen.de/wp-content/uploads/2023/02/Bundesagentur_fuer_Arbeit.jpg
END:VEVENT
BEGIN:VEVENT
DTSTART;TZID=Europe/Berlin:20230713T103000
DTEND;TZID=Europe/Berlin:20230713T120000
DTSTAMP:20260424T183437
CREATED:20230326T205431Z
LAST-MODIFIED:20230720T204349Z
UID:10002869-1689244200-1689249600@gruebentaelchen.de
SUMMARY:Sprechstunde der Seniorenberaterin
DESCRIPTION:jeden 2. Donnerstag im Monat von 10:30 – 12:00 Uhr \nSprechstunde der Seniorenberaterin Margit Walg-Joyce
URL:https://gruebentaelchen.de/termine/sprechstunde-der-seniorenberaterin/2023-07-13/
LOCATION:Stadtteilbüro Grübentälchen\, Friedenstraße 118\, Kaiserslautern\, Rheinland-Pfalz\, 67657\, Deutschland
CATEGORIES:Beratung
ATTACH;FMTTYPE=image/jpeg:https://gruebentaelchen.de/wp-content/uploads/2023/03/Sprechstunde-Seniorenberaterin.jpg
END:VEVENT
END:VCALENDAR