BEGIN:VCALENDAR
VERSION:2.0
PRODID:-//Stadtteilbüro Grübentälchen - ECPv6.15.20//NONSGML v1.0//EN
CALSCALE:GREGORIAN
METHOD:PUBLISH
X-WR-CALNAME:Stadtteilbüro Grübentälchen
X-ORIGINAL-URL:https://gruebentaelchen.de
X-WR-CALDESC:Veranstaltungen für Stadtteilbüro Grübentälchen
REFRESH-INTERVAL;VALUE=DURATION:PT1H
X-Robots-Tag:noindex
X-PUBLISHED-TTL:PT1H
BEGIN:VTIMEZONE
TZID:Europe/Berlin
BEGIN:DAYLIGHT
TZOFFSETFROM:+0100
TZOFFSETTO:+0200
TZNAME:CEST
DTSTART:20220327T010000
END:DAYLIGHT
BEGIN:STANDARD
TZOFFSETFROM:+0200
TZOFFSETTO:+0100
TZNAME:CET
DTSTART:20221030T010000
END:STANDARD
BEGIN:DAYLIGHT
TZOFFSETFROM:+0100
TZOFFSETTO:+0200
TZNAME:CEST
DTSTART:20230326T010000
END:DAYLIGHT
BEGIN:STANDARD
TZOFFSETFROM:+0200
TZOFFSETTO:+0100
TZNAME:CET
DTSTART:20231029T010000
END:STANDARD
BEGIN:DAYLIGHT
TZOFFSETFROM:+0100
TZOFFSETTO:+0200
TZNAME:CEST
DTSTART:20240331T010000
END:DAYLIGHT
BEGIN:STANDARD
TZOFFSETFROM:+0200
TZOFFSETTO:+0100
TZNAME:CET
DTSTART:20241027T010000
END:STANDARD
END:VTIMEZONE
BEGIN:VEVENT
DTSTART;TZID=Europe/Berlin:20230912T140000
DTEND;TZID=Europe/Berlin:20230912T160000
DTSTAMP:20260424T121854
CREATED:20230404T200352Z
LAST-MODIFIED:20230718T193628Z
UID:10002796-1694527200-1694534400@gruebentaelchen.de
SUMMARY:Handarbeitstreff
DESCRIPTION:Seit Februar 2017 trifft sich jeden 2. und 4. Dienstag im Monat um 14 Uhr eine Gruppe von BürgerIinnen\, die Lust haben\, gemeinsam zu stricken und zu häkeln\, zum Handarbeitstreff. Dabei entstehen in netter Gemeinschaft Tücher\, Schals\, Strümpfe\, Kinderdecken und weitere Projekte. Der Phantasie wird freien Lauf gelassen und neue Farben sowie Muster werden ausprobiert. Jeder arbeitet an seinem eigenen Projekt\, auf das er Lust hat\, aber es gibt auch gegenseitige Tipps und Unterstützung. \nAlle BewohnerInnen des Grübentälchens sind herzlich zum Mitmachen eingeladen! Nach Möglichkeit sollte bitte jede TeilnehmerIn eigene Handarbeitsutensilien mitbringen. \nDie Teilnahme ist kostenlos. \nDer Handarbeitstreff findet in der Begegnungsstätte der Siedler und Eigenheimer „Im Grübentälchen“ e. V. \, Schreberstraße 1\, statt.\nKontakt über Stadtteilbüro Grübentälchen
URL:https://gruebentaelchen.de/termine/handarbeitstreff/2023-09-12/
LOCATION:Rheinland-Pfalz
CATEGORIES:Kreatives
ATTACH;FMTTYPE=image/jpeg:https://gruebentaelchen.de/wp-content/uploads/2023/02/Handarbeitstreff-jpg.jpg
END:VEVENT
BEGIN:VEVENT
DTSTART;TZID=Europe/Berlin:20230912T163000
DTEND;TZID=Europe/Berlin:20230912T183000
DTSTAMP:20260424T121854
CREATED:20230326T202339Z
LAST-MODIFIED:20240409T151846Z
UID:10002581-1694536200-1694543400@gruebentaelchen.de
SUMMARY:Stadtteilgespräch
DESCRIPTION:Das Stadtteilgespräch findet einmal pro Quartal an verschiedenen Standorten im Quartier statt. \nEs treffen sich VertreterInnen von Institutionen\, die im Quartier ansässig sind und berichten über ihre Arbeit im Stadtteil. \nEingeladen zu den Netzwerktreffen\, sind auch alle interessierten BürgerInnen aus dem Stadtteil. Das Stadtteilgespräch bietet den BürgerInnen die Möglichkeit\, sich mit Vorschlägen und Projektideen einzubringen. Dabei kann es um bauliche Maßnahmen (z.B. Straßensanierung)\, aber auch um gemeinsame Bürgerprojekte gehen. In gemütlicher und offener Runde sollen Ideen gesammelt werden. \nOrt: Besprechungsraum 6. Etage des AWO-Seniorenhauses „Alex Müller“\, Donnersbergstr. 84.
URL:https://gruebentaelchen.de/termine/stadtteilgespraech/2023-09-12/
LOCATION:AWO Seniorenhaus &#8222;Alex Müller&#8220;\, Donnersbergstr. 84\, Kaiserslautern\, 67657\, Deutschland
CATEGORIES:Veranstaltung
ATTACH;FMTTYPE=image/jpeg:https://gruebentaelchen.de/wp-content/uploads/2017/11/Stadtteilgespraech_Stadtteilbuero_Gruebentaelchen_Kaiserslautern_2.jpg
ORGANIZER;CN="Stadtteilb%C3%BCro Gr%C3%BCbent%C3%A4lchen":MAILTO:stadtteilbuero-gruebentaelchen@gemeinschaftswerk.de
END:VEVENT
BEGIN:VEVENT
DTSTART;TZID=Europe/Berlin:20230913T100000
DTEND;TZID=Europe/Berlin:20230913T120000
DTSTAMP:20260424T121854
CREATED:20230329T202135Z
LAST-MODIFIED:20240102T000038Z
UID:10002628-1694599200-1694606400@gruebentaelchen.de
SUMMARY:Kostenlose Hilfe und/oder Anleitung bei kleineren Näharbeiten
DESCRIPTION:Im Stadtteilbüro wird neuerdings „abgesteckt\, anprobiert\, gebügelt und genäht…\, aber auch gelacht und gefachsimpelt…“ \nWir bieten Unterstützung an: \nbeim Reißverschlüsse einsetzen\,\nHosen/Röcke kürzen\,\nNähte aufarbeiten\noder anderen kleineren Änderungen\nsowie Vermittlung von Grundkenntnissen / Einstieg in Patchwork… \nHaben Sie auch kleinere Änderungen an Kleidungsstücken wie Hosen/Röcke kürzen\, Reißverschlüsse einsetzen oder andere kleinere Näharbeiten\, die Sie gerne unter kundiger Anleitung selbst oder von einer unserer ehrenamtlich Mitarbeitenden vornehmen wollen? \nDann melden Sie sich bei uns im Stadtteilbüro! Unser kostenloses Angebot gibt es jeden 2. Mittwoch / Monat von 10:00 – 12:00 Uhr im Stadtteilbüro. Spenden sind willlkommen.
URL:https://gruebentaelchen.de/termine/kostenlose-hilfe-und-oder-anleitung-bei-kleineren-naeharbeiten/2023-09-13/
LOCATION:Stadtteilbüro Grübentälchen\, Friedenstraße 118\, Kaiserslautern\, Rheinland-Pfalz\, 67657\, Deutschland
CATEGORIES:Kreatives
ATTACH;FMTTYPE=image/jpeg:https://gruebentaelchen.de/wp-content/uploads/2023/03/Naehhilfe.jpg
END:VEVENT
BEGIN:VEVENT
DTSTART;TZID=Europe/Berlin:20230914T103000
DTEND;TZID=Europe/Berlin:20230914T120000
DTSTAMP:20260424T121854
CREATED:20230326T205431Z
LAST-MODIFIED:20230720T204349Z
UID:10002870-1694687400-1694692800@gruebentaelchen.de
SUMMARY:Sprechstunde der Seniorenberaterin
DESCRIPTION:jeden 2. Donnerstag im Monat von 10:30 – 12:00 Uhr \nSprechstunde der Seniorenberaterin Margit Walg-Joyce
URL:https://gruebentaelchen.de/termine/sprechstunde-der-seniorenberaterin/2023-09-14/
LOCATION:Stadtteilbüro Grübentälchen\, Friedenstraße 118\, Kaiserslautern\, Rheinland-Pfalz\, 67657\, Deutschland
CATEGORIES:Beratung
ATTACH;FMTTYPE=image/jpeg:https://gruebentaelchen.de/wp-content/uploads/2023/03/Sprechstunde-Seniorenberaterin.jpg
END:VEVENT
END:VCALENDAR