BEGIN:VCALENDAR
VERSION:2.0
PRODID:-//StadtteilbÃ¼ro GrÃ¼bentÃ¤lchen - ECPv6.15.20//NONSGML v1.0//EN
CALSCALE:GREGORIAN
METHOD:PUBLISH
X-WR-CALNAME:StadtteilbÃ¼ro GrÃ¼bentÃ¤lchen
X-ORIGINAL-URL:https://gruebentaelchen.de
X-WR-CALDESC:Veranstaltungen fÃ¼r StadtteilbÃ¼ro GrÃ¼bentÃ¤lchen
REFRESH-INTERVAL;VALUE=DURATION:PT1H
X-Robots-Tag:noindex
X-PUBLISHED-TTL:PT1H
BEGIN:VTIMEZONE
TZID:Europe/Berlin
BEGIN:DAYLIGHT
TZOFFSETFROM:+0100
TZOFFSETTO:+0200
TZNAME:CEST
DTSTART:20220327T010000
END:DAYLIGHT
BEGIN:STANDARD
TZOFFSETFROM:+0200
TZOFFSETTO:+0100
TZNAME:CET
DTSTART:20221030T010000
END:STANDARD
BEGIN:DAYLIGHT
TZOFFSETFROM:+0100
TZOFFSETTO:+0200
TZNAME:CEST
DTSTART:20230326T010000
END:DAYLIGHT
BEGIN:STANDARD
TZOFFSETFROM:+0200
TZOFFSETTO:+0100
TZNAME:CET
DTSTART:20231029T010000
END:STANDARD
BEGIN:DAYLIGHT
TZOFFSETFROM:+0100
TZOFFSETTO:+0200
TZNAME:CEST
DTSTART:20240331T010000
END:DAYLIGHT
BEGIN:STANDARD
TZOFFSETFROM:+0200
TZOFFSETTO:+0100
TZNAME:CET
DTSTART:20241027T010000
END:STANDARD
END:VTIMEZONE
BEGIN:VEVENT
DTSTART;TZID=Europe/Berlin:20231107T100000
DTEND;TZID=Europe/Berlin:20231107T120000
DTSTAMP:20260424T075258
CREATED:20230329T203740Z
LAST-MODIFIED:20230412T073802Z
UID:10002849-1699351200-1699358400@gruebentaelchen.de
SUMMARY:Sprechstunde der Seniorenbeirats
DESCRIPTION:1x dienstags im Quartal von 10:00 â€“ 12:00 Uhr \nSprechstunde desÂ Seniorenbeirats
URL:https://gruebentaelchen.de/termine/sprechstunde-der-seniorenbeirats/2023-11-07/
LOCATION:StadtteilbÃ¼ro GrÃ¼bentÃ¤lchen\, FriedenstraÃŸe 118\, Kaiserslautern\, Rheinland-Pfalz\, 67657\, Deutschland
CATEGORIES:Sprechstunde
ATTACH;FMTTYPE=image/jpeg:https://gruebentaelchen.de/wp-content/uploads/2023/02/Plauderkaffee.jpg
END:VEVENT
BEGIN:VEVENT
DTSTART;TZID=Europe/Berlin:20231107T150000
DTEND;TZID=Europe/Berlin:20231107T170000
DTSTAMP:20260424T075258
CREATED:20230326T204115Z
LAST-MODIFIED:20251203T133352Z
UID:10003173-1699369200-1699376400@gruebentaelchen.de
SUMMARY:Digitales CafÃ©
DESCRIPTION:Digitales CafÃ©\n  \nEin kostenloses Angebot fÃ¼r Seniorinnen und Senioren â€“ Sie haben Fragen im Umgang mit Smartphone\, Tablet\, Laptop und Co? Ein Team von Freiwilligen hilft Ihnen bei Ihren Fragen in gemÃ¼tlicher Runde bei Kaffee\, Tee und GebÃ¤ck. \nJeden 1. Dienstag im Monat von 15:00 â€“ 17:00 Uhr in gemÃ¼tlicher Runde bei Kaffee\, Tee und GebÃ¤ck! Sie kÃ¶nnen auch gerne eine Einzelsprechstunde vereinbaren.
URL:https://gruebentaelchen.de/termine/digitale-hilfe/2023-11-07/
LOCATION:StadtteilbÃ¼ro GrÃ¼bentÃ¤lchen\, FriedenstraÃŸe 118\, Kaiserslautern\, Rheinland-Pfalz\, 67657\, Deutschland
CATEGORIES:Veranstaltung
ATTACH;FMTTYPE=image/jpeg:https://gruebentaelchen.de/wp-content/uploads/2023/03/Digitale-Hilfen.jpg
END:VEVENT
BEGIN:VEVENT
DTSTART;TZID=Europe/Berlin:20231107T150000
DTEND;TZID=Europe/Berlin:20231107T170000
DTSTAMP:20260424T075258
CREATED:20231026T153801Z
LAST-MODIFIED:20231026T153804Z
UID:10002698-1699369200-1699376400@gruebentaelchen.de
SUMMARY:Digitales CafÃ©
DESCRIPTION:Digitales CafÃ©\nNeu im StadtteilbÃ¼ro! \nEin kostenloses Angebot fÃ¼r Seniorinnen und Senioren â€“ Sie haben Fragen im Umgang mit Smartphone\, Tablet\, Laptop und Co? Ein Team von Freiwilligen hilft Ihnen bei Ihren Fragen in gemÃ¼tlicher Runde bei Kaffee\, Tee und GebÃ¤ck. \nJeden 1. Dienstag im Monat von 15:00 â€“ 17:00 Uhr in gemÃ¼tlicher Runde bei Kaffee\, Tee und GebÃ¤ck! Sie kÃ¶nnen auch gerne eine Einzelsprechstunde vereinbaren.
URL:https://gruebentaelchen.de/termine/digitale-hilfe-2/
LOCATION:StadtteilbÃ¼ro GrÃ¼bentÃ¤lchen\, FriedenstraÃŸe 118\, Kaiserslautern\, Rheinland-Pfalz\, 67657\, Deutschland
CATEGORIES:Veranstaltung
ATTACH;FMTTYPE=image/jpeg:https://gruebentaelchen.de/wp-content/uploads/2023/03/Digitale-Hilfen.jpg
END:VEVENT
BEGIN:VEVENT
DTSTART;TZID=Europe/Berlin:20231109T103000
DTEND;TZID=Europe/Berlin:20231109T120000
DTSTAMP:20260424T075258
CREATED:20230326T205431Z
LAST-MODIFIED:20230720T204349Z
UID:10002872-1699525800-1699531200@gruebentaelchen.de
SUMMARY:Sprechstunde der Seniorenberaterin
DESCRIPTION:jeden 2. Donnerstag im Monat von 10:30 â€“ 12:00 Uhr \nSprechstunde derÂ Seniorenberaterin Margit Walg-Joyce
URL:https://gruebentaelchen.de/termine/sprechstunde-der-seniorenberaterin/2023-11-09/
LOCATION:StadtteilbÃ¼ro GrÃ¼bentÃ¤lchen\, FriedenstraÃŸe 118\, Kaiserslautern\, Rheinland-Pfalz\, 67657\, Deutschland
CATEGORIES:Beratung
ATTACH;FMTTYPE=image/jpeg:https://gruebentaelchen.de/wp-content/uploads/2023/03/Sprechstunde-Seniorenberaterin.jpg
END:VEVENT
BEGIN:VEVENT
DTSTART;TZID=Europe/Berlin:20231109T130000
DTEND;TZID=Europe/Berlin:20231109T140000
DTSTAMP:20260424T075258
CREATED:20230331T193914Z
LAST-MODIFIED:20251203T134920Z
UID:10008959-1699534800-1699538400@gruebentaelchen.de
SUMMARY:MobilitÃ¤tstraining
DESCRIPTION:Zeit fÃ¼r Bewegung â€“ weilâ€™s mir gut tut!\nMobilitÃ¤tstraining im GrÃ¼bentÃ¤lchen\nMachen Sie mit bei Ãœbungen\, die gut fÃ¼r die Gesundheit sind und SpaÃŸ und Freude an der Bewegung vermitteln. Wichtige Muskelgruppen\, die die WirbelsÃ¤ule aufrichten\, werden gekrÃ¤ftigt und die in der Tiefe liegenden Muskeln trainiert. Musik\, die gute Laune macht\, begleitet das Programm. \nJeden donnerstags von 13:00 â€“ 14:00 Uhr\,\nVeranstaltungsraum der Gemeinschaftsunterkunft fÃ¼r ukrainisch GeflÃ¼chtete\, Mennonitenstr. 28 (ehemals Zoar-Alten- und Pflegeheim) \nUnser Angebot ist kostenlos und ganz in Ihrer NÃ¤he. Sie kÃ¶nnen in bequemer Alltagskleidung kommen. Alle Termine kÃ¶nnen unabhÃ¤ngig voneinander und ohne Voranmeldung besucht werden. Und Sie lernen nette Menschen kennenâ€¦ \nDas MobilitÃ¤tstraining wird durchgefÃ¼hrt vonÂ  Jennifer HÃ¶ning\, Physiotherapeutin und Bewegungsmanagerin der Stadt Kaiserslautern der Landesinitiative â€žRheinland-Pfalz â€“ Land in Bewegungâ€œ.
URL:https://gruebentaelchen.de/termine/mobilitaetstraining-2/2023-11-09/
LOCATION:MennonitenstraÃŸe 28
CATEGORIES:Sport
ATTACH;FMTTYPE=image/jpeg:https://gruebentaelchen.de/wp-content/uploads/2023/03/Mobilitaestraining-1.jpg
END:VEVENT
BEGIN:VEVENT
DTSTART;TZID=Europe/Berlin:20231109T150000
DTEND;TZID=Europe/Berlin:20231109T160000
DTSTAMP:20260424T075258
CREATED:20230914T154052Z
LAST-MODIFIED:20230928T152703Z
UID:10002899-1699542000-1699545600@gruebentaelchen.de
SUMMARY:Singkreis
DESCRIPTION:Karen Fuchs\, Mitglied des Seniorenbeirats der Stadt Kaiserslautern\, bietet einmal im Monat einen Singkreis mit Volksliedern und Schlagern an. \nSingen in Gemeinschaft schÃ¼ttet GlÃ¼ckshormone aus\, fÃ¶rdert KreativitÃ¤t und KonzentrationsfÃ¤higkeit. Auch SprachgefÃ¼hl und Wortschatz werden trainiert. \nKommen Sie vorbei und lassen Sie uns gemeinsam singen.
URL:https://gruebentaelchen.de/termine/singkreis/
LOCATION:StadtteilbÃ¼ro GrÃ¼bentÃ¤lchen\, FriedenstraÃŸe 118\, Kaiserslautern\, Rheinland-Pfalz\, 67657\, Deutschland
CATEGORIES:Veranstaltung
ATTACH;FMTTYPE=image/png:https://gruebentaelchen.de/wp-content/uploads/2023/09/2023-08-08-Flyerlang-Stadtteilbuero_Singkreis-1.png
END:VEVENT
BEGIN:VEVENT
DTSTART;TZID=Europe/Berlin:20231110T133000
DTEND;TZID=Europe/Berlin:20231110T153000
DTSTAMP:20260424T075258
CREATED:20230329T201516Z
LAST-MODIFIED:20231105T202519Z
UID:10002826-1699623000-1699630200@gruebentaelchen.de
SUMMARY:Migrationsberatung durch die Diakonie
DESCRIPTION:Migrationsberatung\nFreitagsÂ von 13:30 â€“ 15:30 Uhr \nHerr Breier bietet jeweils freitags in der Zeit vom 13:30 bis 15:30 Uhr GesprÃ¤chs- und Beratungszeiten fÃ¼r GeflÃ¼chtete und BÃ¼rger:innen aus dem Stadtteil in den RÃ¤umlichkeiten des StadtteilbÃ¼ros (FriedenstraÃŸe 118) an. \nNeben diesen PrÃ¤senzzeiten kÃ¶nnen Sie auch Termine fÃ¼r GesprÃ¤che in seinem BÃ¼ro in dem Haus der Diakonie (Pirmasenser StraÃŸe 82 neben dem Altenzentrum â€žDiakonissenhaus am Stadtparkâ€œ) vereinbaren. \nZwecks Terminvereinbarung setzen Sie sich bitte mit Herrn Breier telefonisch oder per MailÂ  in Verbindung:\nMobil: 0176 â€“ 11 66 40 74\nMail:Â andreasphilipp.breier@diakonie-pfalz.de
URL:https://gruebentaelchen.de/termine/migrationsberatung-durch-die-diakonie-2/2023-11-10/
LOCATION:StadtteilbÃ¼ro GrÃ¼bentÃ¤lchen\, FriedenstraÃŸe 118\, Kaiserslautern\, Rheinland-Pfalz\, 67657\, Deutschland
CATEGORIES:Sprechstunde
ATTACH;FMTTYPE=image/jpeg:https://gruebentaelchen.de/wp-content/uploads/2023/03/Andreas-Philipp-Breier.jpg
END:VEVENT
BEGIN:VEVENT
DTSTART;TZID=Europe/Berlin:20231111T140000
DTEND;TZID=Europe/Berlin:20231111T153000
DTSTAMP:20260424T075258
CREATED:20230914T150228Z
LAST-MODIFIED:20231105T204621Z
UID:10002882-1699711200-1699716600@gruebentaelchen.de
SUMMARY:FÃ¼hrung durch das FCK-Museum
DESCRIPTION:Rolf Conrad\, ehrenamtlicher Mitarbeiter des FCK-Museums und Mitglied des 1. FCK Fanclubs Fairplay fÃ¼hrt Sie ca. 90 Minuten durch die Ausstellung und erzÃ¤hlt Geschichten und Anekdoten rund um die Exponate. \nTreffpunkt: FCK-Museum im Fritz-Walter-Stadion. LOTTO OsttribÃ¼hne\, Eingang Block 18\, 1 OG. \nDer Eintritt betrÃ¤gt 4 â‚¬\, FCK-Mitglieder 2 â‚¬\, Kinder bis 6 Jahren haben freien Eintritt. \nUm Anmeldung wird gebeten beim StadtteilbÃ¼ro GrubentÃ¤lchen. \nEine erste FÃ¼hrung findet am 17.10.2023 statt.
URL:https://gruebentaelchen.de/termine/fuehrung-durch-das-fck-museum-2/
LOCATION:Fritz-Walter-Stadion\, Fritz-Walter-StraÃŸe 1\, Kaiserslautern\, Rheinland-Pfalz\, 67663\, Deutschland
CATEGORIES:Veranstaltung
ATTACH;FMTTYPE=image/png:https://gruebentaelchen.de/wp-content/uploads/2023/09/Plakat-Besuch-FCK-Museum-1.png
END:VEVENT
END:VCALENDAR