BEGIN:VCALENDAR
VERSION:2.0
PRODID:-//Stadtteilbüro Grübentälchen - ECPv6.15.20//NONSGML v1.0//EN
CALSCALE:GREGORIAN
METHOD:PUBLISH
X-WR-CALNAME:Stadtteilbüro Grübentälchen
X-ORIGINAL-URL:https://gruebentaelchen.de
X-WR-CALDESC:Veranstaltungen für Stadtteilbüro Grübentälchen
REFRESH-INTERVAL;VALUE=DURATION:PT1H
X-Robots-Tag:noindex
X-PUBLISHED-TTL:PT1H
BEGIN:VTIMEZONE
TZID:Europe/Berlin
BEGIN:DAYLIGHT
TZOFFSETFROM:+0100
TZOFFSETTO:+0200
TZNAME:CEST
DTSTART:20220327T010000
END:DAYLIGHT
BEGIN:STANDARD
TZOFFSETFROM:+0200
TZOFFSETTO:+0100
TZNAME:CET
DTSTART:20221030T010000
END:STANDARD
BEGIN:DAYLIGHT
TZOFFSETFROM:+0100
TZOFFSETTO:+0200
TZNAME:CEST
DTSTART:20230326T010000
END:DAYLIGHT
BEGIN:STANDARD
TZOFFSETFROM:+0200
TZOFFSETTO:+0100
TZNAME:CET
DTSTART:20231029T010000
END:STANDARD
BEGIN:DAYLIGHT
TZOFFSETFROM:+0100
TZOFFSETTO:+0200
TZNAME:CEST
DTSTART:20240331T010000
END:DAYLIGHT
BEGIN:STANDARD
TZOFFSETFROM:+0200
TZOFFSETTO:+0100
TZNAME:CET
DTSTART:20241027T010000
END:STANDARD
END:VTIMEZONE
BEGIN:VEVENT
DTSTART;TZID=Europe/Berlin:20231113T173000
DTEND;TZID=Europe/Berlin:20231113T183000
DTSTAMP:20260424T033957
CREATED:20230331T052350Z
LAST-MODIFIED:20230914T152345Z
UID:10002885-1699896600-1699900200@gruebentaelchen.de
SUMMARY:Jakkolo in „Nils – Wohnen im Quartier“
DESCRIPTION:Jakkolo in „Nils – Wohnen im Quartier“\nBeim Jakkolo müssen 30 Holzscheiben direkt oder indirekt in vier Boxen\, die mit Punktzeichen gekennzeichnet sind\, gespielt werden. \nAb ca. 9 Jahren können alle mit gleichen Chancen spielen\, egal ob Frau oder Mann\, Kinder oder Erwachsener\, Jung oder Alt\, Menschen mit oder ohne Handicap. Es kann im Stehen oder Sitzen gespielt werden. \nMachen Sie mit! Unser Team freut sich auf Ihr Kommen im „Nils – Wohnen im Quartier“. \nKontakt unter 0631 &#8211; 3640 119
URL:https://gruebentaelchen.de/termine/jakkolo-in-nils-wohnen-im-quartier/2023-11-13/
LOCATION:Nils &#8211; Wohnen im Quartier\, Friedenstraße 63 (Guud Stubb)\, Kaiserslautern\, 67657\, Deutschland
CATEGORIES:Veranstaltung
ATTACH;FMTTYPE=image/jpeg:https://gruebentaelchen.de/wp-content/uploads/2023/03/Jakkolo-im-Nils.jpg
END:VEVENT
BEGIN:VEVENT
DTSTART;TZID=Europe/Berlin:20231114T140000
DTEND;TZID=Europe/Berlin:20231114T160000
DTSTAMP:20260424T033957
CREATED:20230404T200352Z
LAST-MODIFIED:20230718T193628Z
UID:10002800-1699970400-1699977600@gruebentaelchen.de
SUMMARY:Handarbeitstreff
DESCRIPTION:Seit Februar 2017 trifft sich jeden 2. und 4. Dienstag im Monat um 14 Uhr eine Gruppe von BürgerIinnen\, die Lust haben\, gemeinsam zu stricken und zu häkeln\, zum Handarbeitstreff. Dabei entstehen in netter Gemeinschaft Tücher\, Schals\, Strümpfe\, Kinderdecken und weitere Projekte. Der Phantasie wird freien Lauf gelassen und neue Farben sowie Muster werden ausprobiert. Jeder arbeitet an seinem eigenen Projekt\, auf das er Lust hat\, aber es gibt auch gegenseitige Tipps und Unterstützung. \nAlle BewohnerInnen des Grübentälchens sind herzlich zum Mitmachen eingeladen! Nach Möglichkeit sollte bitte jede TeilnehmerIn eigene Handarbeitsutensilien mitbringen. \nDie Teilnahme ist kostenlos. \nDer Handarbeitstreff findet in der Begegnungsstätte der Siedler und Eigenheimer „Im Grübentälchen“ e. V. \, Schreberstraße 1\, statt.\nKontakt über Stadtteilbüro Grübentälchen
URL:https://gruebentaelchen.de/termine/handarbeitstreff/2023-11-14/
LOCATION:Rheinland-Pfalz
CATEGORIES:Kreatives
ATTACH;FMTTYPE=image/jpeg:https://gruebentaelchen.de/wp-content/uploads/2023/02/Handarbeitstreff-jpg.jpg
END:VEVENT
BEGIN:VEVENT
DTSTART;TZID=Europe/Berlin:20231115T100000
DTEND;TZID=Europe/Berlin:20231115T120000
DTSTAMP:20260424T033957
CREATED:20230329T202135Z
LAST-MODIFIED:20240102T000038Z
UID:10002850-1700042400-1700049600@gruebentaelchen.de
SUMMARY:Kostenlose Hilfe und/oder Anleitung bei kleineren Näharbeiten
DESCRIPTION:Im Stadtteilbüro wird neuerdings „abgesteckt\, anprobiert\, gebügelt und genäht…\, aber auch gelacht und gefachsimpelt…“ \nWir bieten Unterstützung an: \nbeim Reißverschlüsse einsetzen\,\nHosen/Röcke kürzen\,\nNähte aufarbeiten\noder anderen kleineren Änderungen\nsowie Vermittlung von Grundkenntnissen / Einstieg in Patchwork… \nHaben Sie auch kleinere Änderungen an Kleidungsstücken wie Hosen/Röcke kürzen\, Reißverschlüsse einsetzen oder andere kleinere Näharbeiten\, die Sie gerne unter kundiger Anleitung selbst oder von einer unserer ehrenamtlich Mitarbeitenden vornehmen wollen? \nDann melden Sie sich bei uns im Stadtteilbüro! Unser kostenloses Angebot gibt es jeden 2. Mittwoch / Monat von 10:00 – 12:00 Uhr im Stadtteilbüro. Spenden sind willlkommen.
URL:https://gruebentaelchen.de/termine/kostenlose-hilfe-und-oder-anleitung-bei-kleineren-naeharbeiten/2023-11-15/
LOCATION:Stadtteilbüro Grübentälchen\, Friedenstraße 118\, Kaiserslautern\, Rheinland-Pfalz\, 67657\, Deutschland
CATEGORIES:Kreatives
ATTACH;FMTTYPE=image/jpeg:https://gruebentaelchen.de/wp-content/uploads/2023/03/Naehhilfe.jpg
END:VEVENT
BEGIN:VEVENT
DTSTART;TZID=Europe/Berlin:20231116T130000
DTEND;TZID=Europe/Berlin:20231116T140000
DTSTAMP:20260424T033957
CREATED:20230331T193914Z
LAST-MODIFIED:20251203T134920Z
UID:10008960-1700139600-1700143200@gruebentaelchen.de
SUMMARY:Mobilitätstraining
DESCRIPTION:Zeit für Bewegung – weil’s mir gut tut!\nMobilitätstraining im Grübentälchen\nMachen Sie mit bei Übungen\, die gut für die Gesundheit sind und Spaß und Freude an der Bewegung vermitteln. Wichtige Muskelgruppen\, die die Wirbelsäule aufrichten\, werden gekräftigt und die in der Tiefe liegenden Muskeln trainiert. Musik\, die gute Laune macht\, begleitet das Programm. \nJeden donnerstags von 13:00 – 14:00 Uhr\,\nVeranstaltungsraum der Gemeinschaftsunterkunft für ukrainisch Geflüchtete\, Mennonitenstr. 28 (ehemals Zoar-Alten- und Pflegeheim) \nUnser Angebot ist kostenlos und ganz in Ihrer Nähe. Sie können in bequemer Alltagskleidung kommen. Alle Termine können unabhängig voneinander und ohne Voranmeldung besucht werden. Und Sie lernen nette Menschen kennen… \nDas Mobilitätstraining wird durchgeführt von  Jennifer Höning\, Physiotherapeutin und Bewegungsmanagerin der Stadt Kaiserslautern der Landesinitiative „Rheinland-Pfalz – Land in Bewegung“.
URL:https://gruebentaelchen.de/termine/mobilitaetstraining-2/2023-11-16/
LOCATION:Mennonitenstraße 28
CATEGORIES:Sport
ATTACH;FMTTYPE=image/jpeg:https://gruebentaelchen.de/wp-content/uploads/2023/03/Mobilitaestraining-1.jpg
END:VEVENT
BEGIN:VEVENT
DTSTART;TZID=Europe/Berlin:20231118T110000
DTEND;TZID=Europe/Berlin:20231118T140000
DTSTAMP:20260424T033957
CREATED:20230928T153556Z
LAST-MODIFIED:20231105T203658Z
UID:10002901-1700305200-1700316000@gruebentaelchen.de
SUMMARY:Plätzchen backen: Weihnachtsduft in jedem Raum
DESCRIPTION:Gemeinsam wollen wir Plätzchen backen.\nMit einem gewissen Augenblinzeln sollen die Kekse ein bisschen gesünder gebacken werden\, ohne dass sie an Geschmack verlieren. Wir tasten uns an Zuckeralternativen\, höhere Typenzahlen als Weissmehl und andere Vollkornprodukte heran. Versprochen: ein leckeres veganes und ein glutenfreies Plätzchenrezept sind auch dabei. \nUm Anmeldung wird gebeten im Stadtteilbüro Grübentälchen. \nDas Angebot wird im Rahmen des Programms &#8222;teamw()rk für Gesundheit und Arbeit&#8220; umgesetzt und gefördert von den Krankenkassen/Krankenkassenverbänden des Landes Rheinland-Pfalz nach § 20a SGB V im Rahmen ihrer Aufgaben zur Gesundheitsförderung und Prävention in Lebenswelten.
URL:https://gruebentaelchen.de/termine/plaetzen-backen-weihnachtsduft-in-jedem-raum/
LOCATION:Begegnungsstätte der Siedler- und Eigenheimer &#8222;Im Grübentälchen&#8220; e.V.\, Schreberstraße 1\, Kaiserslautern\, Rheinland-Pfalz\, 67657
CATEGORIES:Veranstaltung
ATTACH;FMTTYPE=image/png:https://gruebentaelchen.de/wp-content/uploads/2023/09/2023_Flyer_KL_Weihnachtsbacken-1.png
END:VEVENT
END:VCALENDAR