BEGIN:VCALENDAR
VERSION:2.0
PRODID:-//Stadtteilbüro Grübentälchen - ECPv6.15.20//NONSGML v1.0//EN
CALSCALE:GREGORIAN
METHOD:PUBLISH
X-WR-CALNAME:Stadtteilbüro Grübentälchen
X-ORIGINAL-URL:https://gruebentaelchen.de
X-WR-CALDESC:Veranstaltungen für Stadtteilbüro Grübentälchen
REFRESH-INTERVAL;VALUE=DURATION:PT1H
X-Robots-Tag:noindex
X-PUBLISHED-TTL:PT1H
BEGIN:VTIMEZONE
TZID:Europe/Berlin
BEGIN:DAYLIGHT
TZOFFSETFROM:+0100
TZOFFSETTO:+0200
TZNAME:CEST
DTSTART:20230326T010000
END:DAYLIGHT
BEGIN:STANDARD
TZOFFSETFROM:+0200
TZOFFSETTO:+0100
TZNAME:CET
DTSTART:20231029T010000
END:STANDARD
BEGIN:DAYLIGHT
TZOFFSETFROM:+0100
TZOFFSETTO:+0200
TZNAME:CEST
DTSTART:20240331T010000
END:DAYLIGHT
BEGIN:STANDARD
TZOFFSETFROM:+0200
TZOFFSETTO:+0100
TZNAME:CET
DTSTART:20241027T010000
END:STANDARD
BEGIN:DAYLIGHT
TZOFFSETFROM:+0100
TZOFFSETTO:+0200
TZNAME:CEST
DTSTART:20250330T010000
END:DAYLIGHT
BEGIN:STANDARD
TZOFFSETFROM:+0200
TZOFFSETTO:+0100
TZNAME:CET
DTSTART:20251026T010000
END:STANDARD
END:VTIMEZONE
BEGIN:VEVENT
DTSTART;TZID=Europe/Berlin:20240409T140000
DTEND;TZID=Europe/Berlin:20240409T160000
DTSTAMP:20260423T124729
CREATED:20231212T171849Z
LAST-MODIFIED:20231212T171849Z
UID:10003237-1712671200-1712678400@gruebentaelchen.de
SUMMARY:Handarbeitstreff
DESCRIPTION:Seit Februar 2017 trifft sich jeden 2. und 4. Dienstag im Monat um 14 Uhr eine Gruppe von BürgerIinnen\, die Lust haben\, gemeinsam zu stricken und zu häkeln\, zum Handarbeitstreff. Dabei entstehen in netter Gemeinschaft Tücher\, Schals\, Strümpfe\, Kinderdecken und weitere Projekte. Der Phantasie wird freien Lauf gelassen und neue Farben sowie Muster werden ausprobiert. Jeder arbeitet an seinem eigenen Projekt\, auf das er Lust hat\, aber es gibt auch gegenseitige Tipps und Unterstützung. \nAlle BewohnerInnen des Grübentälchens sind herzlich zum Mitmachen eingeladen! Nach Möglichkeit sollte bitte jede TeilnehmerIn eigene Handarbeitsutensilien mitbringen. \nDie Teilnahme ist kostenlos. \nDer Handarbeitstreff findet in der Begegnungsstätte der Siedler und Eigenheimer „Im Grübentälchen“ e. V. \, Schreberstraße 1\, statt.\nKontakt über Stadtteilbüro Grübentälchen
URL:https://gruebentaelchen.de/termine/handarbeitstreff-1/2024-04-09/
LOCATION:Begegnungsstätte der Siedler- und Eigenheimer &#8222;Im Grübentälchen&#8220; e.V.\, Schreberstraße 1\, Kaiserslautern\, Rheinland-Pfalz\, 67657
ATTACH;FMTTYPE=image/jpeg:https://gruebentaelchen.de/wp-content/uploads/2023/02/Handarbeitstreff-jpg.jpg
END:VEVENT
BEGIN:VEVENT
DTSTART;TZID=Europe/Berlin:20240410T100000
DTEND;TZID=Europe/Berlin:20240410T120000
DTSTAMP:20260423T124729
CREATED:20230329T202135Z
LAST-MODIFIED:20240102T000038Z
UID:10003416-1712743200-1712750400@gruebentaelchen.de
SUMMARY:Kostenlose Hilfe und/oder Anleitung bei kleineren Näharbeiten
DESCRIPTION:Im Stadtteilbüro wird neuerdings „abgesteckt\, anprobiert\, gebügelt und genäht…\, aber auch gelacht und gefachsimpelt…“ \nWir bieten Unterstützung an: \nbeim Reißverschlüsse einsetzen\,\nHosen/Röcke kürzen\,\nNähte aufarbeiten\noder anderen kleineren Änderungen\nsowie Vermittlung von Grundkenntnissen / Einstieg in Patchwork… \nHaben Sie auch kleinere Änderungen an Kleidungsstücken wie Hosen/Röcke kürzen\, Reißverschlüsse einsetzen oder andere kleinere Näharbeiten\, die Sie gerne unter kundiger Anleitung selbst oder von einer unserer ehrenamtlich Mitarbeitenden vornehmen wollen? \nDann melden Sie sich bei uns im Stadtteilbüro! Unser kostenloses Angebot gibt es jeden 2. Mittwoch / Monat von 10:00 – 12:00 Uhr im Stadtteilbüro. Spenden sind willlkommen.
URL:https://gruebentaelchen.de/termine/kostenlose-hilfe-und-oder-anleitung-bei-kleineren-naeharbeiten/2024-04-10/
LOCATION:Stadtteilbüro Grübentälchen\, Friedenstraße 118\, Kaiserslautern\, Rheinland-Pfalz\, 67657\, Deutschland
CATEGORIES:Kreatives
ATTACH;FMTTYPE=image/jpeg:https://gruebentaelchen.de/wp-content/uploads/2023/03/Naehhilfe.jpg
END:VEVENT
BEGIN:VEVENT
DTSTART;TZID=Europe/Berlin:20240410T140000
DTEND;TZID=Europe/Berlin:20240410T160000
DTSTAMP:20260423T124729
CREATED:20240102T003714Z
LAST-MODIFIED:20251124T143038Z
UID:10004129-1712757600-1712764800@gruebentaelchen.de
SUMMARY:Übersetzungshilfe Arabisch-Deutsch
DESCRIPTION:Das Stadtteilbüro Grübentälchen bietet kostenlose Übersetzungshilfe für Arabisch – Deutsch an. \nJeden Mittwoch ist von 14:00 – 16:00 Uhr ein Dolmetscher für Arabisch vor Ort\, der kostenlos bei der Übersetzung von Unterlagen hilft. Eine Beglaubigung der Unterlagen ist nicht möglich. Individuelle Termine können auch nach Bedarf ausgemacht werden.
URL:https://gruebentaelchen.de/termine/uebersetzungshilfe-arabisch-deutsch/2024-04-10/
LOCATION:Stadtteilbüro Grübentälchen\, Friedenstraße 118\, Kaiserslautern\, Rheinland-Pfalz\, 67657\, Deutschland
CATEGORIES:Beratung
END:VEVENT
BEGIN:VEVENT
DTSTART;TZID=Europe/Berlin:20240411T103000
DTEND;TZID=Europe/Berlin:20240411T120000
DTSTAMP:20260423T124729
CREATED:20240125T171940Z
LAST-MODIFIED:20251120T104545Z
UID:10004505-1712831400-1712836800@gruebentaelchen.de
SUMMARY:Sprechstunde der Seniorenberaterin
DESCRIPTION:jeden 2. Donnerstag im Monat von 10:30 – 12:00 Uhr \nSprechstunde der Seniorenberaterin Margit Walg-Joyce
URL:https://gruebentaelchen.de/termine/sprechstunde-der-seniorenberaterin-2/2024-04-11/
LOCATION:Stadtteilbüro Grübentälchen\, Friedenstraße 118\, Kaiserslautern\, Rheinland-Pfalz\, 67657\, Deutschland
ATTACH;FMTTYPE=image/jpeg:https://gruebentaelchen.de/wp-content/uploads/2023/03/Sprechstunde-Seniorenberaterin.jpg
END:VEVENT
BEGIN:VEVENT
DTSTART;TZID=Europe/Berlin:20240411T130000
DTEND;TZID=Europe/Berlin:20240411T140000
DTSTAMP:20260423T124729
CREATED:20230331T193914Z
LAST-MODIFIED:20251203T134920Z
UID:10008981-1712840400-1712844000@gruebentaelchen.de
SUMMARY:Mobilitätstraining
DESCRIPTION:Zeit für Bewegung – weil’s mir gut tut!\nMobilitätstraining im Grübentälchen\nMachen Sie mit bei Übungen\, die gut für die Gesundheit sind und Spaß und Freude an der Bewegung vermitteln. Wichtige Muskelgruppen\, die die Wirbelsäule aufrichten\, werden gekräftigt und die in der Tiefe liegenden Muskeln trainiert. Musik\, die gute Laune macht\, begleitet das Programm. \nJeden donnerstags von 13:00 – 14:00 Uhr\,\nVeranstaltungsraum der Gemeinschaftsunterkunft für ukrainisch Geflüchtete\, Mennonitenstr. 28 (ehemals Zoar-Alten- und Pflegeheim) \nUnser Angebot ist kostenlos und ganz in Ihrer Nähe. Sie können in bequemer Alltagskleidung kommen. Alle Termine können unabhängig voneinander und ohne Voranmeldung besucht werden. Und Sie lernen nette Menschen kennen… \nDas Mobilitätstraining wird durchgeführt von  Jennifer Höning\, Physiotherapeutin und Bewegungsmanagerin der Stadt Kaiserslautern der Landesinitiative „Rheinland-Pfalz – Land in Bewegung“.
URL:https://gruebentaelchen.de/termine/mobilitaetstraining-2/2024-04-11/
LOCATION:Mennonitenstraße 28
CATEGORIES:Sport
ATTACH;FMTTYPE=image/jpeg:https://gruebentaelchen.de/wp-content/uploads/2023/03/Mobilitaestraining-1.jpg
END:VEVENT
BEGIN:VEVENT
DTSTART;TZID=Europe/Berlin:20240414T140000
DTEND;TZID=Europe/Berlin:20240414T160000
DTSTAMP:20260423T124729
CREATED:20240310T140014Z
LAST-MODIFIED:20240310T140014Z
UID:10004575-1713103200-1713110400@gruebentaelchen.de
SUMMARY:Aktion Stadtteilgarten
DESCRIPTION:Am Sonntag\, den 14. April\, wollen wir mit einer Aktion unseren Stadtteilgarten von 14:00 – 16:00 Uhr „neu beleben“. Geplant sind die Bepflanzung der Kräuterschnecke\, das Basteln von Upcycling-Kräutersteckern und die Vorstellung des Konzepts Stadtteilgarten bei Kaffee und Kuchen.
URL:https://gruebentaelchen.de/termine/aktion-stadtteilgarten/
LOCATION:Mennonitenstr. 28\, Mennonitenstr.28\, Kaiserslautern\, Rheinland-Pfalz\, 67657
CATEGORIES:Veranstaltung
ATTACH;FMTTYPE=image/png:https://gruebentaelchen.de/wp-content/uploads/2024/03/Plakat_Aktion_Stadtteilgarten_2024.png
END:VEVENT
END:VCALENDAR