BEGIN:VCALENDAR
VERSION:2.0
PRODID:-//StadtteilbÃ¼ro GrÃ¼bentÃ¤lchen - ECPv6.15.20//NONSGML v1.0//EN
CALSCALE:GREGORIAN
METHOD:PUBLISH
X-ORIGINAL-URL:https://gruebentaelchen.de
X-WR-CALDESC:Veranstaltungen fÃ¼r StadtteilbÃ¼ro GrÃ¼bentÃ¤lchen
REFRESH-INTERVAL;VALUE=DURATION:PT1H
X-Robots-Tag:noindex
X-PUBLISHED-TTL:PT1H
BEGIN:VTIMEZONE
TZID:Europe/Berlin
BEGIN:DAYLIGHT
TZOFFSETFROM:+0100
TZOFFSETTO:+0200
TZNAME:CEST
DTSTART:20250330T010000
END:DAYLIGHT
BEGIN:STANDARD
TZOFFSETFROM:+0200
TZOFFSETTO:+0100
TZNAME:CET
DTSTART:20251026T010000
END:STANDARD
BEGIN:DAYLIGHT
TZOFFSETFROM:+0100
TZOFFSETTO:+0200
TZNAME:CEST
DTSTART:20260329T010000
END:DAYLIGHT
BEGIN:STANDARD
TZOFFSETFROM:+0200
TZOFFSETTO:+0100
TZNAME:CET
DTSTART:20261025T010000
END:STANDARD
BEGIN:DAYLIGHT
TZOFFSETFROM:+0100
TZOFFSETTO:+0200
TZNAME:CEST
DTSTART:20270328T010000
END:DAYLIGHT
BEGIN:STANDARD
TZOFFSETFROM:+0200
TZOFFSETTO:+0100
TZNAME:CET
DTSTART:20271031T010000
END:STANDARD
END:VTIMEZONE
BEGIN:VEVENT
DTSTART;TZID=Europe/Berlin:20260209T140000
DTEND;TZID=Europe/Berlin:20260209T160000
DTSTAMP:20260421T161813
CREATED:20251120T103413Z
LAST-MODIFIED:20251124T141658Z
UID:10005793-1770645600-1770652800@gruebentaelchen.de
SUMMARY:Montagstreff
DESCRIPTION:  \nDer Montagstreff im StadtteilbÃ¼ro ist ein offener Treffpunkt fÃ¼r Menschen\, die das GesprÃ¤ch und den Austausch mit anderen suchen\, die sich gerne verabreden mÃ¶chten zum Spazieren\, ins Theater gehen\, AusflÃ¼ge machen oder einfach nur gemeinsam mit netten Menschen Zeit verbringen..
URL:https://gruebentaelchen.de/termine/montagstreff-2/2026-02-09/
LOCATION:StadtteilbÃ¼ro GrÃ¼bentÃ¤lchen\, FriedenstraÃŸe 118\, Kaiserslautern\, Rheinland-Pfalz\, 67657\, Deutschland
CATEGORIES:Kreatives,Veranstaltung
ATTACH;FMTTYPE=image/jpeg:https://gruebentaelchen.de/wp-content/uploads/2025/11/IMG_1130.jpeg
END:VEVENT
BEGIN:VEVENT
DTSTART;TZID=Europe/Berlin:20260210T110000
DTEND;TZID=Europe/Berlin:20260210T120000
DTSTAMP:20260421T161813
CREATED:20251120T104201Z
LAST-MODIFIED:20251203T140240Z
UID:10006054-1770721200-1770724800@gruebentaelchen.de
SUMMARY:Gemeinsam bewegen an der frischen Luft
DESCRIPTION:Gemeinsamer Spaziergang &#8211; gerne auch mit Walking-StÃ¶cken. Mit Dehn- und GleichgewichtsÃ¼bungen\, je nach Interesse und Fitness der Teilnehmenden. \nAlle sind willkommen! \nDie Teilnahme ist kostenfrei! \nKeine Anmeldung notwendig. Einstieg jederzeit mÃ¶glich. \nTermine: jeden Dienstag von 11.00 bis 12.00 Uhr \nOrt: Volkspark Kaiserslautern |Treffpunkt an der Konzertmuschel \n  \nSie haben Fragen?\nMelden Sie sich gerne im StadtteilbÃ¼ro GrÃ¼bentÃ¤lchen unter 0631 680 316 90.
URL:https://gruebentaelchen.de/termine/gemeinsam-bewegen-an-der-frischen-luft/2026-02-10/
LOCATION:Volkspark\, EntersweilerstraÃŸe\, Kaiserslautern
ATTACH;FMTTYPE=image/jpeg:https://gruebentaelchen.de/wp-content/uploads/2025/11/IMG_1419.jpeg
END:VEVENT
BEGIN:VEVENT
DTSTART;TZID=Europe/Berlin:20260210T110000
DTEND;TZID=Europe/Berlin:20260210T130000
DTSTAMP:20260421T161813
CREATED:20250324T003929Z
LAST-MODIFIED:20251203T140455Z
UID:10005732-1770721200-1770728400@gruebentaelchen.de
SUMMARY:Nachbarschaftstreff
DESCRIPTION:Nachbarschaftstreff im StadtteilbÃ¼ro GrÃ¼bentÃ¤lchen \nDie Landsmannschaft der Deutschen aus RuÃŸland lÃ¤dt zum monatlichen Nachbarschaftstreff an jedem 2. Dienstag / Monat von 11:00 â€“ 13:00 Uhr ins StadtteilbÃ¼ro GrÃ¼bentÃ¤lchen\, Friedenstr. 118\, ein. Alle sind herzlich willkommen!
URL:https://gruebentaelchen.de/termine/nachbarschaftstreff-2-2/2026-02-10/
LOCATION:Rheinland-Pfalz
ATTACH;FMTTYPE=image/jpeg:https://gruebentaelchen.de/wp-content/uploads/2025/02/photo_2025-02-24_01-20-43.jpg
END:VEVENT
BEGIN:VEVENT
DTSTART;TZID=Europe/Berlin:20260210T140000
DTEND;TZID=Europe/Berlin:20260210T160000
DTSTAMP:20260421T161813
CREATED:20231212T171849Z
LAST-MODIFIED:20231212T171849Z
UID:10003259-1770732000-1770739200@gruebentaelchen.de
SUMMARY:Handarbeitstreff
DESCRIPTION:Seit Februar 2017 trifft sich jeden 2. und 4. Dienstag im Monat um 14 Uhr eine Gruppe von BÃ¼rgerIinnen\, die Lust haben\, gemeinsam zu stricken und zu hÃ¤keln\, zum Handarbeitstreff. Dabei entstehen in netter Gemeinschaft TÃ¼cher\, Schals\, StrÃ¼mpfe\, Kinderdecken und weitere Projekte. Der Phantasie wird freien Lauf gelassen und neue Farben sowie Muster werden ausprobiert. Jeder arbeitet an seinem eigenen Projekt\, auf das er Lust hat\, aber es gibt auch gegenseitige Tipps und UnterstÃ¼tzung. \nAlle BewohnerInnen des GrÃ¼bentÃ¤lchens sind herzlich zum Mitmachen eingeladen! Nach MÃ¶glichkeit sollte bitte jede TeilnehmerIn eigene Handarbeitsutensilien mitbringen. \nDie Teilnahme ist kostenlos. \nDer Handarbeitstreff findet in der BegegnungsstÃ¤tte der Siedler und Eigenheimer â€žIm GrÃ¼bentÃ¤lchenâ€œ e. V. \, SchreberstraÃŸe 1\, statt.\nKontakt Ã¼ber StadtteilbÃ¼ro GrÃ¼bentÃ¤lchen
URL:https://gruebentaelchen.de/termine/handarbeitstreff-1/2026-02-10/
LOCATION:BegegnungsstÃ¤tte der Siedler- und Eigenheimer &#8222;Im GrÃ¼bentÃ¤lchen&#8220; e.V.\, SchreberstraÃŸe 1\, Kaiserslautern\, Rheinland-Pfalz\, 67657
ATTACH;FMTTYPE=image/jpeg:https://gruebentaelchen.de/wp-content/uploads/2023/02/Handarbeitstreff-jpg.jpg
END:VEVENT
BEGIN:VEVENT
DTSTART;TZID=Europe/Berlin:20260211T100000
DTEND;TZID=Europe/Berlin:20260211T120000
DTSTAMP:20260421T161813
CREATED:20230329T202135Z
LAST-MODIFIED:20240102T000038Z
UID:10003438-1770804000-1770811200@gruebentaelchen.de
SUMMARY:Kostenlose Hilfe und/oder Anleitung bei kleineren NÃ¤harbeiten
DESCRIPTION:Im StadtteilbÃ¼ro wird neuerdings â€žabgesteckt\, anprobiert\, gebÃ¼gelt und genÃ¤htâ€¦\, aber auch gelacht und gefachsimpeltâ€¦â€œ \nWir bieten UnterstuÌˆtzung an: \nbeim ReiÃŸverschluÌˆsse einsetzen\,\nHosen/RÃ¶cke kuÌˆrzen\,\nNÃ¤hte aufarbeiten\noder anderen kleineren Ã„nderungen\nsowie Vermittlung von Grundkenntnissen /Â Einstieg in Patchworkâ€¦ \nHaben Sie auch kleinere Ã„nderungen an KleidungsstÃ¼cken wie Hosen/RÃ¶cke kÃ¼rzen\, ReiÃŸverschlÃ¼sse einsetzen oder andere kleinere NÃ¤harbeiten\, die Sie gerne unter kundiger Anleitung selbst oder von einer unserer ehrenamtlich Mitarbeitenden vornehmen wollen? \nDann melden Sie sich bei uns im StadtteilbÃ¼ro! Unser kostenloses Angebot gibt es jeden 2. Mittwoch / Monat von 10:00 â€“ 12:00 UhrÂ im StadtteilbÃ¼ro. Spenden sind willlkommen.
URL:https://gruebentaelchen.de/termine/kostenlose-hilfe-und-oder-anleitung-bei-kleineren-naeharbeiten/2026-02-11/
LOCATION:StadtteilbÃ¼ro GrÃ¼bentÃ¤lchen\, FriedenstraÃŸe 118\, Kaiserslautern\, Rheinland-Pfalz\, 67657\, Deutschland
CATEGORIES:Kreatives
ATTACH;FMTTYPE=image/jpeg:https://gruebentaelchen.de/wp-content/uploads/2023/03/Naehhilfe.jpg
END:VEVENT
BEGIN:VEVENT
DTSTART;TZID=Europe/Berlin:20260211T140000
DTEND;TZID=Europe/Berlin:20260211T160000
DTSTAMP:20260421T161813
CREATED:20240102T003714Z
LAST-MODIFIED:20251124T143038Z
UID:10004225-1770818400-1770825600@gruebentaelchen.de
SUMMARY:Ãœbersetzungshilfe Arabisch-Deutsch
DESCRIPTION:Das StadtteilbuÌˆro GruÌˆbentÃ¤lchen bietet kostenlose Ãœbersetzungshilfe fuÌˆr Arabisch â€“ Deutsch an. \nJeden Mittwoch ist von 14:00 â€“ 16:00 Uhr ein Dolmetscher fuÌˆr Arabisch vor Ort\, der kostenlos bei der Ãœbersetzung von Unterlagen hilft. Eine Beglaubigung der Unterlagen ist nicht mÃ¶glich. Individuelle Termine kÃ¶nnen auch nach Bedarf ausgemacht werden.
URL:https://gruebentaelchen.de/termine/uebersetzungshilfe-arabisch-deutsch/2026-02-11/
LOCATION:StadtteilbÃ¼ro GrÃ¼bentÃ¤lchen\, FriedenstraÃŸe 118\, Kaiserslautern\, Rheinland-Pfalz\, 67657\, Deutschland
CATEGORIES:Beratung
END:VEVENT
BEGIN:VEVENT
DTSTART;TZID=Europe/Berlin:20260212T103000
DTEND;TZID=Europe/Berlin:20260212T120000
DTSTAMP:20260421T161813
CREATED:20240125T171940Z
LAST-MODIFIED:20251120T104545Z
UID:10004527-1770892200-1770897600@gruebentaelchen.de
SUMMARY:Sprechstunde der Seniorenberaterin
DESCRIPTION:jeden 2. Donnerstag im Monat von 10:30 â€“ 12:00 Uhr \nSprechstunde derÂ Seniorenberaterin Margit Walg-Joyce
URL:https://gruebentaelchen.de/termine/sprechstunde-der-seniorenberaterin-2/2026-02-12/
LOCATION:StadtteilbÃ¼ro GrÃ¼bentÃ¤lchen\, FriedenstraÃŸe 118\, Kaiserslautern\, Rheinland-Pfalz\, 67657\, Deutschland
ATTACH;FMTTYPE=image/jpeg:https://gruebentaelchen.de/wp-content/uploads/2023/03/Sprechstunde-Seniorenberaterin.jpg
END:VEVENT
BEGIN:VEVENT
DTSTART;TZID=Europe/Berlin:20260212T123000
DTEND;TZID=Europe/Berlin:20260212T140000
DTSTAMP:20260421T161813
CREATED:20251120T105002Z
LAST-MODIFIED:20251203T135304Z
UID:10006337-1770899400-1770904800@gruebentaelchen.de
SUMMARY:Gemeindeschwester Plus
DESCRIPTION:Ein Angebot fÃ¼r Ã¤ltere Menschen in der Stadt Kaiserslautern \nAline Neumann ist Ansprechpartnerin fÃ¼r betagte Menschen\, die noch keinen Pflegebedarf oder Pflegegrad haben. \nIhr Angebot ist prÃ¤ventiv ausgerichtet\, das heiÃŸt es wird versucht\, vor Eintritt der PflegebedÃ¼rftigkeit den Menschen MÃ¶glichkeiten aufzuzeigen und Angebote zu vermitteln\, um ihnen den Alltag leichter zu machen. \nDarÃ¼ber hinaus mÃ¶chte sie gemeinsam mit Seniorinnen und Senioren den Rahmen bieten\, im StadtteilbÃ¼ro zusammenzukommen\, um aktuelle WÃ¼nsche\, Anregungen und Probleme aufzugreifen. \nDieses Treffen im StadtteilbÃ¼ro soll den Seniorinnen und Senioren auch als BegegnungsstÃ¤tte dienen\, um mit anderen in Kontakt zu treten und sich auszutauschen. \njeden Donnerstag von 12.30 bis 14.00 Uhr \nStadtteilbÃ¼ro GrÃ¼bentÃ¤lchen\, Friedenstr. 118
URL:https://gruebentaelchen.de/termine/gemeindeschwester-plus/2026-02-12/
LOCATION:StadtteilbÃ¼ro GrÃ¼bentÃ¤lchen\, FriedenstraÃŸe 118\, Kaiserslautern\, Rheinland-Pfalz\, 67657\, Deutschland
CATEGORIES:Beratung
ATTACH;FMTTYPE=image/jpeg:https://gruebentaelchen.de/wp-content/uploads/2025/11/IMG_1386.jpeg
END:VEVENT
BEGIN:VEVENT
DTSTART;TZID=Europe/Berlin:20260212T130000
DTEND;TZID=Europe/Berlin:20260212T140000
DTSTAMP:20260421T161813
CREATED:20230331T193914Z
LAST-MODIFIED:20251203T134920Z
UID:10009076-1770901200-1770904800@gruebentaelchen.de
SUMMARY:MobilitÃ¤tstraining
DESCRIPTION:Zeit fÃ¼r Bewegung â€“ weilâ€™s mir gut tut!\nMobilitÃ¤tstraining im GrÃ¼bentÃ¤lchen\nMachen Sie mit bei Ãœbungen\, die gut fÃ¼r die Gesundheit sind und SpaÃŸ und Freude an der Bewegung vermitteln. Wichtige Muskelgruppen\, die die WirbelsÃ¤ule aufrichten\, werden gekrÃ¤ftigt und die in der Tiefe liegenden Muskeln trainiert. Musik\, die gute Laune macht\, begleitet das Programm. \nJeden donnerstags von 13:00 â€“ 14:00 Uhr\,\nVeranstaltungsraum der Gemeinschaftsunterkunft fÃ¼r ukrainisch GeflÃ¼chtete\, Mennonitenstr. 28 (ehemals Zoar-Alten- und Pflegeheim) \nUnser Angebot ist kostenlos und ganz in Ihrer NÃ¤he. Sie kÃ¶nnen in bequemer Alltagskleidung kommen. Alle Termine kÃ¶nnen unabhÃ¤ngig voneinander und ohne Voranmeldung besucht werden. Und Sie lernen nette Menschen kennenâ€¦ \nDas MobilitÃ¤tstraining wird durchgefÃ¼hrt vonÂ  Jennifer HÃ¶ning\, Physiotherapeutin und Bewegungsmanagerin der Stadt Kaiserslautern der Landesinitiative â€žRheinland-Pfalz â€“ Land in Bewegungâ€œ.
URL:https://gruebentaelchen.de/termine/mobilitaetstraining-2/2026-02-12/
LOCATION:MennonitenstraÃŸe 28
CATEGORIES:Sport
ATTACH;FMTTYPE=image/jpeg:https://gruebentaelchen.de/wp-content/uploads/2023/03/Mobilitaestraining-1.jpg
END:VEVENT
BEGIN:VEVENT
DTSTART;TZID=Europe/Berlin:20260212T150000
DTEND;TZID=Europe/Berlin:20260212T160000
DTSTAMP:20260421T161813
CREATED:20240123T161306Z
LAST-MODIFIED:20251203T135800Z
UID:10004399-1770908400-1770912000@gruebentaelchen.de
SUMMARY:Singkreis
DESCRIPTION:  \nSingen in Gemeinschaft schÃ¼ttet GlÃ¼ckshormone aus\, fÃ¶rdert KreativitÃ¤t und KonzentrationsfÃ¤higkeit. Auch SprachgefÃ¼hl und Wortschatz werden trainiert. \nKommen Sie vorbei und Â lassen Sie uns gemeinsam Volkslieder und Schlager singen!
URL:https://gruebentaelchen.de/termine/singkreis-3-2/2026-02-12/
LOCATION:StadtteilbÃ¼ro GrÃ¼bentÃ¤lchen\, FriedenstraÃŸe 118\, Kaiserslautern\, Rheinland-Pfalz\, 67657\, Deutschland
CATEGORIES:Veranstaltung
ATTACH;FMTTYPE=image/png:https://gruebentaelchen.de/wp-content/uploads/2023/12/2023-11-29-Flyerlang-Stadtteilbuero_Singkreis-1.png
END:VEVENT
END:VCALENDAR