BEGIN:VCALENDAR
VERSION:2.0
PRODID:-//Stadtteilbüro Grübentälchen - ECPv6.15.20//NONSGML v1.0//EN
CALSCALE:GREGORIAN
METHOD:PUBLISH
X-ORIGINAL-URL:https://gruebentaelchen.de
X-WR-CALDESC:Veranstaltungen für Stadtteilbüro Grübentälchen
REFRESH-INTERVAL;VALUE=DURATION:PT1H
X-Robots-Tag:noindex
X-PUBLISHED-TTL:PT1H
BEGIN:VTIMEZONE
TZID:Europe/Berlin
BEGIN:DAYLIGHT
TZOFFSETFROM:+0100
TZOFFSETTO:+0200
TZNAME:CEST
DTSTART:20220327T010000
END:DAYLIGHT
BEGIN:STANDARD
TZOFFSETFROM:+0200
TZOFFSETTO:+0100
TZNAME:CET
DTSTART:20221030T010000
END:STANDARD
BEGIN:DAYLIGHT
TZOFFSETFROM:+0100
TZOFFSETTO:+0200
TZNAME:CEST
DTSTART:20230326T010000
END:DAYLIGHT
BEGIN:STANDARD
TZOFFSETFROM:+0200
TZOFFSETTO:+0100
TZNAME:CET
DTSTART:20231029T010000
END:STANDARD
BEGIN:DAYLIGHT
TZOFFSETFROM:+0100
TZOFFSETTO:+0200
TZNAME:CEST
DTSTART:20240331T010000
END:DAYLIGHT
BEGIN:STANDARD
TZOFFSETFROM:+0200
TZOFFSETTO:+0100
TZNAME:CET
DTSTART:20241027T010000
END:STANDARD
END:VTIMEZONE
BEGIN:VEVENT
DTSTART;TZID=Europe/Berlin:20231118T110000
DTEND;TZID=Europe/Berlin:20231118T140000
DTSTAMP:20260423T131745
CREATED:20230928T153556Z
LAST-MODIFIED:20231105T203658Z
UID:10002901-1700305200-1700316000@gruebentaelchen.de
SUMMARY:Plätzchen backen: Weihnachtsduft in jedem Raum
DESCRIPTION:Gemeinsam wollen wir Plätzchen backen.\nMit einem gewissen Augenblinzeln sollen die Kekse ein bisschen gesünder gebacken werden\, ohne dass sie an Geschmack verlieren. Wir tasten uns an Zuckeralternativen\, höhere Typenzahlen als Weissmehl und andere Vollkornprodukte heran. Versprochen: ein leckeres veganes und ein glutenfreies Plätzchenrezept sind auch dabei. \nUm Anmeldung wird gebeten im Stadtteilbüro Grübentälchen. \nDas Angebot wird im Rahmen des Programms &#8222;teamw()rk für Gesundheit und Arbeit&#8220; umgesetzt und gefördert von den Krankenkassen/Krankenkassenverbänden des Landes Rheinland-Pfalz nach § 20a SGB V im Rahmen ihrer Aufgaben zur Gesundheitsförderung und Prävention in Lebenswelten.
URL:https://gruebentaelchen.de/termine/plaetzen-backen-weihnachtsduft-in-jedem-raum/
LOCATION:Begegnungsstätte der Siedler- und Eigenheimer &#8222;Im Grübentälchen&#8220; e.V.\, Schreberstraße 1\, Kaiserslautern\, Rheinland-Pfalz\, 67657
CATEGORIES:Veranstaltung
ATTACH;FMTTYPE=image/png:https://gruebentaelchen.de/wp-content/uploads/2023/09/2023_Flyer_KL_Weihnachtsbacken-1.png
END:VEVENT
END:VCALENDAR