BEGIN:VCALENDAR
VERSION:2.0
PRODID:-//Stadtteilbüro Grübentälchen - ECPv6.15.20//NONSGML v1.0//EN
CALSCALE:GREGORIAN
METHOD:PUBLISH
X-ORIGINAL-URL:https://gruebentaelchen.de
X-WR-CALDESC:Veranstaltungen für Stadtteilbüro Grübentälchen
REFRESH-INTERVAL;VALUE=DURATION:PT1H
X-Robots-Tag:noindex
X-PUBLISHED-TTL:PT1H
BEGIN:VTIMEZONE
TZID:Europe/Berlin
BEGIN:DAYLIGHT
TZOFFSETFROM:+0100
TZOFFSETTO:+0200
TZNAME:CEST
DTSTART:20220327T010000
END:DAYLIGHT
BEGIN:STANDARD
TZOFFSETFROM:+0200
TZOFFSETTO:+0100
TZNAME:CET
DTSTART:20221030T010000
END:STANDARD
BEGIN:DAYLIGHT
TZOFFSETFROM:+0100
TZOFFSETTO:+0200
TZNAME:CEST
DTSTART:20230326T010000
END:DAYLIGHT
BEGIN:STANDARD
TZOFFSETFROM:+0200
TZOFFSETTO:+0100
TZNAME:CET
DTSTART:20231029T010000
END:STANDARD
BEGIN:DAYLIGHT
TZOFFSETFROM:+0100
TZOFFSETTO:+0200
TZNAME:CEST
DTSTART:20240331T010000
END:DAYLIGHT
BEGIN:STANDARD
TZOFFSETFROM:+0200
TZOFFSETTO:+0100
TZNAME:CET
DTSTART:20241027T010000
END:STANDARD
BEGIN:DAYLIGHT
TZOFFSETFROM:+0100
TZOFFSETTO:+0200
TZNAME:CEST
DTSTART:20250330T010000
END:DAYLIGHT
BEGIN:STANDARD
TZOFFSETFROM:+0200
TZOFFSETTO:+0100
TZNAME:CET
DTSTART:20251026T010000
END:STANDARD
END:VTIMEZONE
BEGIN:VEVENT
DTSTART;TZID=Europe/Berlin:20240507T163000
DTEND;TZID=Europe/Berlin:20240507T180000
DTSTAMP:20260422T150340
CREATED:20230326T202339Z
LAST-MODIFIED:20240409T151846Z
UID:10004668-1715099400-1715104800@gruebentaelchen.de
SUMMARY:Stadtteilgespräch
DESCRIPTION:Das Stadtteilgespräch findet einmal pro Quartal an verschiedenen Standorten im Quartier statt. \nEs treffen sich VertreterInnen von Institutionen\, die im Quartier ansässig sind und berichten über ihre Arbeit im Stadtteil. \nEingeladen zu den Netzwerktreffen\, sind auch alle interessierten BürgerInnen aus dem Stadtteil. Das Stadtteilgespräch bietet den BürgerInnen die Möglichkeit\, sich mit Vorschlägen und Projektideen einzubringen. Dabei kann es um bauliche Maßnahmen (z.B. Straßensanierung)\, aber auch um gemeinsame Bürgerprojekte gehen. In gemütlicher und offener Runde sollen Ideen gesammelt werden. \nOrt: Besprechungsraum 6. Etage des AWO-Seniorenhauses „Alex Müller“\, Donnersbergstr. 84.
URL:https://gruebentaelchen.de/termine/stadtteilgespraech/2024-05-07/
LOCATION:AWO Seniorenhaus &#8222;Alex Müller&#8220;\, Donnersbergstr. 84\, Kaiserslautern\, 67657\, Deutschland
CATEGORIES:Veranstaltung
ATTACH;FMTTYPE=image/jpeg:https://gruebentaelchen.de/wp-content/uploads/2017/11/Stadtteilgespraech_Stadtteilbuero_Gruebentaelchen_Kaiserslautern_2.jpg
ORGANIZER;CN="Stadtteilb%C3%BCro Gr%C3%BCbent%C3%A4lchen":MAILTO:stadtteilbuero-gruebentaelchen@gemeinschaftswerk.de
END:VEVENT
BEGIN:VEVENT
DTSTART;TZID=Europe/Berlin:20230912T163000
DTEND;TZID=Europe/Berlin:20230912T183000
DTSTAMP:20260422T150340
CREATED:20230326T202339Z
LAST-MODIFIED:20240409T151846Z
UID:10002581-1694536200-1694543400@gruebentaelchen.de
SUMMARY:Stadtteilgespräch
DESCRIPTION:Das Stadtteilgespräch findet einmal pro Quartal an verschiedenen Standorten im Quartier statt. \nEs treffen sich VertreterInnen von Institutionen\, die im Quartier ansässig sind und berichten über ihre Arbeit im Stadtteil. \nEingeladen zu den Netzwerktreffen\, sind auch alle interessierten BürgerInnen aus dem Stadtteil. Das Stadtteilgespräch bietet den BürgerInnen die Möglichkeit\, sich mit Vorschlägen und Projektideen einzubringen. Dabei kann es um bauliche Maßnahmen (z.B. Straßensanierung)\, aber auch um gemeinsame Bürgerprojekte gehen. In gemütlicher und offener Runde sollen Ideen gesammelt werden. \nOrt: Besprechungsraum 6. Etage des AWO-Seniorenhauses „Alex Müller“\, Donnersbergstr. 84.
URL:https://gruebentaelchen.de/termine/stadtteilgespraech/2023-09-12/
LOCATION:AWO Seniorenhaus &#8222;Alex Müller&#8220;\, Donnersbergstr. 84\, Kaiserslautern\, 67657\, Deutschland
CATEGORIES:Veranstaltung
ATTACH;FMTTYPE=image/jpeg:https://gruebentaelchen.de/wp-content/uploads/2017/11/Stadtteilgespraech_Stadtteilbuero_Gruebentaelchen_Kaiserslautern_2.jpg
ORGANIZER;CN="Stadtteilb%C3%BCro Gr%C3%BCbent%C3%A4lchen":MAILTO:stadtteilbuero-gruebentaelchen@gemeinschaftswerk.de
END:VEVENT
END:VCALENDAR