BEGIN:VCALENDAR
VERSION:2.0
PRODID:-//Stadtteilbüro Grübentälchen - ECPv6.15.20//NONSGML v1.0//EN
CALSCALE:GREGORIAN
METHOD:PUBLISH
X-ORIGINAL-URL:https://gruebentaelchen.de
X-WR-CALDESC:Veranstaltungen für Stadtteilbüro Grübentälchen
REFRESH-INTERVAL;VALUE=DURATION:PT1H
X-Robots-Tag:noindex
X-PUBLISHED-TTL:PT1H
BEGIN:VTIMEZONE
TZID:Europe/Berlin
BEGIN:DAYLIGHT
TZOFFSETFROM:+0100
TZOFFSETTO:+0200
TZNAME:CEST
DTSTART:20290325T010000
END:DAYLIGHT
BEGIN:STANDARD
TZOFFSETFROM:+0200
TZOFFSETTO:+0100
TZNAME:CET
DTSTART:20291028T010000
END:STANDARD
BEGIN:DAYLIGHT
TZOFFSETFROM:+0100
TZOFFSETTO:+0200
TZNAME:CEST
DTSTART:20300331T010000
END:DAYLIGHT
BEGIN:STANDARD
TZOFFSETFROM:+0200
TZOFFSETTO:+0100
TZNAME:CET
DTSTART:20301027T010000
END:STANDARD
BEGIN:DAYLIGHT
TZOFFSETFROM:+0100
TZOFFSETTO:+0200
TZNAME:CEST
DTSTART:20310330T010000
END:DAYLIGHT
BEGIN:STANDARD
TZOFFSETFROM:+0200
TZOFFSETTO:+0100
TZNAME:CET
DTSTART:20311026T010000
END:STANDARD
END:VTIMEZONE
BEGIN:VEVENT
DTSTART;TZID=Europe/Berlin:20300528T140000
DTEND;TZID=Europe/Berlin:20300528T160000
DTSTAMP:20260423T164120
CREATED:20231212T172354Z
LAST-MODIFIED:20251124T142723Z
UID:10008901-1906207200-1906214400@gruebentaelchen.de
SUMMARY:Handarbeitstreff
DESCRIPTION:Seit Februar 2017 trifft sich jeden 2. und 4. Dienstag im Monat um 14 Uhr eine Gruppe von BürgerIinnen\, die Lust haben\, gemeinsam zu stricken und zu häkeln\, zum Handarbeitstreff. Dabei entstehen in netter Gemeinschaft Tücher\, Schals\, Strümpfe\, Kinderdecken und weitere Projekte. Der Phantasie wird freien Lauf gelassen und neue Farben sowie Muster werden ausprobiert. Jeder arbeitet an seinem eigenen Projekt\, auf das er Lust hat\, aber es gibt auch gegenseitige Tipps und Unterstützung. \nAlle BewohnerInnen des Grübentälchens sind herzlich zum Mitmachen eingeladen! Nach Möglichkeit sollte bitte jede TeilnehmerIn eigene Handarbeitsutensilien mitbringen. \nDie Teilnahme ist kostenlos. \nDer Handarbeitstreff findet in der Begegnungsstätte der Siedler und Eigenheimer „Im Grübentälchen“ e. V. \, Schreberstraße 1\, statt.\nKontakt über Stadtteilbüro Grübentälchen
URL:https://gruebentaelchen.de/termine/handarbeitstreff-2/2030-05-28/
LOCATION:Begegnungsstätte der Siedler- und Eigenheimer &#8222;Im Grübentälchen&#8220; e.V.\, Schreberstraße 1\, Kaiserslautern\, Rheinland-Pfalz\, 67657
ATTACH;FMTTYPE=image/jpeg:https://gruebentaelchen.de/wp-content/uploads/2023/02/Handarbeitstreff-jpg.jpg
END:VEVENT
BEGIN:VEVENT
DTSTART;TZID=Europe/Berlin:20300531T160000
DTEND;TZID=Europe/Berlin:20300531T180000
DTSTAMP:20260423T164120
CREATED:20241227T152034Z
LAST-MODIFIED:20251124T142450Z
UID:10008878-1906473600-1906480800@gruebentaelchen.de
SUMMARY:Spieletreff mit Jakkolo
DESCRIPTION:Jakkolo im Grübentälchen\nJeden letzten Freitag im Monat von 16:00 – 18:00 Uhr\nkönnen Sie im Rahmen unseres Spieletreffs Jakkolo oder andere Spiele spielen. \nBeim Jakkolo müssen 30 Holzscheiben direkt oder indirekt in vier Boxen\, die mit Punktzeichen gekennzeichnet sind\, gespielt werden. \nAb ca. 9 Jahren können alle mit gleichen Chancen spielen\, egal ob Frau oder Mann\, Kinder oder Erwachsener\, Jung oder Alt\, Menschen mit oder ohne Handicap. Es kann im Stehen oder Sitzen gespielt werden. \nMachen Sie mit! Unser Team freut sich auf Ihr Kommen in die Begegnungsstätte der Siedler- und Eigenheimer „Im Grübentälchen“ e. V\, Schreberstraße 1. \nKontakt unter 0631 – 680 316 90
URL:https://gruebentaelchen.de/termine/spieletreff-mit-jakkolo-2/2030-05-31/
LOCATION:Begegnungsstätte der Siedler- und Eigenheimer &#8222;Im Grübentälchen&#8220; e.V.\, Schreberstraße 1\, Kaiserslautern\, Rheinland-Pfalz\, 67657
CATEGORIES:Veranstaltung
ATTACH;FMTTYPE=image/jpeg:https://gruebentaelchen.de/wp-content/uploads/2023/07/Plaudercafe-mit-Jakkolo-im-Gruebentaelchen-Kaiserslautern-01.jpg
END:VEVENT
BEGIN:VEVENT
DTSTART;TZID=Europe/Berlin:20300625T140000
DTEND;TZID=Europe/Berlin:20300625T160000
DTSTAMP:20260423T164120
CREATED:20231212T172354Z
LAST-MODIFIED:20251124T142723Z
UID:10008902-1908626400-1908633600@gruebentaelchen.de
SUMMARY:Handarbeitstreff
DESCRIPTION:Seit Februar 2017 trifft sich jeden 2. und 4. Dienstag im Monat um 14 Uhr eine Gruppe von BürgerIinnen\, die Lust haben\, gemeinsam zu stricken und zu häkeln\, zum Handarbeitstreff. Dabei entstehen in netter Gemeinschaft Tücher\, Schals\, Strümpfe\, Kinderdecken und weitere Projekte. Der Phantasie wird freien Lauf gelassen und neue Farben sowie Muster werden ausprobiert. Jeder arbeitet an seinem eigenen Projekt\, auf das er Lust hat\, aber es gibt auch gegenseitige Tipps und Unterstützung. \nAlle BewohnerInnen des Grübentälchens sind herzlich zum Mitmachen eingeladen! Nach Möglichkeit sollte bitte jede TeilnehmerIn eigene Handarbeitsutensilien mitbringen. \nDie Teilnahme ist kostenlos. \nDer Handarbeitstreff findet in der Begegnungsstätte der Siedler und Eigenheimer „Im Grübentälchen“ e. V. \, Schreberstraße 1\, statt.\nKontakt über Stadtteilbüro Grübentälchen
URL:https://gruebentaelchen.de/termine/handarbeitstreff-2/2030-06-25/
LOCATION:Begegnungsstätte der Siedler- und Eigenheimer &#8222;Im Grübentälchen&#8220; e.V.\, Schreberstraße 1\, Kaiserslautern\, Rheinland-Pfalz\, 67657
ATTACH;FMTTYPE=image/jpeg:https://gruebentaelchen.de/wp-content/uploads/2023/02/Handarbeitstreff-jpg.jpg
END:VEVENT
BEGIN:VEVENT
DTSTART;TZID=Europe/Berlin:20300628T160000
DTEND;TZID=Europe/Berlin:20300628T180000
DTSTAMP:20260423T164120
CREATED:20241227T152034Z
LAST-MODIFIED:20251124T142450Z
UID:10008879-1908892800-1908900000@gruebentaelchen.de
SUMMARY:Spieletreff mit Jakkolo
DESCRIPTION:Jakkolo im Grübentälchen\nJeden letzten Freitag im Monat von 16:00 – 18:00 Uhr\nkönnen Sie im Rahmen unseres Spieletreffs Jakkolo oder andere Spiele spielen. \nBeim Jakkolo müssen 30 Holzscheiben direkt oder indirekt in vier Boxen\, die mit Punktzeichen gekennzeichnet sind\, gespielt werden. \nAb ca. 9 Jahren können alle mit gleichen Chancen spielen\, egal ob Frau oder Mann\, Kinder oder Erwachsener\, Jung oder Alt\, Menschen mit oder ohne Handicap. Es kann im Stehen oder Sitzen gespielt werden. \nMachen Sie mit! Unser Team freut sich auf Ihr Kommen in die Begegnungsstätte der Siedler- und Eigenheimer „Im Grübentälchen“ e. V\, Schreberstraße 1. \nKontakt unter 0631 – 680 316 90
URL:https://gruebentaelchen.de/termine/spieletreff-mit-jakkolo-2/2030-06-28/
LOCATION:Begegnungsstätte der Siedler- und Eigenheimer &#8222;Im Grübentälchen&#8220; e.V.\, Schreberstraße 1\, Kaiserslautern\, Rheinland-Pfalz\, 67657
CATEGORIES:Veranstaltung
ATTACH;FMTTYPE=image/jpeg:https://gruebentaelchen.de/wp-content/uploads/2023/07/Plaudercafe-mit-Jakkolo-im-Gruebentaelchen-Kaiserslautern-01.jpg
END:VEVENT
BEGIN:VEVENT
DTSTART;TZID=Europe/Berlin:20300723T140000
DTEND;TZID=Europe/Berlin:20300723T160000
DTSTAMP:20260423T164120
CREATED:20231212T172354Z
LAST-MODIFIED:20251124T142723Z
UID:10008903-1911045600-1911052800@gruebentaelchen.de
SUMMARY:Handarbeitstreff
DESCRIPTION:Seit Februar 2017 trifft sich jeden 2. und 4. Dienstag im Monat um 14 Uhr eine Gruppe von BürgerIinnen\, die Lust haben\, gemeinsam zu stricken und zu häkeln\, zum Handarbeitstreff. Dabei entstehen in netter Gemeinschaft Tücher\, Schals\, Strümpfe\, Kinderdecken und weitere Projekte. Der Phantasie wird freien Lauf gelassen und neue Farben sowie Muster werden ausprobiert. Jeder arbeitet an seinem eigenen Projekt\, auf das er Lust hat\, aber es gibt auch gegenseitige Tipps und Unterstützung. \nAlle BewohnerInnen des Grübentälchens sind herzlich zum Mitmachen eingeladen! Nach Möglichkeit sollte bitte jede TeilnehmerIn eigene Handarbeitsutensilien mitbringen. \nDie Teilnahme ist kostenlos. \nDer Handarbeitstreff findet in der Begegnungsstätte der Siedler und Eigenheimer „Im Grübentälchen“ e. V. \, Schreberstraße 1\, statt.\nKontakt über Stadtteilbüro Grübentälchen
URL:https://gruebentaelchen.de/termine/handarbeitstreff-2/2030-07-23/
LOCATION:Begegnungsstätte der Siedler- und Eigenheimer &#8222;Im Grübentälchen&#8220; e.V.\, Schreberstraße 1\, Kaiserslautern\, Rheinland-Pfalz\, 67657
ATTACH;FMTTYPE=image/jpeg:https://gruebentaelchen.de/wp-content/uploads/2023/02/Handarbeitstreff-jpg.jpg
END:VEVENT
BEGIN:VEVENT
DTSTART;TZID=Europe/Berlin:20300726T160000
DTEND;TZID=Europe/Berlin:20300726T180000
DTSTAMP:20260423T164120
CREATED:20241227T152034Z
LAST-MODIFIED:20251124T142450Z
UID:10008880-1911312000-1911319200@gruebentaelchen.de
SUMMARY:Spieletreff mit Jakkolo
DESCRIPTION:Jakkolo im Grübentälchen\nJeden letzten Freitag im Monat von 16:00 – 18:00 Uhr\nkönnen Sie im Rahmen unseres Spieletreffs Jakkolo oder andere Spiele spielen. \nBeim Jakkolo müssen 30 Holzscheiben direkt oder indirekt in vier Boxen\, die mit Punktzeichen gekennzeichnet sind\, gespielt werden. \nAb ca. 9 Jahren können alle mit gleichen Chancen spielen\, egal ob Frau oder Mann\, Kinder oder Erwachsener\, Jung oder Alt\, Menschen mit oder ohne Handicap. Es kann im Stehen oder Sitzen gespielt werden. \nMachen Sie mit! Unser Team freut sich auf Ihr Kommen in die Begegnungsstätte der Siedler- und Eigenheimer „Im Grübentälchen“ e. V\, Schreberstraße 1. \nKontakt unter 0631 – 680 316 90
URL:https://gruebentaelchen.de/termine/spieletreff-mit-jakkolo-2/2030-07-26/
LOCATION:Begegnungsstätte der Siedler- und Eigenheimer &#8222;Im Grübentälchen&#8220; e.V.\, Schreberstraße 1\, Kaiserslautern\, Rheinland-Pfalz\, 67657
CATEGORIES:Veranstaltung
ATTACH;FMTTYPE=image/jpeg:https://gruebentaelchen.de/wp-content/uploads/2023/07/Plaudercafe-mit-Jakkolo-im-Gruebentaelchen-Kaiserslautern-01.jpg
END:VEVENT
BEGIN:VEVENT
DTSTART;TZID=Europe/Berlin:20300827T140000
DTEND;TZID=Europe/Berlin:20300827T160000
DTSTAMP:20260423T164120
CREATED:20231212T172354Z
LAST-MODIFIED:20251124T142723Z
UID:10008904-1914069600-1914076800@gruebentaelchen.de
SUMMARY:Handarbeitstreff
DESCRIPTION:Seit Februar 2017 trifft sich jeden 2. und 4. Dienstag im Monat um 14 Uhr eine Gruppe von BürgerIinnen\, die Lust haben\, gemeinsam zu stricken und zu häkeln\, zum Handarbeitstreff. Dabei entstehen in netter Gemeinschaft Tücher\, Schals\, Strümpfe\, Kinderdecken und weitere Projekte. Der Phantasie wird freien Lauf gelassen und neue Farben sowie Muster werden ausprobiert. Jeder arbeitet an seinem eigenen Projekt\, auf das er Lust hat\, aber es gibt auch gegenseitige Tipps und Unterstützung. \nAlle BewohnerInnen des Grübentälchens sind herzlich zum Mitmachen eingeladen! Nach Möglichkeit sollte bitte jede TeilnehmerIn eigene Handarbeitsutensilien mitbringen. \nDie Teilnahme ist kostenlos. \nDer Handarbeitstreff findet in der Begegnungsstätte der Siedler und Eigenheimer „Im Grübentälchen“ e. V. \, Schreberstraße 1\, statt.\nKontakt über Stadtteilbüro Grübentälchen
URL:https://gruebentaelchen.de/termine/handarbeitstreff-2/2030-08-27/
LOCATION:Begegnungsstätte der Siedler- und Eigenheimer &#8222;Im Grübentälchen&#8220; e.V.\, Schreberstraße 1\, Kaiserslautern\, Rheinland-Pfalz\, 67657
ATTACH;FMTTYPE=image/jpeg:https://gruebentaelchen.de/wp-content/uploads/2023/02/Handarbeitstreff-jpg.jpg
END:VEVENT
BEGIN:VEVENT
DTSTART;TZID=Europe/Berlin:20300830T160000
DTEND;TZID=Europe/Berlin:20300830T180000
DTSTAMP:20260423T164120
CREATED:20241227T152034Z
LAST-MODIFIED:20251124T142450Z
UID:10008881-1914336000-1914343200@gruebentaelchen.de
SUMMARY:Spieletreff mit Jakkolo
DESCRIPTION:Jakkolo im Grübentälchen\nJeden letzten Freitag im Monat von 16:00 – 18:00 Uhr\nkönnen Sie im Rahmen unseres Spieletreffs Jakkolo oder andere Spiele spielen. \nBeim Jakkolo müssen 30 Holzscheiben direkt oder indirekt in vier Boxen\, die mit Punktzeichen gekennzeichnet sind\, gespielt werden. \nAb ca. 9 Jahren können alle mit gleichen Chancen spielen\, egal ob Frau oder Mann\, Kinder oder Erwachsener\, Jung oder Alt\, Menschen mit oder ohne Handicap. Es kann im Stehen oder Sitzen gespielt werden. \nMachen Sie mit! Unser Team freut sich auf Ihr Kommen in die Begegnungsstätte der Siedler- und Eigenheimer „Im Grübentälchen“ e. V\, Schreberstraße 1. \nKontakt unter 0631 – 680 316 90
URL:https://gruebentaelchen.de/termine/spieletreff-mit-jakkolo-2/2030-08-30/
LOCATION:Begegnungsstätte der Siedler- und Eigenheimer &#8222;Im Grübentälchen&#8220; e.V.\, Schreberstraße 1\, Kaiserslautern\, Rheinland-Pfalz\, 67657
CATEGORIES:Veranstaltung
ATTACH;FMTTYPE=image/jpeg:https://gruebentaelchen.de/wp-content/uploads/2023/07/Plaudercafe-mit-Jakkolo-im-Gruebentaelchen-Kaiserslautern-01.jpg
END:VEVENT
BEGIN:VEVENT
DTSTART;TZID=Europe/Berlin:20300924T140000
DTEND;TZID=Europe/Berlin:20300924T160000
DTSTAMP:20260423T164120
CREATED:20231212T172354Z
LAST-MODIFIED:20251124T142723Z
UID:10008905-1916488800-1916496000@gruebentaelchen.de
SUMMARY:Handarbeitstreff
DESCRIPTION:Seit Februar 2017 trifft sich jeden 2. und 4. Dienstag im Monat um 14 Uhr eine Gruppe von BürgerIinnen\, die Lust haben\, gemeinsam zu stricken und zu häkeln\, zum Handarbeitstreff. Dabei entstehen in netter Gemeinschaft Tücher\, Schals\, Strümpfe\, Kinderdecken und weitere Projekte. Der Phantasie wird freien Lauf gelassen und neue Farben sowie Muster werden ausprobiert. Jeder arbeitet an seinem eigenen Projekt\, auf das er Lust hat\, aber es gibt auch gegenseitige Tipps und Unterstützung. \nAlle BewohnerInnen des Grübentälchens sind herzlich zum Mitmachen eingeladen! Nach Möglichkeit sollte bitte jede TeilnehmerIn eigene Handarbeitsutensilien mitbringen. \nDie Teilnahme ist kostenlos. \nDer Handarbeitstreff findet in der Begegnungsstätte der Siedler und Eigenheimer „Im Grübentälchen“ e. V. \, Schreberstraße 1\, statt.\nKontakt über Stadtteilbüro Grübentälchen
URL:https://gruebentaelchen.de/termine/handarbeitstreff-2/2030-09-24/
LOCATION:Begegnungsstätte der Siedler- und Eigenheimer &#8222;Im Grübentälchen&#8220; e.V.\, Schreberstraße 1\, Kaiserslautern\, Rheinland-Pfalz\, 67657
ATTACH;FMTTYPE=image/jpeg:https://gruebentaelchen.de/wp-content/uploads/2023/02/Handarbeitstreff-jpg.jpg
END:VEVENT
BEGIN:VEVENT
DTSTART;TZID=Europe/Berlin:20300927T160000
DTEND;TZID=Europe/Berlin:20300927T180000
DTSTAMP:20260423T164120
CREATED:20241227T152034Z
LAST-MODIFIED:20251124T142450Z
UID:10008882-1916755200-1916762400@gruebentaelchen.de
SUMMARY:Spieletreff mit Jakkolo
DESCRIPTION:Jakkolo im Grübentälchen\nJeden letzten Freitag im Monat von 16:00 – 18:00 Uhr\nkönnen Sie im Rahmen unseres Spieletreffs Jakkolo oder andere Spiele spielen. \nBeim Jakkolo müssen 30 Holzscheiben direkt oder indirekt in vier Boxen\, die mit Punktzeichen gekennzeichnet sind\, gespielt werden. \nAb ca. 9 Jahren können alle mit gleichen Chancen spielen\, egal ob Frau oder Mann\, Kinder oder Erwachsener\, Jung oder Alt\, Menschen mit oder ohne Handicap. Es kann im Stehen oder Sitzen gespielt werden. \nMachen Sie mit! Unser Team freut sich auf Ihr Kommen in die Begegnungsstätte der Siedler- und Eigenheimer „Im Grübentälchen“ e. V\, Schreberstraße 1. \nKontakt unter 0631 – 680 316 90
URL:https://gruebentaelchen.de/termine/spieletreff-mit-jakkolo-2/2030-09-27/
LOCATION:Begegnungsstätte der Siedler- und Eigenheimer &#8222;Im Grübentälchen&#8220; e.V.\, Schreberstraße 1\, Kaiserslautern\, Rheinland-Pfalz\, 67657
CATEGORIES:Veranstaltung
ATTACH;FMTTYPE=image/jpeg:https://gruebentaelchen.de/wp-content/uploads/2023/07/Plaudercafe-mit-Jakkolo-im-Gruebentaelchen-Kaiserslautern-01.jpg
END:VEVENT
BEGIN:VEVENT
DTSTART;TZID=Europe/Berlin:20301022T140000
DTEND;TZID=Europe/Berlin:20301022T160000
DTSTAMP:20260423T164120
CREATED:20231212T172354Z
LAST-MODIFIED:20251124T142723Z
UID:10008906-1918908000-1918915200@gruebentaelchen.de
SUMMARY:Handarbeitstreff
DESCRIPTION:Seit Februar 2017 trifft sich jeden 2. und 4. Dienstag im Monat um 14 Uhr eine Gruppe von BürgerIinnen\, die Lust haben\, gemeinsam zu stricken und zu häkeln\, zum Handarbeitstreff. Dabei entstehen in netter Gemeinschaft Tücher\, Schals\, Strümpfe\, Kinderdecken und weitere Projekte. Der Phantasie wird freien Lauf gelassen und neue Farben sowie Muster werden ausprobiert. Jeder arbeitet an seinem eigenen Projekt\, auf das er Lust hat\, aber es gibt auch gegenseitige Tipps und Unterstützung. \nAlle BewohnerInnen des Grübentälchens sind herzlich zum Mitmachen eingeladen! Nach Möglichkeit sollte bitte jede TeilnehmerIn eigene Handarbeitsutensilien mitbringen. \nDie Teilnahme ist kostenlos. \nDer Handarbeitstreff findet in der Begegnungsstätte der Siedler und Eigenheimer „Im Grübentälchen“ e. V. \, Schreberstraße 1\, statt.\nKontakt über Stadtteilbüro Grübentälchen
URL:https://gruebentaelchen.de/termine/handarbeitstreff-2/2030-10-22/
LOCATION:Begegnungsstätte der Siedler- und Eigenheimer &#8222;Im Grübentälchen&#8220; e.V.\, Schreberstraße 1\, Kaiserslautern\, Rheinland-Pfalz\, 67657
ATTACH;FMTTYPE=image/jpeg:https://gruebentaelchen.de/wp-content/uploads/2023/02/Handarbeitstreff-jpg.jpg
END:VEVENT
BEGIN:VEVENT
DTSTART;TZID=Europe/Berlin:20301025T160000
DTEND;TZID=Europe/Berlin:20301025T180000
DTSTAMP:20260423T164120
CREATED:20241227T152034Z
LAST-MODIFIED:20251124T142450Z
UID:10008883-1919174400-1919181600@gruebentaelchen.de
SUMMARY:Spieletreff mit Jakkolo
DESCRIPTION:Jakkolo im Grübentälchen\nJeden letzten Freitag im Monat von 16:00 – 18:00 Uhr\nkönnen Sie im Rahmen unseres Spieletreffs Jakkolo oder andere Spiele spielen. \nBeim Jakkolo müssen 30 Holzscheiben direkt oder indirekt in vier Boxen\, die mit Punktzeichen gekennzeichnet sind\, gespielt werden. \nAb ca. 9 Jahren können alle mit gleichen Chancen spielen\, egal ob Frau oder Mann\, Kinder oder Erwachsener\, Jung oder Alt\, Menschen mit oder ohne Handicap. Es kann im Stehen oder Sitzen gespielt werden. \nMachen Sie mit! Unser Team freut sich auf Ihr Kommen in die Begegnungsstätte der Siedler- und Eigenheimer „Im Grübentälchen“ e. V\, Schreberstraße 1. \nKontakt unter 0631 – 680 316 90
URL:https://gruebentaelchen.de/termine/spieletreff-mit-jakkolo-2/2030-10-25/
LOCATION:Begegnungsstätte der Siedler- und Eigenheimer &#8222;Im Grübentälchen&#8220; e.V.\, Schreberstraße 1\, Kaiserslautern\, Rheinland-Pfalz\, 67657
CATEGORIES:Veranstaltung
ATTACH;FMTTYPE=image/jpeg:https://gruebentaelchen.de/wp-content/uploads/2023/07/Plaudercafe-mit-Jakkolo-im-Gruebentaelchen-Kaiserslautern-01.jpg
END:VEVENT
END:VCALENDAR