BEGIN:VCALENDAR
VERSION:2.0
PRODID:-//Stadtteilbüro Grübentälchen - ECPv6.15.20//NONSGML v1.0//EN
CALSCALE:GREGORIAN
METHOD:PUBLISH
X-WR-CALNAME:Stadtteilbüro Grübentälchen
X-ORIGINAL-URL:https://gruebentaelchen.de
X-WR-CALDESC:Veranstaltungen für Stadtteilbüro Grübentälchen
REFRESH-INTERVAL;VALUE=DURATION:PT1H
X-Robots-Tag:noindex
X-PUBLISHED-TTL:PT1H
BEGIN:VTIMEZONE
TZID:Europe/Berlin
BEGIN:DAYLIGHT
TZOFFSETFROM:+0100
TZOFFSETTO:+0200
TZNAME:CEST
DTSTART:20220327T010000
END:DAYLIGHT
BEGIN:STANDARD
TZOFFSETFROM:+0200
TZOFFSETTO:+0100
TZNAME:CET
DTSTART:20221030T010000
END:STANDARD
BEGIN:DAYLIGHT
TZOFFSETFROM:+0100
TZOFFSETTO:+0200
TZNAME:CEST
DTSTART:20230326T010000
END:DAYLIGHT
BEGIN:STANDARD
TZOFFSETFROM:+0200
TZOFFSETTO:+0100
TZNAME:CET
DTSTART:20231029T010000
END:STANDARD
BEGIN:DAYLIGHT
TZOFFSETFROM:+0100
TZOFFSETTO:+0200
TZNAME:CEST
DTSTART:20240331T010000
END:DAYLIGHT
BEGIN:STANDARD
TZOFFSETFROM:+0200
TZOFFSETTO:+0100
TZNAME:CET
DTSTART:20241027T010000
END:STANDARD
END:VTIMEZONE
BEGIN:VEVENT
DTSTART;TZID=Europe/Berlin:20231124T160000
DTEND;TZID=Europe/Berlin:20231124T180000
DTSTAMP:20260422T193722
CREATED:20230326T203407Z
LAST-MODIFIED:20231026T151928Z
UID:10002651-1700841600-1700848800@gruebentaelchen.de
SUMMARY:PlauderKaffee mit Jakkolo
DESCRIPTION:Jakkolo im Grübentälchen\nJeden letzten Freitag im Monat von 16:00 – 18:00 Uhr\nkönnen Sie im Rahmen unseres PlauderKaffees Jakkolo oder andere Spiele spielen. \nBeim Jakkolo müssen 30 Holzscheiben direkt oder indirekt in vier Boxen\, die mit Punktzeichen gekennzeichnet sind\, gespielt werden. \nAb ca. 9 Jahren können alle mit gleichen Chancen spielen\, egal ob Frau oder Mann\, Kinder oder Erwachsener\, Jung oder Alt\, Menschen mit oder ohne Handicap. Es kann im Stehen oder Sitzen gespielt werden. \nMachen Sie mit! Unser Team freut sich auf Ihr Kommen in die Begegnungsstätte der Siedler- und Eigenheimer „Im Grübentälchen“ e. V\, Schreberstraße 1. \nKontakt unter 0631 – 680 316 90
URL:https://gruebentaelchen.de/termine/plauderkaffee-mit-jakkolo/2023-11-24/
LOCATION:Begegnungsstätte der Siedler- und Eigenheimer &#8222;Im Grübentälchen&#8220; e.V.\, Schreberstraße 1\, Kaiserslautern\, Rheinland-Pfalz\, 67657
CATEGORIES:Veranstaltung
ATTACH;FMTTYPE=image/jpeg:https://gruebentaelchen.de/wp-content/uploads/2023/03/Jakkolo.jpg
END:VEVENT
BEGIN:VEVENT
DTSTART;TZID=Europe/Berlin:20231118T110000
DTEND;TZID=Europe/Berlin:20231118T140000
DTSTAMP:20260422T193722
CREATED:20230928T153556Z
LAST-MODIFIED:20231105T203658Z
UID:10002901-1700305200-1700316000@gruebentaelchen.de
SUMMARY:Plätzchen backen: Weihnachtsduft in jedem Raum
DESCRIPTION:Gemeinsam wollen wir Plätzchen backen.\nMit einem gewissen Augenblinzeln sollen die Kekse ein bisschen gesünder gebacken werden\, ohne dass sie an Geschmack verlieren. Wir tasten uns an Zuckeralternativen\, höhere Typenzahlen als Weissmehl und andere Vollkornprodukte heran. Versprochen: ein leckeres veganes und ein glutenfreies Plätzchenrezept sind auch dabei. \nUm Anmeldung wird gebeten im Stadtteilbüro Grübentälchen. \nDas Angebot wird im Rahmen des Programms &#8222;teamw()rk für Gesundheit und Arbeit&#8220; umgesetzt und gefördert von den Krankenkassen/Krankenkassenverbänden des Landes Rheinland-Pfalz nach § 20a SGB V im Rahmen ihrer Aufgaben zur Gesundheitsförderung und Prävention in Lebenswelten.
URL:https://gruebentaelchen.de/termine/plaetzen-backen-weihnachtsduft-in-jedem-raum/
LOCATION:Begegnungsstätte der Siedler- und Eigenheimer &#8222;Im Grübentälchen&#8220; e.V.\, Schreberstraße 1\, Kaiserslautern\, Rheinland-Pfalz\, 67657
CATEGORIES:Veranstaltung
ATTACH;FMTTYPE=image/png:https://gruebentaelchen.de/wp-content/uploads/2023/09/2023_Flyer_KL_Weihnachtsbacken-1.png
END:VEVENT
BEGIN:VEVENT
DTSTART;TZID=Europe/Berlin:20231027T150000
DTEND;TZID=Europe/Berlin:20231027T180000
DTSTAMP:20260422T193722
CREATED:20230914T153348Z
LAST-MODIFIED:20231026T153125Z
UID:10002898-1698418800-1698429600@gruebentaelchen.de
SUMMARY:5. Lautrer DRK - Jakkolo-Turnier
DESCRIPTION:Anmeldung bis zum 20. Oktober im Stadtteilbüro Grübentälchen
URL:https://gruebentaelchen.de/termine/5-lautrer-drk-jakkolo-turnier/
LOCATION:Begegnungsstätte der Siedler- und Eigenheimer &#8222;Im Grübentälchen&#8220; e.V.\, Schreberstraße 1\, Kaiserslautern\, Rheinland-Pfalz\, 67657
CATEGORIES:Veranstaltung
ATTACH;FMTTYPE=image/jpeg:https://gruebentaelchen.de/wp-content/uploads/2023/09/Plakat_5_DRK-Jakkolo-Turnier_2023.jpg
END:VEVENT
BEGIN:VEVENT
DTSTART;TZID=Europe/Berlin:20230929T160000
DTEND;TZID=Europe/Berlin:20230929T180000
DTSTAMP:20260422T193722
CREATED:20230326T203407Z
LAST-MODIFIED:20231026T151928Z
UID:10002649-1696003200-1696010400@gruebentaelchen.de
SUMMARY:PlauderKaffee mit Jakkolo
DESCRIPTION:Jakkolo im Grübentälchen\nJeden letzten Freitag im Monat von 16:00 – 18:00 Uhr\nkönnen Sie im Rahmen unseres PlauderKaffees Jakkolo oder andere Spiele spielen. \nBeim Jakkolo müssen 30 Holzscheiben direkt oder indirekt in vier Boxen\, die mit Punktzeichen gekennzeichnet sind\, gespielt werden. \nAb ca. 9 Jahren können alle mit gleichen Chancen spielen\, egal ob Frau oder Mann\, Kinder oder Erwachsener\, Jung oder Alt\, Menschen mit oder ohne Handicap. Es kann im Stehen oder Sitzen gespielt werden. \nMachen Sie mit! Unser Team freut sich auf Ihr Kommen in die Begegnungsstätte der Siedler- und Eigenheimer „Im Grübentälchen“ e. V\, Schreberstraße 1. \nKontakt unter 0631 – 680 316 90
URL:https://gruebentaelchen.de/termine/plauderkaffee-mit-jakkolo/2023-09-29/
LOCATION:Begegnungsstätte der Siedler- und Eigenheimer &#8222;Im Grübentälchen&#8220; e.V.\, Schreberstraße 1\, Kaiserslautern\, Rheinland-Pfalz\, 67657
CATEGORIES:Veranstaltung
ATTACH;FMTTYPE=image/jpeg:https://gruebentaelchen.de/wp-content/uploads/2023/03/Jakkolo.jpg
END:VEVENT
BEGIN:VEVENT
DTSTART;TZID=Europe/Berlin:20230825T160000
DTEND;TZID=Europe/Berlin:20230825T180000
DTSTAMP:20260422T193722
CREATED:20230326T203407Z
LAST-MODIFIED:20231026T151928Z
UID:10002648-1692979200-1692986400@gruebentaelchen.de
SUMMARY:PlauderKaffee mit Jakkolo
DESCRIPTION:Jakkolo im Grübentälchen\nJeden letzten Freitag im Monat von 16:00 – 18:00 Uhr\nkönnen Sie im Rahmen unseres PlauderKaffees Jakkolo oder andere Spiele spielen. \nBeim Jakkolo müssen 30 Holzscheiben direkt oder indirekt in vier Boxen\, die mit Punktzeichen gekennzeichnet sind\, gespielt werden. \nAb ca. 9 Jahren können alle mit gleichen Chancen spielen\, egal ob Frau oder Mann\, Kinder oder Erwachsener\, Jung oder Alt\, Menschen mit oder ohne Handicap. Es kann im Stehen oder Sitzen gespielt werden. \nMachen Sie mit! Unser Team freut sich auf Ihr Kommen in die Begegnungsstätte der Siedler- und Eigenheimer „Im Grübentälchen“ e. V\, Schreberstraße 1. \nKontakt unter 0631 – 680 316 90
URL:https://gruebentaelchen.de/termine/plauderkaffee-mit-jakkolo/2023-08-25/
LOCATION:Begegnungsstätte der Siedler- und Eigenheimer &#8222;Im Grübentälchen&#8220; e.V.\, Schreberstraße 1\, Kaiserslautern\, Rheinland-Pfalz\, 67657
CATEGORIES:Veranstaltung
ATTACH;FMTTYPE=image/jpeg:https://gruebentaelchen.de/wp-content/uploads/2023/03/Jakkolo.jpg
END:VEVENT
BEGIN:VEVENT
DTSTART;TZID=Europe/Berlin:20230728T160000
DTEND;TZID=Europe/Berlin:20230728T180000
DTSTAMP:20260422T193722
CREATED:20230326T203407Z
LAST-MODIFIED:20231026T151928Z
UID:10002647-1690560000-1690567200@gruebentaelchen.de
SUMMARY:PlauderKaffee mit Jakkolo
DESCRIPTION:Jakkolo im Grübentälchen\nJeden letzten Freitag im Monat von 16:00 – 18:00 Uhr\nkönnen Sie im Rahmen unseres PlauderKaffees Jakkolo oder andere Spiele spielen. \nBeim Jakkolo müssen 30 Holzscheiben direkt oder indirekt in vier Boxen\, die mit Punktzeichen gekennzeichnet sind\, gespielt werden. \nAb ca. 9 Jahren können alle mit gleichen Chancen spielen\, egal ob Frau oder Mann\, Kinder oder Erwachsener\, Jung oder Alt\, Menschen mit oder ohne Handicap. Es kann im Stehen oder Sitzen gespielt werden. \nMachen Sie mit! Unser Team freut sich auf Ihr Kommen in die Begegnungsstätte der Siedler- und Eigenheimer „Im Grübentälchen“ e. V\, Schreberstraße 1. \nKontakt unter 0631 – 680 316 90
URL:https://gruebentaelchen.de/termine/plauderkaffee-mit-jakkolo/2023-07-28/
LOCATION:Begegnungsstätte der Siedler- und Eigenheimer &#8222;Im Grübentälchen&#8220; e.V.\, Schreberstraße 1\, Kaiserslautern\, Rheinland-Pfalz\, 67657
CATEGORIES:Veranstaltung
ATTACH;FMTTYPE=image/jpeg:https://gruebentaelchen.de/wp-content/uploads/2023/03/Jakkolo.jpg
END:VEVENT
BEGIN:VEVENT
DTSTART;TZID=Europe/Berlin:20230526T160000
DTEND;TZID=Europe/Berlin:20230526T180000
DTSTAMP:20260422T193722
CREATED:20230326T203407Z
LAST-MODIFIED:20231026T151928Z
UID:10002645-1685116800-1685124000@gruebentaelchen.de
SUMMARY:PlauderKaffee mit Jakkolo
DESCRIPTION:Jakkolo im Grübentälchen\nJeden letzten Freitag im Monat von 16:00 – 18:00 Uhr\nkönnen Sie im Rahmen unseres PlauderKaffees Jakkolo oder andere Spiele spielen. \nBeim Jakkolo müssen 30 Holzscheiben direkt oder indirekt in vier Boxen\, die mit Punktzeichen gekennzeichnet sind\, gespielt werden. \nAb ca. 9 Jahren können alle mit gleichen Chancen spielen\, egal ob Frau oder Mann\, Kinder oder Erwachsener\, Jung oder Alt\, Menschen mit oder ohne Handicap. Es kann im Stehen oder Sitzen gespielt werden. \nMachen Sie mit! Unser Team freut sich auf Ihr Kommen in die Begegnungsstätte der Siedler- und Eigenheimer „Im Grübentälchen“ e. V\, Schreberstraße 1. \nKontakt unter 0631 – 680 316 90
URL:https://gruebentaelchen.de/termine/plauderkaffee-mit-jakkolo/2023-05-26/
LOCATION:Begegnungsstätte der Siedler- und Eigenheimer &#8222;Im Grübentälchen&#8220; e.V.\, Schreberstraße 1\, Kaiserslautern\, Rheinland-Pfalz\, 67657
CATEGORIES:Veranstaltung
ATTACH;FMTTYPE=image/jpeg:https://gruebentaelchen.de/wp-content/uploads/2023/03/Jakkolo.jpg
END:VEVENT
BEGIN:VEVENT
DTSTART;TZID=Europe/Berlin:20230428T160000
DTEND;TZID=Europe/Berlin:20230428T180000
DTSTAMP:20260422T193722
CREATED:20230326T203407Z
LAST-MODIFIED:20231026T151928Z
UID:10002583-1682697600-1682704800@gruebentaelchen.de
SUMMARY:PlauderKaffee mit Jakkolo
DESCRIPTION:Jakkolo im Grübentälchen\nJeden letzten Freitag im Monat von 16:00 – 18:00 Uhr\nkönnen Sie im Rahmen unseres PlauderKaffees Jakkolo oder andere Spiele spielen. \nBeim Jakkolo müssen 30 Holzscheiben direkt oder indirekt in vier Boxen\, die mit Punktzeichen gekennzeichnet sind\, gespielt werden. \nAb ca. 9 Jahren können alle mit gleichen Chancen spielen\, egal ob Frau oder Mann\, Kinder oder Erwachsener\, Jung oder Alt\, Menschen mit oder ohne Handicap. Es kann im Stehen oder Sitzen gespielt werden. \nMachen Sie mit! Unser Team freut sich auf Ihr Kommen in die Begegnungsstätte der Siedler- und Eigenheimer „Im Grübentälchen“ e. V\, Schreberstraße 1. \nKontakt unter 0631 – 680 316 90
URL:https://gruebentaelchen.de/termine/plauderkaffee-mit-jakkolo/2023-04-28/
LOCATION:Begegnungsstätte der Siedler- und Eigenheimer &#8222;Im Grübentälchen&#8220; e.V.\, Schreberstraße 1\, Kaiserslautern\, Rheinland-Pfalz\, 67657
CATEGORIES:Veranstaltung
ATTACH;FMTTYPE=image/jpeg:https://gruebentaelchen.de/wp-content/uploads/2023/03/Jakkolo.jpg
END:VEVENT
BEGIN:VEVENT
DTSTART;TZID=Europe/Berlin:20230331T160000
DTEND;TZID=Europe/Berlin:20230331T180000
DTSTAMP:20260422T193722
CREATED:20230326T203407Z
LAST-MODIFIED:20231026T151928Z
UID:10002582-1680278400-1680285600@gruebentaelchen.de
SUMMARY:PlauderKaffee mit Jakkolo
DESCRIPTION:Jakkolo im Grübentälchen\nJeden letzten Freitag im Monat von 16:00 – 18:00 Uhr\nkönnen Sie im Rahmen unseres PlauderKaffees Jakkolo oder andere Spiele spielen. \nBeim Jakkolo müssen 30 Holzscheiben direkt oder indirekt in vier Boxen\, die mit Punktzeichen gekennzeichnet sind\, gespielt werden. \nAb ca. 9 Jahren können alle mit gleichen Chancen spielen\, egal ob Frau oder Mann\, Kinder oder Erwachsener\, Jung oder Alt\, Menschen mit oder ohne Handicap. Es kann im Stehen oder Sitzen gespielt werden. \nMachen Sie mit! Unser Team freut sich auf Ihr Kommen in die Begegnungsstätte der Siedler- und Eigenheimer „Im Grübentälchen“ e. V\, Schreberstraße 1. \nKontakt unter 0631 – 680 316 90
URL:https://gruebentaelchen.de/termine/plauderkaffee-mit-jakkolo/2023-03-31/
LOCATION:Begegnungsstätte der Siedler- und Eigenheimer &#8222;Im Grübentälchen&#8220; e.V.\, Schreberstraße 1\, Kaiserslautern\, Rheinland-Pfalz\, 67657
CATEGORIES:Veranstaltung
ATTACH;FMTTYPE=image/jpeg:https://gruebentaelchen.de/wp-content/uploads/2023/03/Jakkolo.jpg
END:VEVENT
END:VCALENDAR