BEGIN:VCALENDAR
VERSION:2.0
PRODID:-//Stadtteilbüro Grübentälchen - ECPv6.15.20//NONSGML v1.0//EN
CALSCALE:GREGORIAN
METHOD:PUBLISH
X-WR-CALNAME:Stadtteilbüro Grübentälchen
X-ORIGINAL-URL:https://gruebentaelchen.de
X-WR-CALDESC:Veranstaltungen für Stadtteilbüro Grübentälchen
REFRESH-INTERVAL;VALUE=DURATION:PT1H
X-Robots-Tag:noindex
X-PUBLISHED-TTL:PT1H
BEGIN:VTIMEZONE
TZID:Europe/Berlin
BEGIN:DAYLIGHT
TZOFFSETFROM:+0100
TZOFFSETTO:+0200
TZNAME:CEST
DTSTART:20220327T010000
END:DAYLIGHT
BEGIN:STANDARD
TZOFFSETFROM:+0200
TZOFFSETTO:+0100
TZNAME:CET
DTSTART:20221030T010000
END:STANDARD
BEGIN:DAYLIGHT
TZOFFSETFROM:+0100
TZOFFSETTO:+0200
TZNAME:CEST
DTSTART:20230326T010000
END:DAYLIGHT
BEGIN:STANDARD
TZOFFSETFROM:+0200
TZOFFSETTO:+0100
TZNAME:CET
DTSTART:20231029T010000
END:STANDARD
BEGIN:DAYLIGHT
TZOFFSETFROM:+0100
TZOFFSETTO:+0200
TZNAME:CEST
DTSTART:20240331T010000
END:DAYLIGHT
BEGIN:STANDARD
TZOFFSETFROM:+0200
TZOFFSETTO:+0100
TZNAME:CET
DTSTART:20241027T010000
END:STANDARD
END:VTIMEZONE
BEGIN:VEVENT
DTSTART;TZID=Europe/Berlin:20231211T173000
DTEND;TZID=Europe/Berlin:20231211T183000
DTSTAMP:20260423T062432
CREATED:20230331T052350Z
LAST-MODIFIED:20230914T152345Z
UID:10002887-1702315800-1702319400@gruebentaelchen.de
SUMMARY:Jakkolo in „Nils – Wohnen im Quartier“
DESCRIPTION:Jakkolo in „Nils – Wohnen im Quartier“\nBeim Jakkolo müssen 30 Holzscheiben direkt oder indirekt in vier Boxen\, die mit Punktzeichen gekennzeichnet sind\, gespielt werden. \nAb ca. 9 Jahren können alle mit gleichen Chancen spielen\, egal ob Frau oder Mann\, Kinder oder Erwachsener\, Jung oder Alt\, Menschen mit oder ohne Handicap. Es kann im Stehen oder Sitzen gespielt werden. \nMachen Sie mit! Unser Team freut sich auf Ihr Kommen im „Nils – Wohnen im Quartier“. \nKontakt unter 0631 &#8211; 3640 119
URL:https://gruebentaelchen.de/termine/jakkolo-in-nils-wohnen-im-quartier/2023-12-11/
LOCATION:Nils &#8211; Wohnen im Quartier\, Friedenstraße 63 (Guud Stubb)\, Kaiserslautern\, 67657\, Deutschland
CATEGORIES:Veranstaltung
ATTACH;FMTTYPE=image/jpeg:https://gruebentaelchen.de/wp-content/uploads/2023/03/Jakkolo-im-Nils.jpg
END:VEVENT
BEGIN:VEVENT
DTSTART;TZID=Europe/Berlin:20231127T173000
DTEND;TZID=Europe/Berlin:20231127T183000
DTSTAMP:20260423T062432
CREATED:20230331T052350Z
LAST-MODIFIED:20230914T152345Z
UID:10002886-1701106200-1701109800@gruebentaelchen.de
SUMMARY:Jakkolo in „Nils – Wohnen im Quartier“
DESCRIPTION:Jakkolo in „Nils – Wohnen im Quartier“\nBeim Jakkolo müssen 30 Holzscheiben direkt oder indirekt in vier Boxen\, die mit Punktzeichen gekennzeichnet sind\, gespielt werden. \nAb ca. 9 Jahren können alle mit gleichen Chancen spielen\, egal ob Frau oder Mann\, Kinder oder Erwachsener\, Jung oder Alt\, Menschen mit oder ohne Handicap. Es kann im Stehen oder Sitzen gespielt werden. \nMachen Sie mit! Unser Team freut sich auf Ihr Kommen im „Nils – Wohnen im Quartier“. \nKontakt unter 0631 &#8211; 3640 119
URL:https://gruebentaelchen.de/termine/jakkolo-in-nils-wohnen-im-quartier/2023-11-27/
LOCATION:Nils &#8211; Wohnen im Quartier\, Friedenstraße 63 (Guud Stubb)\, Kaiserslautern\, 67657\, Deutschland
CATEGORIES:Veranstaltung
ATTACH;FMTTYPE=image/jpeg:https://gruebentaelchen.de/wp-content/uploads/2023/03/Jakkolo-im-Nils.jpg
END:VEVENT
BEGIN:VEVENT
DTSTART;TZID=Europe/Berlin:20231113T173000
DTEND;TZID=Europe/Berlin:20231113T183000
DTSTAMP:20260423T062432
CREATED:20230331T052350Z
LAST-MODIFIED:20230914T152345Z
UID:10002885-1699896600-1699900200@gruebentaelchen.de
SUMMARY:Jakkolo in „Nils – Wohnen im Quartier“
DESCRIPTION:Jakkolo in „Nils – Wohnen im Quartier“\nBeim Jakkolo müssen 30 Holzscheiben direkt oder indirekt in vier Boxen\, die mit Punktzeichen gekennzeichnet sind\, gespielt werden. \nAb ca. 9 Jahren können alle mit gleichen Chancen spielen\, egal ob Frau oder Mann\, Kinder oder Erwachsener\, Jung oder Alt\, Menschen mit oder ohne Handicap. Es kann im Stehen oder Sitzen gespielt werden. \nMachen Sie mit! Unser Team freut sich auf Ihr Kommen im „Nils – Wohnen im Quartier“. \nKontakt unter 0631 &#8211; 3640 119
URL:https://gruebentaelchen.de/termine/jakkolo-in-nils-wohnen-im-quartier/2023-11-13/
LOCATION:Nils &#8211; Wohnen im Quartier\, Friedenstraße 63 (Guud Stubb)\, Kaiserslautern\, 67657\, Deutschland
CATEGORIES:Veranstaltung
ATTACH;FMTTYPE=image/jpeg:https://gruebentaelchen.de/wp-content/uploads/2023/03/Jakkolo-im-Nils.jpg
END:VEVENT
BEGIN:VEVENT
DTSTART;TZID=Europe/Berlin:20231023T173000
DTEND;TZID=Europe/Berlin:20231023T183000
DTSTAMP:20260423T062432
CREATED:20230331T052350Z
LAST-MODIFIED:20230914T152345Z
UID:10002884-1698082200-1698085800@gruebentaelchen.de
SUMMARY:Jakkolo in „Nils – Wohnen im Quartier“
DESCRIPTION:Jakkolo in „Nils – Wohnen im Quartier“\nBeim Jakkolo müssen 30 Holzscheiben direkt oder indirekt in vier Boxen\, die mit Punktzeichen gekennzeichnet sind\, gespielt werden. \nAb ca. 9 Jahren können alle mit gleichen Chancen spielen\, egal ob Frau oder Mann\, Kinder oder Erwachsener\, Jung oder Alt\, Menschen mit oder ohne Handicap. Es kann im Stehen oder Sitzen gespielt werden. \nMachen Sie mit! Unser Team freut sich auf Ihr Kommen im „Nils – Wohnen im Quartier“. \nKontakt unter 0631 &#8211; 3640 119
URL:https://gruebentaelchen.de/termine/jakkolo-in-nils-wohnen-im-quartier/2023-10-23/
LOCATION:Nils &#8211; Wohnen im Quartier\, Friedenstraße 63 (Guud Stubb)\, Kaiserslautern\, 67657\, Deutschland
CATEGORIES:Veranstaltung
ATTACH;FMTTYPE=image/jpeg:https://gruebentaelchen.de/wp-content/uploads/2023/03/Jakkolo-im-Nils.jpg
END:VEVENT
BEGIN:VEVENT
DTSTART;TZID=Europe/Berlin:20231009T173000
DTEND;TZID=Europe/Berlin:20231009T183000
DTSTAMP:20260423T062432
CREATED:20230331T052350Z
LAST-MODIFIED:20230914T152345Z
UID:10002883-1696872600-1696876200@gruebentaelchen.de
SUMMARY:Jakkolo in „Nils – Wohnen im Quartier“
DESCRIPTION:Jakkolo in „Nils – Wohnen im Quartier“\nBeim Jakkolo müssen 30 Holzscheiben direkt oder indirekt in vier Boxen\, die mit Punktzeichen gekennzeichnet sind\, gespielt werden. \nAb ca. 9 Jahren können alle mit gleichen Chancen spielen\, egal ob Frau oder Mann\, Kinder oder Erwachsener\, Jung oder Alt\, Menschen mit oder ohne Handicap. Es kann im Stehen oder Sitzen gespielt werden. \nMachen Sie mit! Unser Team freut sich auf Ihr Kommen im „Nils – Wohnen im Quartier“. \nKontakt unter 0631 &#8211; 3640 119
URL:https://gruebentaelchen.de/termine/jakkolo-in-nils-wohnen-im-quartier/2023-10-09/
LOCATION:Nils &#8211; Wohnen im Quartier\, Friedenstraße 63 (Guud Stubb)\, Kaiserslautern\, 67657\, Deutschland
CATEGORIES:Veranstaltung
ATTACH;FMTTYPE=image/jpeg:https://gruebentaelchen.de/wp-content/uploads/2023/03/Jakkolo-im-Nils.jpg
END:VEVENT
BEGIN:VEVENT
DTSTART;TZID=Europe/Berlin:20230807T170000
DTEND;TZID=Europe/Berlin:20230807T180000
DTSTAMP:20260423T062432
CREATED:20230331T052350Z
LAST-MODIFIED:20230914T152345Z
UID:10002639-1691427600-1691431200@gruebentaelchen.de
SUMMARY:Jakkolo in „Nils – Wohnen im Quartier“
DESCRIPTION:Jakkolo in „Nils – Wohnen im Quartier“\nBeim Jakkolo müssen 30 Holzscheiben direkt oder indirekt in vier Boxen\, die mit Punktzeichen gekennzeichnet sind\, gespielt werden. \nAb ca. 9 Jahren können alle mit gleichen Chancen spielen\, egal ob Frau oder Mann\, Kinder oder Erwachsener\, Jung oder Alt\, Menschen mit oder ohne Handicap. Es kann im Stehen oder Sitzen gespielt werden. \nMachen Sie mit! Unser Team freut sich auf Ihr Kommen im „Nils – Wohnen im Quartier“. \nKontakt unter 0631 &#8211; 3640 119
URL:https://gruebentaelchen.de/termine/jakkolo-in-nils-wohnen-im-quartier/2023-08-07/
LOCATION:Nils &#8211; Wohnen im Quartier\, Friedenstraße 63 (Guud Stubb)\, Kaiserslautern\, 67657\, Deutschland
CATEGORIES:Veranstaltung
ATTACH;FMTTYPE=image/jpeg:https://gruebentaelchen.de/wp-content/uploads/2023/03/Jakkolo-im-Nils.jpg
END:VEVENT
BEGIN:VEVENT
DTSTART;TZID=Europe/Berlin:20230703T170000
DTEND;TZID=Europe/Berlin:20230703T180000
DTSTAMP:20260423T062432
CREATED:20230331T052350Z
LAST-MODIFIED:20230914T152345Z
UID:10002638-1688403600-1688407200@gruebentaelchen.de
SUMMARY:Jakkolo in „Nils – Wohnen im Quartier“
DESCRIPTION:Jakkolo in „Nils – Wohnen im Quartier“\nBeim Jakkolo müssen 30 Holzscheiben direkt oder indirekt in vier Boxen\, die mit Punktzeichen gekennzeichnet sind\, gespielt werden. \nAb ca. 9 Jahren können alle mit gleichen Chancen spielen\, egal ob Frau oder Mann\, Kinder oder Erwachsener\, Jung oder Alt\, Menschen mit oder ohne Handicap. Es kann im Stehen oder Sitzen gespielt werden. \nMachen Sie mit! Unser Team freut sich auf Ihr Kommen im „Nils – Wohnen im Quartier“. \nKontakt unter 0631 &#8211; 3640 119
URL:https://gruebentaelchen.de/termine/jakkolo-in-nils-wohnen-im-quartier/2023-07-03/
LOCATION:Nils &#8211; Wohnen im Quartier\, Friedenstraße 63 (Guud Stubb)\, Kaiserslautern\, 67657\, Deutschland
CATEGORIES:Veranstaltung
ATTACH;FMTTYPE=image/jpeg:https://gruebentaelchen.de/wp-content/uploads/2023/03/Jakkolo-im-Nils.jpg
END:VEVENT
BEGIN:VEVENT
DTSTART;TZID=Europe/Berlin:20230605T170000
DTEND;TZID=Europe/Berlin:20230605T180000
DTSTAMP:20260423T062432
CREATED:20230331T052350Z
LAST-MODIFIED:20230914T152345Z
UID:10002637-1685984400-1685988000@gruebentaelchen.de
SUMMARY:Jakkolo in „Nils – Wohnen im Quartier“
DESCRIPTION:Jakkolo in „Nils – Wohnen im Quartier“\nBeim Jakkolo müssen 30 Holzscheiben direkt oder indirekt in vier Boxen\, die mit Punktzeichen gekennzeichnet sind\, gespielt werden. \nAb ca. 9 Jahren können alle mit gleichen Chancen spielen\, egal ob Frau oder Mann\, Kinder oder Erwachsener\, Jung oder Alt\, Menschen mit oder ohne Handicap. Es kann im Stehen oder Sitzen gespielt werden. \nMachen Sie mit! Unser Team freut sich auf Ihr Kommen im „Nils – Wohnen im Quartier“. \nKontakt unter 0631 &#8211; 3640 119
URL:https://gruebentaelchen.de/termine/jakkolo-in-nils-wohnen-im-quartier/2023-06-05/
LOCATION:Nils &#8211; Wohnen im Quartier\, Friedenstraße 63 (Guud Stubb)\, Kaiserslautern\, 67657\, Deutschland
CATEGORIES:Veranstaltung
ATTACH;FMTTYPE=image/jpeg:https://gruebentaelchen.de/wp-content/uploads/2023/03/Jakkolo-im-Nils.jpg
END:VEVENT
BEGIN:VEVENT
DTSTART;TZID=Europe/Berlin:20230403T170000
DTEND;TZID=Europe/Berlin:20230403T180000
DTSTAMP:20260423T062432
CREATED:20230331T052350Z
LAST-MODIFIED:20230914T152345Z
UID:10002644-1680541200-1680544800@gruebentaelchen.de
SUMMARY:Jakkolo in „Nils – Wohnen im Quartier“
DESCRIPTION:Jakkolo in „Nils – Wohnen im Quartier“\nBeim Jakkolo müssen 30 Holzscheiben direkt oder indirekt in vier Boxen\, die mit Punktzeichen gekennzeichnet sind\, gespielt werden. \nAb ca. 9 Jahren können alle mit gleichen Chancen spielen\, egal ob Frau oder Mann\, Kinder oder Erwachsener\, Jung oder Alt\, Menschen mit oder ohne Handicap. Es kann im Stehen oder Sitzen gespielt werden. \nMachen Sie mit! Unser Team freut sich auf Ihr Kommen im „Nils – Wohnen im Quartier“. \nKontakt unter 0631 &#8211; 3640 119
URL:https://gruebentaelchen.de/termine/jakkolo-in-nils-wohnen-im-quartier/2023-04-03/
LOCATION:Nils &#8211; Wohnen im Quartier\, Friedenstraße 63 (Guud Stubb)\, Kaiserslautern\, 67657\, Deutschland
CATEGORIES:Veranstaltung
ATTACH;FMTTYPE=image/jpeg:https://gruebentaelchen.de/wp-content/uploads/2023/03/Jakkolo-im-Nils.jpg
END:VEVENT
END:VCALENDAR