BEGIN:VCALENDAR
VERSION:2.0
PRODID:-//StadtteilbÃ¼ro GrÃ¼bentÃ¤lchen - ECPv6.15.20//NONSGML v1.0//EN
CALSCALE:GREGORIAN
METHOD:PUBLISH
X-ORIGINAL-URL:https://gruebentaelchen.de
X-WR-CALDESC:Veranstaltungen fÃ¼r StadtteilbÃ¼ro GrÃ¼bentÃ¤lchen
REFRESH-INTERVAL;VALUE=DURATION:PT1H
X-Robots-Tag:noindex
X-PUBLISHED-TTL:PT1H
BEGIN:VTIMEZONE
TZID:Europe/Berlin
BEGIN:DAYLIGHT
TZOFFSETFROM:+0100
TZOFFSETTO:+0200
TZNAME:CEST
DTSTART:20240331T010000
END:DAYLIGHT
BEGIN:STANDARD
TZOFFSETFROM:+0200
TZOFFSETTO:+0100
TZNAME:CET
DTSTART:20241027T010000
END:STANDARD
BEGIN:DAYLIGHT
TZOFFSETFROM:+0100
TZOFFSETTO:+0200
TZNAME:CEST
DTSTART:20250330T010000
END:DAYLIGHT
BEGIN:STANDARD
TZOFFSETFROM:+0200
TZOFFSETTO:+0100
TZNAME:CET
DTSTART:20251026T010000
END:STANDARD
BEGIN:DAYLIGHT
TZOFFSETFROM:+0100
TZOFFSETTO:+0200
TZNAME:CEST
DTSTART:20260329T010000
END:DAYLIGHT
BEGIN:STANDARD
TZOFFSETFROM:+0200
TZOFFSETTO:+0100
TZNAME:CET
DTSTART:20261025T010000
END:STANDARD
END:VTIMEZONE
BEGIN:VEVENT
DTSTART;TZID=Europe/Berlin:20251029T140000
DTEND;TZID=Europe/Berlin:20251029T160000
DTSTAMP:20260422T211051
CREATED:20240102T003714Z
LAST-MODIFIED:20251124T143038Z
UID:10004210-1761746400-1761753600@gruebentaelchen.de
SUMMARY:Ãœbersetzungshilfe Arabisch-Deutsch
DESCRIPTION:Das StadtteilbuÌˆro GruÌˆbentÃ¤lchen bietet kostenlose Ãœbersetzungshilfe fuÌˆr Arabisch â€“ Deutsch an. \nJeden Mittwoch ist von 14:00 â€“ 16:00 Uhr ein Dolmetscher fuÌˆr Arabisch vor Ort\, der kostenlos bei der Ãœbersetzung von Unterlagen hilft. Eine Beglaubigung der Unterlagen ist nicht mÃ¶glich. Individuelle Termine kÃ¶nnen auch nach Bedarf ausgemacht werden.
URL:https://gruebentaelchen.de/termine/uebersetzungshilfe-arabisch-deutsch/2025-10-29/
LOCATION:StadtteilbÃ¼ro GrÃ¼bentÃ¤lchen\, FriedenstraÃŸe 118\, Kaiserslautern\, Rheinland-Pfalz\, 67657\, Deutschland
CATEGORIES:Beratung
END:VEVENT
BEGIN:VEVENT
DTSTART;TZID=Europe/Berlin:20251022T140000
DTEND;TZID=Europe/Berlin:20251022T160000
DTSTAMP:20260422T211051
CREATED:20240102T003714Z
LAST-MODIFIED:20251124T143038Z
UID:10004209-1761141600-1761148800@gruebentaelchen.de
SUMMARY:Ãœbersetzungshilfe Arabisch-Deutsch
DESCRIPTION:Das StadtteilbuÌˆro GruÌˆbentÃ¤lchen bietet kostenlose Ãœbersetzungshilfe fuÌˆr Arabisch â€“ Deutsch an. \nJeden Mittwoch ist von 14:00 â€“ 16:00 Uhr ein Dolmetscher fuÌˆr Arabisch vor Ort\, der kostenlos bei der Ãœbersetzung von Unterlagen hilft. Eine Beglaubigung der Unterlagen ist nicht mÃ¶glich. Individuelle Termine kÃ¶nnen auch nach Bedarf ausgemacht werden.
URL:https://gruebentaelchen.de/termine/uebersetzungshilfe-arabisch-deutsch/2025-10-22/
LOCATION:StadtteilbÃ¼ro GrÃ¼bentÃ¤lchen\, FriedenstraÃŸe 118\, Kaiserslautern\, Rheinland-Pfalz\, 67657\, Deutschland
CATEGORIES:Beratung
END:VEVENT
BEGIN:VEVENT
DTSTART;TZID=Europe/Berlin:20251015T140000
DTEND;TZID=Europe/Berlin:20251015T160000
DTSTAMP:20260422T211051
CREATED:20240102T003714Z
LAST-MODIFIED:20251124T143038Z
UID:10004208-1760536800-1760544000@gruebentaelchen.de
SUMMARY:Ãœbersetzungshilfe Arabisch-Deutsch
DESCRIPTION:Das StadtteilbuÌˆro GruÌˆbentÃ¤lchen bietet kostenlose Ãœbersetzungshilfe fuÌˆr Arabisch â€“ Deutsch an. \nJeden Mittwoch ist von 14:00 â€“ 16:00 Uhr ein Dolmetscher fuÌˆr Arabisch vor Ort\, der kostenlos bei der Ãœbersetzung von Unterlagen hilft. Eine Beglaubigung der Unterlagen ist nicht mÃ¶glich. Individuelle Termine kÃ¶nnen auch nach Bedarf ausgemacht werden.
URL:https://gruebentaelchen.de/termine/uebersetzungshilfe-arabisch-deutsch/2025-10-15/
LOCATION:StadtteilbÃ¼ro GrÃ¼bentÃ¤lchen\, FriedenstraÃŸe 118\, Kaiserslautern\, Rheinland-Pfalz\, 67657\, Deutschland
CATEGORIES:Beratung
END:VEVENT
BEGIN:VEVENT
DTSTART;TZID=Europe/Berlin:20251009T150000
DTEND;TZID=Europe/Berlin:20251009T160000
DTSTAMP:20260422T211051
CREATED:20240123T161306Z
LAST-MODIFIED:20251203T135800Z
UID:10004395-1760022000-1760025600@gruebentaelchen.de
SUMMARY:Singkreis
DESCRIPTION:  \nSingen in Gemeinschaft schÃ¼ttet GlÃ¼ckshormone aus\, fÃ¶rdert KreativitÃ¤t und KonzentrationsfÃ¤higkeit. Auch SprachgefÃ¼hl und Wortschatz werden trainiert. \nKommen Sie vorbei und Â lassen Sie uns gemeinsam Volkslieder und Schlager singen!
URL:https://gruebentaelchen.de/termine/singkreis-3-2/2025-10-09/
LOCATION:StadtteilbÃ¼ro GrÃ¼bentÃ¤lchen\, FriedenstraÃŸe 118\, Kaiserslautern\, Rheinland-Pfalz\, 67657\, Deutschland
CATEGORIES:Veranstaltung
ATTACH;FMTTYPE=image/png:https://gruebentaelchen.de/wp-content/uploads/2023/12/2023-11-29-Flyerlang-Stadtteilbuero_Singkreis-1.png
END:VEVENT
BEGIN:VEVENT
DTSTART;TZID=Europe/Berlin:20251009T103000
DTEND;TZID=Europe/Berlin:20251009T120000
DTSTAMP:20260422T211051
CREATED:20240125T171940Z
LAST-MODIFIED:20251120T104545Z
UID:10004523-1760005800-1760011200@gruebentaelchen.de
SUMMARY:Sprechstunde der Seniorenberaterin
DESCRIPTION:jeden 2. Donnerstag im Monat von 10:30 â€“ 12:00 Uhr \nSprechstunde derÂ Seniorenberaterin Margit Walg-Joyce
URL:https://gruebentaelchen.de/termine/sprechstunde-der-seniorenberaterin-2/2025-10-09/
LOCATION:StadtteilbÃ¼ro GrÃ¼bentÃ¤lchen\, FriedenstraÃŸe 118\, Kaiserslautern\, Rheinland-Pfalz\, 67657\, Deutschland
ATTACH;FMTTYPE=image/jpeg:https://gruebentaelchen.de/wp-content/uploads/2023/03/Sprechstunde-Seniorenberaterin.jpg
END:VEVENT
BEGIN:VEVENT
DTSTART;TZID=Europe/Berlin:20251008T140000
DTEND;TZID=Europe/Berlin:20251008T160000
DTSTAMP:20260422T211051
CREATED:20240102T003714Z
LAST-MODIFIED:20251124T143038Z
UID:10004207-1759932000-1759939200@gruebentaelchen.de
SUMMARY:Ãœbersetzungshilfe Arabisch-Deutsch
DESCRIPTION:Das StadtteilbuÌˆro GruÌˆbentÃ¤lchen bietet kostenlose Ãœbersetzungshilfe fuÌˆr Arabisch â€“ Deutsch an. \nJeden Mittwoch ist von 14:00 â€“ 16:00 Uhr ein Dolmetscher fuÌˆr Arabisch vor Ort\, der kostenlos bei der Ãœbersetzung von Unterlagen hilft. Eine Beglaubigung der Unterlagen ist nicht mÃ¶glich. Individuelle Termine kÃ¶nnen auch nach Bedarf ausgemacht werden.
URL:https://gruebentaelchen.de/termine/uebersetzungshilfe-arabisch-deutsch/2025-10-08/
LOCATION:StadtteilbÃ¼ro GrÃ¼bentÃ¤lchen\, FriedenstraÃŸe 118\, Kaiserslautern\, Rheinland-Pfalz\, 67657\, Deutschland
CATEGORIES:Beratung
END:VEVENT
BEGIN:VEVENT
DTSTART;TZID=Europe/Berlin:20251008T100000
DTEND;TZID=Europe/Berlin:20251008T120000
DTSTAMP:20260422T211051
CREATED:20230329T202135Z
LAST-MODIFIED:20240102T000038Z
UID:10003434-1759917600-1759924800@gruebentaelchen.de
SUMMARY:Kostenlose Hilfe und/oder Anleitung bei kleineren NÃ¤harbeiten
DESCRIPTION:Im StadtteilbÃ¼ro wird neuerdings â€žabgesteckt\, anprobiert\, gebÃ¼gelt und genÃ¤htâ€¦\, aber auch gelacht und gefachsimpeltâ€¦â€œ \nWir bieten UnterstuÌˆtzung an: \nbeim ReiÃŸverschluÌˆsse einsetzen\,\nHosen/RÃ¶cke kuÌˆrzen\,\nNÃ¤hte aufarbeiten\noder anderen kleineren Ã„nderungen\nsowie Vermittlung von Grundkenntnissen /Â Einstieg in Patchworkâ€¦ \nHaben Sie auch kleinere Ã„nderungen an KleidungsstÃ¼cken wie Hosen/RÃ¶cke kÃ¼rzen\, ReiÃŸverschlÃ¼sse einsetzen oder andere kleinere NÃ¤harbeiten\, die Sie gerne unter kundiger Anleitung selbst oder von einer unserer ehrenamtlich Mitarbeitenden vornehmen wollen? \nDann melden Sie sich bei uns im StadtteilbÃ¼ro! Unser kostenloses Angebot gibt es jeden 2. Mittwoch / Monat von 10:00 â€“ 12:00 UhrÂ im StadtteilbÃ¼ro. Spenden sind willlkommen.
URL:https://gruebentaelchen.de/termine/kostenlose-hilfe-und-oder-anleitung-bei-kleineren-naeharbeiten/2025-10-08/
LOCATION:StadtteilbÃ¼ro GrÃ¼bentÃ¤lchen\, FriedenstraÃŸe 118\, Kaiserslautern\, Rheinland-Pfalz\, 67657\, Deutschland
CATEGORIES:Kreatives
ATTACH;FMTTYPE=image/jpeg:https://gruebentaelchen.de/wp-content/uploads/2023/03/Naehhilfe.jpg
END:VEVENT
BEGIN:VEVENT
DTSTART;TZID=Europe/Berlin:20251007T150000
DTEND;TZID=Europe/Berlin:20251007T170000
DTSTAMP:20260422T211051
CREATED:20230326T204115Z
LAST-MODIFIED:20251203T133352Z
UID:10003195-1759849200-1759856400@gruebentaelchen.de
SUMMARY:Digitales CafÃ©
DESCRIPTION:Digitales CafÃ©\n  \nEin kostenloses Angebot fÃ¼r Seniorinnen und Senioren â€“ Sie haben Fragen im Umgang mit Smartphone\, Tablet\, Laptop und Co? Ein Team von Freiwilligen hilft Ihnen bei Ihren Fragen in gemÃ¼tlicher Runde bei Kaffee\, Tee und GebÃ¤ck. \nJeden 1. Dienstag im Monat von 15:00 â€“ 17:00 Uhr in gemÃ¼tlicher Runde bei Kaffee\, Tee und GebÃ¤ck! Sie kÃ¶nnen auch gerne eine Einzelsprechstunde vereinbaren.
URL:https://gruebentaelchen.de/termine/digitale-hilfe/2025-10-07/
LOCATION:StadtteilbÃ¼ro GrÃ¼bentÃ¤lchen\, FriedenstraÃŸe 118\, Kaiserslautern\, Rheinland-Pfalz\, 67657\, Deutschland
CATEGORIES:Veranstaltung
ATTACH;FMTTYPE=image/jpeg:https://gruebentaelchen.de/wp-content/uploads/2023/03/Digitale-Hilfen.jpg
END:VEVENT
BEGIN:VEVENT
DTSTART;TZID=Europe/Berlin:20251001T140000
DTEND;TZID=Europe/Berlin:20251001T160000
DTSTAMP:20260422T211051
CREATED:20240102T003714Z
LAST-MODIFIED:20251124T143038Z
UID:10004206-1759327200-1759334400@gruebentaelchen.de
SUMMARY:Ãœbersetzungshilfe Arabisch-Deutsch
DESCRIPTION:Das StadtteilbuÌˆro GruÌˆbentÃ¤lchen bietet kostenlose Ãœbersetzungshilfe fuÌˆr Arabisch â€“ Deutsch an. \nJeden Mittwoch ist von 14:00 â€“ 16:00 Uhr ein Dolmetscher fuÌˆr Arabisch vor Ort\, der kostenlos bei der Ãœbersetzung von Unterlagen hilft. Eine Beglaubigung der Unterlagen ist nicht mÃ¶glich. Individuelle Termine kÃ¶nnen auch nach Bedarf ausgemacht werden.
URL:https://gruebentaelchen.de/termine/uebersetzungshilfe-arabisch-deutsch/2025-10-01/
LOCATION:StadtteilbÃ¼ro GrÃ¼bentÃ¤lchen\, FriedenstraÃŸe 118\, Kaiserslautern\, Rheinland-Pfalz\, 67657\, Deutschland
CATEGORIES:Beratung
END:VEVENT
BEGIN:VEVENT
DTSTART;TZID=Europe/Berlin:20250924T140000
DTEND;TZID=Europe/Berlin:20250924T160000
DTSTAMP:20260422T211051
CREATED:20240102T003714Z
LAST-MODIFIED:20251124T143038Z
UID:10004205-1758722400-1758729600@gruebentaelchen.de
SUMMARY:Ãœbersetzungshilfe Arabisch-Deutsch
DESCRIPTION:Das StadtteilbuÌˆro GruÌˆbentÃ¤lchen bietet kostenlose Ãœbersetzungshilfe fuÌˆr Arabisch â€“ Deutsch an. \nJeden Mittwoch ist von 14:00 â€“ 16:00 Uhr ein Dolmetscher fuÌˆr Arabisch vor Ort\, der kostenlos bei der Ãœbersetzung von Unterlagen hilft. Eine Beglaubigung der Unterlagen ist nicht mÃ¶glich. Individuelle Termine kÃ¶nnen auch nach Bedarf ausgemacht werden.
URL:https://gruebentaelchen.de/termine/uebersetzungshilfe-arabisch-deutsch/2025-09-24/
LOCATION:StadtteilbÃ¼ro GrÃ¼bentÃ¤lchen\, FriedenstraÃŸe 118\, Kaiserslautern\, Rheinland-Pfalz\, 67657\, Deutschland
CATEGORIES:Beratung
END:VEVENT
BEGIN:VEVENT
DTSTART;TZID=Europe/Berlin:20250917T140000
DTEND;TZID=Europe/Berlin:20250917T160000
DTSTAMP:20260422T211051
CREATED:20240102T003714Z
LAST-MODIFIED:20251124T143038Z
UID:10004204-1758117600-1758124800@gruebentaelchen.de
SUMMARY:Ãœbersetzungshilfe Arabisch-Deutsch
DESCRIPTION:Das StadtteilbuÌˆro GruÌˆbentÃ¤lchen bietet kostenlose Ãœbersetzungshilfe fuÌˆr Arabisch â€“ Deutsch an. \nJeden Mittwoch ist von 14:00 â€“ 16:00 Uhr ein Dolmetscher fuÌˆr Arabisch vor Ort\, der kostenlos bei der Ãœbersetzung von Unterlagen hilft. Eine Beglaubigung der Unterlagen ist nicht mÃ¶glich. Individuelle Termine kÃ¶nnen auch nach Bedarf ausgemacht werden.
URL:https://gruebentaelchen.de/termine/uebersetzungshilfe-arabisch-deutsch/2025-09-17/
LOCATION:StadtteilbÃ¼ro GrÃ¼bentÃ¤lchen\, FriedenstraÃŸe 118\, Kaiserslautern\, Rheinland-Pfalz\, 67657\, Deutschland
CATEGORIES:Beratung
END:VEVENT
BEGIN:VEVENT
DTSTART;TZID=Europe/Berlin:20250911T150000
DTEND;TZID=Europe/Berlin:20250911T160000
DTSTAMP:20260422T211051
CREATED:20240123T161306Z
LAST-MODIFIED:20251203T135800Z
UID:10004394-1757602800-1757606400@gruebentaelchen.de
SUMMARY:Singkreis
DESCRIPTION:  \nSingen in Gemeinschaft schÃ¼ttet GlÃ¼ckshormone aus\, fÃ¶rdert KreativitÃ¤t und KonzentrationsfÃ¤higkeit. Auch SprachgefÃ¼hl und Wortschatz werden trainiert. \nKommen Sie vorbei und Â lassen Sie uns gemeinsam Volkslieder und Schlager singen!
URL:https://gruebentaelchen.de/termine/singkreis-3-2/2025-09-11/
LOCATION:StadtteilbÃ¼ro GrÃ¼bentÃ¤lchen\, FriedenstraÃŸe 118\, Kaiserslautern\, Rheinland-Pfalz\, 67657\, Deutschland
CATEGORIES:Veranstaltung
ATTACH;FMTTYPE=image/png:https://gruebentaelchen.de/wp-content/uploads/2023/12/2023-11-29-Flyerlang-Stadtteilbuero_Singkreis-1.png
END:VEVENT
BEGIN:VEVENT
DTSTART;TZID=Europe/Berlin:20250911T103000
DTEND;TZID=Europe/Berlin:20250911T120000
DTSTAMP:20260422T211051
CREATED:20240125T171940Z
LAST-MODIFIED:20251120T104545Z
UID:10004522-1757586600-1757592000@gruebentaelchen.de
SUMMARY:Sprechstunde der Seniorenberaterin
DESCRIPTION:jeden 2. Donnerstag im Monat von 10:30 â€“ 12:00 Uhr \nSprechstunde derÂ Seniorenberaterin Margit Walg-Joyce
URL:https://gruebentaelchen.de/termine/sprechstunde-der-seniorenberaterin-2/2025-09-11/
LOCATION:StadtteilbÃ¼ro GrÃ¼bentÃ¤lchen\, FriedenstraÃŸe 118\, Kaiserslautern\, Rheinland-Pfalz\, 67657\, Deutschland
ATTACH;FMTTYPE=image/jpeg:https://gruebentaelchen.de/wp-content/uploads/2023/03/Sprechstunde-Seniorenberaterin.jpg
END:VEVENT
BEGIN:VEVENT
DTSTART;TZID=Europe/Berlin:20250910T140000
DTEND;TZID=Europe/Berlin:20250910T160000
DTSTAMP:20260422T211051
CREATED:20240102T003714Z
LAST-MODIFIED:20251124T143038Z
UID:10004203-1757512800-1757520000@gruebentaelchen.de
SUMMARY:Ãœbersetzungshilfe Arabisch-Deutsch
DESCRIPTION:Das StadtteilbuÌˆro GruÌˆbentÃ¤lchen bietet kostenlose Ãœbersetzungshilfe fuÌˆr Arabisch â€“ Deutsch an. \nJeden Mittwoch ist von 14:00 â€“ 16:00 Uhr ein Dolmetscher fuÌˆr Arabisch vor Ort\, der kostenlos bei der Ãœbersetzung von Unterlagen hilft. Eine Beglaubigung der Unterlagen ist nicht mÃ¶glich. Individuelle Termine kÃ¶nnen auch nach Bedarf ausgemacht werden.
URL:https://gruebentaelchen.de/termine/uebersetzungshilfe-arabisch-deutsch/2025-09-10/
LOCATION:StadtteilbÃ¼ro GrÃ¼bentÃ¤lchen\, FriedenstraÃŸe 118\, Kaiserslautern\, Rheinland-Pfalz\, 67657\, Deutschland
CATEGORIES:Beratung
END:VEVENT
BEGIN:VEVENT
DTSTART;TZID=Europe/Berlin:20250910T100000
DTEND;TZID=Europe/Berlin:20250910T120000
DTSTAMP:20260422T211051
CREATED:20230329T202135Z
LAST-MODIFIED:20240102T000038Z
UID:10003433-1757498400-1757505600@gruebentaelchen.de
SUMMARY:Kostenlose Hilfe und/oder Anleitung bei kleineren NÃ¤harbeiten
DESCRIPTION:Im StadtteilbÃ¼ro wird neuerdings â€žabgesteckt\, anprobiert\, gebÃ¼gelt und genÃ¤htâ€¦\, aber auch gelacht und gefachsimpeltâ€¦â€œ \nWir bieten UnterstuÌˆtzung an: \nbeim ReiÃŸverschluÌˆsse einsetzen\,\nHosen/RÃ¶cke kuÌˆrzen\,\nNÃ¤hte aufarbeiten\noder anderen kleineren Ã„nderungen\nsowie Vermittlung von Grundkenntnissen /Â Einstieg in Patchworkâ€¦ \nHaben Sie auch kleinere Ã„nderungen an KleidungsstÃ¼cken wie Hosen/RÃ¶cke kÃ¼rzen\, ReiÃŸverschlÃ¼sse einsetzen oder andere kleinere NÃ¤harbeiten\, die Sie gerne unter kundiger Anleitung selbst oder von einer unserer ehrenamtlich Mitarbeitenden vornehmen wollen? \nDann melden Sie sich bei uns im StadtteilbÃ¼ro! Unser kostenloses Angebot gibt es jeden 2. Mittwoch / Monat von 10:00 â€“ 12:00 UhrÂ im StadtteilbÃ¼ro. Spenden sind willlkommen.
URL:https://gruebentaelchen.de/termine/kostenlose-hilfe-und-oder-anleitung-bei-kleineren-naeharbeiten/2025-09-10/
LOCATION:StadtteilbÃ¼ro GrÃ¼bentÃ¤lchen\, FriedenstraÃŸe 118\, Kaiserslautern\, Rheinland-Pfalz\, 67657\, Deutschland
CATEGORIES:Kreatives
ATTACH;FMTTYPE=image/jpeg:https://gruebentaelchen.de/wp-content/uploads/2023/03/Naehhilfe.jpg
END:VEVENT
BEGIN:VEVENT
DTSTART;TZID=Europe/Berlin:20250903T140000
DTEND;TZID=Europe/Berlin:20250903T160000
DTSTAMP:20260422T211051
CREATED:20240102T003714Z
LAST-MODIFIED:20251124T143038Z
UID:10004202-1756908000-1756915200@gruebentaelchen.de
SUMMARY:Ãœbersetzungshilfe Arabisch-Deutsch
DESCRIPTION:Das StadtteilbuÌˆro GruÌˆbentÃ¤lchen bietet kostenlose Ãœbersetzungshilfe fuÌˆr Arabisch â€“ Deutsch an. \nJeden Mittwoch ist von 14:00 â€“ 16:00 Uhr ein Dolmetscher fuÌˆr Arabisch vor Ort\, der kostenlos bei der Ãœbersetzung von Unterlagen hilft. Eine Beglaubigung der Unterlagen ist nicht mÃ¶glich. Individuelle Termine kÃ¶nnen auch nach Bedarf ausgemacht werden.
URL:https://gruebentaelchen.de/termine/uebersetzungshilfe-arabisch-deutsch/2025-09-03/
LOCATION:StadtteilbÃ¼ro GrÃ¼bentÃ¤lchen\, FriedenstraÃŸe 118\, Kaiserslautern\, Rheinland-Pfalz\, 67657\, Deutschland
CATEGORIES:Beratung
END:VEVENT
BEGIN:VEVENT
DTSTART;TZID=Europe/Berlin:20250902T150000
DTEND;TZID=Europe/Berlin:20250902T170000
DTSTAMP:20260422T211051
CREATED:20230326T204115Z
LAST-MODIFIED:20251203T133352Z
UID:10003194-1756825200-1756832400@gruebentaelchen.de
SUMMARY:Digitales CafÃ©
DESCRIPTION:Digitales CafÃ©\n  \nEin kostenloses Angebot fÃ¼r Seniorinnen und Senioren â€“ Sie haben Fragen im Umgang mit Smartphone\, Tablet\, Laptop und Co? Ein Team von Freiwilligen hilft Ihnen bei Ihren Fragen in gemÃ¼tlicher Runde bei Kaffee\, Tee und GebÃ¤ck. \nJeden 1. Dienstag im Monat von 15:00 â€“ 17:00 Uhr in gemÃ¼tlicher Runde bei Kaffee\, Tee und GebÃ¤ck! Sie kÃ¶nnen auch gerne eine Einzelsprechstunde vereinbaren.
URL:https://gruebentaelchen.de/termine/digitale-hilfe/2025-09-02/
LOCATION:StadtteilbÃ¼ro GrÃ¼bentÃ¤lchen\, FriedenstraÃŸe 118\, Kaiserslautern\, Rheinland-Pfalz\, 67657\, Deutschland
CATEGORIES:Veranstaltung
ATTACH;FMTTYPE=image/jpeg:https://gruebentaelchen.de/wp-content/uploads/2023/03/Digitale-Hilfen.jpg
END:VEVENT
BEGIN:VEVENT
DTSTART;TZID=Europe/Berlin:20250827T140000
DTEND;TZID=Europe/Berlin:20250827T160000
DTSTAMP:20260422T211051
CREATED:20240102T003714Z
LAST-MODIFIED:20251124T143038Z
UID:10004201-1756303200-1756310400@gruebentaelchen.de
SUMMARY:Ãœbersetzungshilfe Arabisch-Deutsch
DESCRIPTION:Das StadtteilbuÌˆro GruÌˆbentÃ¤lchen bietet kostenlose Ãœbersetzungshilfe fuÌˆr Arabisch â€“ Deutsch an. \nJeden Mittwoch ist von 14:00 â€“ 16:00 Uhr ein Dolmetscher fuÌˆr Arabisch vor Ort\, der kostenlos bei der Ãœbersetzung von Unterlagen hilft. Eine Beglaubigung der Unterlagen ist nicht mÃ¶glich. Individuelle Termine kÃ¶nnen auch nach Bedarf ausgemacht werden.
URL:https://gruebentaelchen.de/termine/uebersetzungshilfe-arabisch-deutsch/2025-08-27/
LOCATION:StadtteilbÃ¼ro GrÃ¼bentÃ¤lchen\, FriedenstraÃŸe 118\, Kaiserslautern\, Rheinland-Pfalz\, 67657\, Deutschland
CATEGORIES:Beratung
END:VEVENT
BEGIN:VEVENT
DTSTART;TZID=Europe/Berlin:20250820T140000
DTEND;TZID=Europe/Berlin:20250820T160000
DTSTAMP:20260422T211051
CREATED:20240102T003714Z
LAST-MODIFIED:20251124T143038Z
UID:10004200-1755698400-1755705600@gruebentaelchen.de
SUMMARY:Ãœbersetzungshilfe Arabisch-Deutsch
DESCRIPTION:Das StadtteilbuÌˆro GruÌˆbentÃ¤lchen bietet kostenlose Ãœbersetzungshilfe fuÌˆr Arabisch â€“ Deutsch an. \nJeden Mittwoch ist von 14:00 â€“ 16:00 Uhr ein Dolmetscher fuÌˆr Arabisch vor Ort\, der kostenlos bei der Ãœbersetzung von Unterlagen hilft. Eine Beglaubigung der Unterlagen ist nicht mÃ¶glich. Individuelle Termine kÃ¶nnen auch nach Bedarf ausgemacht werden.
URL:https://gruebentaelchen.de/termine/uebersetzungshilfe-arabisch-deutsch/2025-08-20/
LOCATION:StadtteilbÃ¼ro GrÃ¼bentÃ¤lchen\, FriedenstraÃŸe 118\, Kaiserslautern\, Rheinland-Pfalz\, 67657\, Deutschland
CATEGORIES:Beratung
END:VEVENT
BEGIN:VEVENT
DTSTART;TZID=Europe/Berlin:20250814T150000
DTEND;TZID=Europe/Berlin:20250814T160000
DTSTAMP:20260422T211051
CREATED:20240123T161306Z
LAST-MODIFIED:20251203T135800Z
UID:10004393-1755183600-1755187200@gruebentaelchen.de
SUMMARY:Singkreis
DESCRIPTION:  \nSingen in Gemeinschaft schÃ¼ttet GlÃ¼ckshormone aus\, fÃ¶rdert KreativitÃ¤t und KonzentrationsfÃ¤higkeit. Auch SprachgefÃ¼hl und Wortschatz werden trainiert. \nKommen Sie vorbei und Â lassen Sie uns gemeinsam Volkslieder und Schlager singen!
URL:https://gruebentaelchen.de/termine/singkreis-3-2/2025-08-14/
LOCATION:StadtteilbÃ¼ro GrÃ¼bentÃ¤lchen\, FriedenstraÃŸe 118\, Kaiserslautern\, Rheinland-Pfalz\, 67657\, Deutschland
CATEGORIES:Veranstaltung
ATTACH;FMTTYPE=image/png:https://gruebentaelchen.de/wp-content/uploads/2023/12/2023-11-29-Flyerlang-Stadtteilbuero_Singkreis-1.png
END:VEVENT
BEGIN:VEVENT
DTSTART;TZID=Europe/Berlin:20250814T103000
DTEND;TZID=Europe/Berlin:20250814T120000
DTSTAMP:20260422T211051
CREATED:20240125T171940Z
LAST-MODIFIED:20251120T104545Z
UID:10004521-1755167400-1755172800@gruebentaelchen.de
SUMMARY:Sprechstunde der Seniorenberaterin
DESCRIPTION:jeden 2. Donnerstag im Monat von 10:30 â€“ 12:00 Uhr \nSprechstunde derÂ Seniorenberaterin Margit Walg-Joyce
URL:https://gruebentaelchen.de/termine/sprechstunde-der-seniorenberaterin-2/2025-08-14/
LOCATION:StadtteilbÃ¼ro GrÃ¼bentÃ¤lchen\, FriedenstraÃŸe 118\, Kaiserslautern\, Rheinland-Pfalz\, 67657\, Deutschland
ATTACH;FMTTYPE=image/jpeg:https://gruebentaelchen.de/wp-content/uploads/2023/03/Sprechstunde-Seniorenberaterin.jpg
END:VEVENT
BEGIN:VEVENT
DTSTART;TZID=Europe/Berlin:20250813T140000
DTEND;TZID=Europe/Berlin:20250813T160000
DTSTAMP:20260422T211051
CREATED:20240102T003714Z
LAST-MODIFIED:20251124T143038Z
UID:10004199-1755093600-1755100800@gruebentaelchen.de
SUMMARY:Ãœbersetzungshilfe Arabisch-Deutsch
DESCRIPTION:Das StadtteilbuÌˆro GruÌˆbentÃ¤lchen bietet kostenlose Ãœbersetzungshilfe fuÌˆr Arabisch â€“ Deutsch an. \nJeden Mittwoch ist von 14:00 â€“ 16:00 Uhr ein Dolmetscher fuÌˆr Arabisch vor Ort\, der kostenlos bei der Ãœbersetzung von Unterlagen hilft. Eine Beglaubigung der Unterlagen ist nicht mÃ¶glich. Individuelle Termine kÃ¶nnen auch nach Bedarf ausgemacht werden.
URL:https://gruebentaelchen.de/termine/uebersetzungshilfe-arabisch-deutsch/2025-08-13/
LOCATION:StadtteilbÃ¼ro GrÃ¼bentÃ¤lchen\, FriedenstraÃŸe 118\, Kaiserslautern\, Rheinland-Pfalz\, 67657\, Deutschland
CATEGORIES:Beratung
END:VEVENT
BEGIN:VEVENT
DTSTART;TZID=Europe/Berlin:20250813T100000
DTEND;TZID=Europe/Berlin:20250813T120000
DTSTAMP:20260422T211051
CREATED:20230329T202135Z
LAST-MODIFIED:20240102T000038Z
UID:10003432-1755079200-1755086400@gruebentaelchen.de
SUMMARY:Kostenlose Hilfe und/oder Anleitung bei kleineren NÃ¤harbeiten
DESCRIPTION:Im StadtteilbÃ¼ro wird neuerdings â€žabgesteckt\, anprobiert\, gebÃ¼gelt und genÃ¤htâ€¦\, aber auch gelacht und gefachsimpeltâ€¦â€œ \nWir bieten UnterstuÌˆtzung an: \nbeim ReiÃŸverschluÌˆsse einsetzen\,\nHosen/RÃ¶cke kuÌˆrzen\,\nNÃ¤hte aufarbeiten\noder anderen kleineren Ã„nderungen\nsowie Vermittlung von Grundkenntnissen /Â Einstieg in Patchworkâ€¦ \nHaben Sie auch kleinere Ã„nderungen an KleidungsstÃ¼cken wie Hosen/RÃ¶cke kÃ¼rzen\, ReiÃŸverschlÃ¼sse einsetzen oder andere kleinere NÃ¤harbeiten\, die Sie gerne unter kundiger Anleitung selbst oder von einer unserer ehrenamtlich Mitarbeitenden vornehmen wollen? \nDann melden Sie sich bei uns im StadtteilbÃ¼ro! Unser kostenloses Angebot gibt es jeden 2. Mittwoch / Monat von 10:00 â€“ 12:00 UhrÂ im StadtteilbÃ¼ro. Spenden sind willlkommen.
URL:https://gruebentaelchen.de/termine/kostenlose-hilfe-und-oder-anleitung-bei-kleineren-naeharbeiten/2025-08-13/
LOCATION:StadtteilbÃ¼ro GrÃ¼bentÃ¤lchen\, FriedenstraÃŸe 118\, Kaiserslautern\, Rheinland-Pfalz\, 67657\, Deutschland
CATEGORIES:Kreatives
ATTACH;FMTTYPE=image/jpeg:https://gruebentaelchen.de/wp-content/uploads/2023/03/Naehhilfe.jpg
END:VEVENT
BEGIN:VEVENT
DTSTART;TZID=Europe/Berlin:20250806T140000
DTEND;TZID=Europe/Berlin:20250806T160000
DTSTAMP:20260422T211051
CREATED:20240102T003714Z
LAST-MODIFIED:20251124T143038Z
UID:10004198-1754488800-1754496000@gruebentaelchen.de
SUMMARY:Ãœbersetzungshilfe Arabisch-Deutsch
DESCRIPTION:Das StadtteilbuÌˆro GruÌˆbentÃ¤lchen bietet kostenlose Ãœbersetzungshilfe fuÌˆr Arabisch â€“ Deutsch an. \nJeden Mittwoch ist von 14:00 â€“ 16:00 Uhr ein Dolmetscher fuÌˆr Arabisch vor Ort\, der kostenlos bei der Ãœbersetzung von Unterlagen hilft. Eine Beglaubigung der Unterlagen ist nicht mÃ¶glich. Individuelle Termine kÃ¶nnen auch nach Bedarf ausgemacht werden.
URL:https://gruebentaelchen.de/termine/uebersetzungshilfe-arabisch-deutsch/2025-08-06/
LOCATION:StadtteilbÃ¼ro GrÃ¼bentÃ¤lchen\, FriedenstraÃŸe 118\, Kaiserslautern\, Rheinland-Pfalz\, 67657\, Deutschland
CATEGORIES:Beratung
END:VEVENT
BEGIN:VEVENT
DTSTART;TZID=Europe/Berlin:20250805T150000
DTEND;TZID=Europe/Berlin:20250805T170000
DTSTAMP:20260422T211051
CREATED:20230326T204115Z
LAST-MODIFIED:20251203T133352Z
UID:10003193-1754406000-1754413200@gruebentaelchen.de
SUMMARY:Digitales CafÃ©
DESCRIPTION:Digitales CafÃ©\n  \nEin kostenloses Angebot fÃ¼r Seniorinnen und Senioren â€“ Sie haben Fragen im Umgang mit Smartphone\, Tablet\, Laptop und Co? Ein Team von Freiwilligen hilft Ihnen bei Ihren Fragen in gemÃ¼tlicher Runde bei Kaffee\, Tee und GebÃ¤ck. \nJeden 1. Dienstag im Monat von 15:00 â€“ 17:00 Uhr in gemÃ¼tlicher Runde bei Kaffee\, Tee und GebÃ¤ck! Sie kÃ¶nnen auch gerne eine Einzelsprechstunde vereinbaren.
URL:https://gruebentaelchen.de/termine/digitale-hilfe/2025-08-05/
LOCATION:StadtteilbÃ¼ro GrÃ¼bentÃ¤lchen\, FriedenstraÃŸe 118\, Kaiserslautern\, Rheinland-Pfalz\, 67657\, Deutschland
CATEGORIES:Veranstaltung
ATTACH;FMTTYPE=image/jpeg:https://gruebentaelchen.de/wp-content/uploads/2023/03/Digitale-Hilfen.jpg
END:VEVENT
BEGIN:VEVENT
DTSTART;TZID=Europe/Berlin:20250730T140000
DTEND;TZID=Europe/Berlin:20250730T160000
DTSTAMP:20260422T211051
CREATED:20240102T003714Z
LAST-MODIFIED:20251124T143038Z
UID:10004197-1753884000-1753891200@gruebentaelchen.de
SUMMARY:Ãœbersetzungshilfe Arabisch-Deutsch
DESCRIPTION:Das StadtteilbuÌˆro GruÌˆbentÃ¤lchen bietet kostenlose Ãœbersetzungshilfe fuÌˆr Arabisch â€“ Deutsch an. \nJeden Mittwoch ist von 14:00 â€“ 16:00 Uhr ein Dolmetscher fuÌˆr Arabisch vor Ort\, der kostenlos bei der Ãœbersetzung von Unterlagen hilft. Eine Beglaubigung der Unterlagen ist nicht mÃ¶glich. Individuelle Termine kÃ¶nnen auch nach Bedarf ausgemacht werden.
URL:https://gruebentaelchen.de/termine/uebersetzungshilfe-arabisch-deutsch/2025-07-30/
LOCATION:StadtteilbÃ¼ro GrÃ¼bentÃ¤lchen\, FriedenstraÃŸe 118\, Kaiserslautern\, Rheinland-Pfalz\, 67657\, Deutschland
CATEGORIES:Beratung
END:VEVENT
BEGIN:VEVENT
DTSTART;TZID=Europe/Berlin:20250723T140000
DTEND;TZID=Europe/Berlin:20250723T160000
DTSTAMP:20260422T211051
CREATED:20240102T003714Z
LAST-MODIFIED:20251124T143038Z
UID:10004196-1753279200-1753286400@gruebentaelchen.de
SUMMARY:Ãœbersetzungshilfe Arabisch-Deutsch
DESCRIPTION:Das StadtteilbuÌˆro GruÌˆbentÃ¤lchen bietet kostenlose Ãœbersetzungshilfe fuÌˆr Arabisch â€“ Deutsch an. \nJeden Mittwoch ist von 14:00 â€“ 16:00 Uhr ein Dolmetscher fuÌˆr Arabisch vor Ort\, der kostenlos bei der Ãœbersetzung von Unterlagen hilft. Eine Beglaubigung der Unterlagen ist nicht mÃ¶glich. Individuelle Termine kÃ¶nnen auch nach Bedarf ausgemacht werden.
URL:https://gruebentaelchen.de/termine/uebersetzungshilfe-arabisch-deutsch/2025-07-23/
LOCATION:StadtteilbÃ¼ro GrÃ¼bentÃ¤lchen\, FriedenstraÃŸe 118\, Kaiserslautern\, Rheinland-Pfalz\, 67657\, Deutschland
CATEGORIES:Beratung
END:VEVENT
BEGIN:VEVENT
DTSTART;TZID=Europe/Berlin:20250716T140000
DTEND;TZID=Europe/Berlin:20250716T160000
DTSTAMP:20260422T211051
CREATED:20240102T003714Z
LAST-MODIFIED:20251124T143038Z
UID:10004195-1752674400-1752681600@gruebentaelchen.de
SUMMARY:Ãœbersetzungshilfe Arabisch-Deutsch
DESCRIPTION:Das StadtteilbuÌˆro GruÌˆbentÃ¤lchen bietet kostenlose Ãœbersetzungshilfe fuÌˆr Arabisch â€“ Deutsch an. \nJeden Mittwoch ist von 14:00 â€“ 16:00 Uhr ein Dolmetscher fuÌˆr Arabisch vor Ort\, der kostenlos bei der Ãœbersetzung von Unterlagen hilft. Eine Beglaubigung der Unterlagen ist nicht mÃ¶glich. Individuelle Termine kÃ¶nnen auch nach Bedarf ausgemacht werden.
URL:https://gruebentaelchen.de/termine/uebersetzungshilfe-arabisch-deutsch/2025-07-16/
LOCATION:StadtteilbÃ¼ro GrÃ¼bentÃ¤lchen\, FriedenstraÃŸe 118\, Kaiserslautern\, Rheinland-Pfalz\, 67657\, Deutschland
CATEGORIES:Beratung
END:VEVENT
BEGIN:VEVENT
DTSTART;TZID=Europe/Berlin:20250710T150000
DTEND;TZID=Europe/Berlin:20250710T160000
DTSTAMP:20260422T211051
CREATED:20240123T161306Z
LAST-MODIFIED:20251203T135800Z
UID:10004392-1752159600-1752163200@gruebentaelchen.de
SUMMARY:Singkreis
DESCRIPTION:  \nSingen in Gemeinschaft schÃ¼ttet GlÃ¼ckshormone aus\, fÃ¶rdert KreativitÃ¤t und KonzentrationsfÃ¤higkeit. Auch SprachgefÃ¼hl und Wortschatz werden trainiert. \nKommen Sie vorbei und Â lassen Sie uns gemeinsam Volkslieder und Schlager singen!
URL:https://gruebentaelchen.de/termine/singkreis-3-2/2025-07-10/
LOCATION:StadtteilbÃ¼ro GrÃ¼bentÃ¤lchen\, FriedenstraÃŸe 118\, Kaiserslautern\, Rheinland-Pfalz\, 67657\, Deutschland
CATEGORIES:Veranstaltung
ATTACH;FMTTYPE=image/png:https://gruebentaelchen.de/wp-content/uploads/2023/12/2023-11-29-Flyerlang-Stadtteilbuero_Singkreis-1.png
END:VEVENT
BEGIN:VEVENT
DTSTART;TZID=Europe/Berlin:20250710T103000
DTEND;TZID=Europe/Berlin:20250710T120000
DTSTAMP:20260422T211051
CREATED:20240125T171940Z
LAST-MODIFIED:20251120T104545Z
UID:10004520-1752143400-1752148800@gruebentaelchen.de
SUMMARY:Sprechstunde der Seniorenberaterin
DESCRIPTION:jeden 2. Donnerstag im Monat von 10:30 â€“ 12:00 Uhr \nSprechstunde derÂ Seniorenberaterin Margit Walg-Joyce
URL:https://gruebentaelchen.de/termine/sprechstunde-der-seniorenberaterin-2/2025-07-10/
LOCATION:StadtteilbÃ¼ro GrÃ¼bentÃ¤lchen\, FriedenstraÃŸe 118\, Kaiserslautern\, Rheinland-Pfalz\, 67657\, Deutschland
ATTACH;FMTTYPE=image/jpeg:https://gruebentaelchen.de/wp-content/uploads/2023/03/Sprechstunde-Seniorenberaterin.jpg
END:VEVENT
END:VCALENDAR