BEGIN:VCALENDAR
VERSION:2.0
PRODID:-//StadtteilbÃ¼ro GrÃ¼bentÃ¤lchen - ECPv6.15.20//NONSGML v1.0//EN
CALSCALE:GREGORIAN
METHOD:PUBLISH
X-WR-CALNAME:StadtteilbÃ¼ro GrÃ¼bentÃ¤lchen
X-ORIGINAL-URL:https://gruebentaelchen.de
X-WR-CALDESC:Veranstaltungen fÃ¼r StadtteilbÃ¼ro GrÃ¼bentÃ¤lchen
REFRESH-INTERVAL;VALUE=DURATION:PT1H
X-Robots-Tag:noindex
X-PUBLISHED-TTL:PT1H
BEGIN:VTIMEZONE
TZID:Europe/Berlin
BEGIN:DAYLIGHT
TZOFFSETFROM:+0100
TZOFFSETTO:+0200
TZNAME:CEST
DTSTART:20240331T010000
END:DAYLIGHT
BEGIN:STANDARD
TZOFFSETFROM:+0200
TZOFFSETTO:+0100
TZNAME:CET
DTSTART:20241027T010000
END:STANDARD
BEGIN:DAYLIGHT
TZOFFSETFROM:+0100
TZOFFSETTO:+0200
TZNAME:CEST
DTSTART:20250330T010000
END:DAYLIGHT
BEGIN:STANDARD
TZOFFSETFROM:+0200
TZOFFSETTO:+0100
TZNAME:CET
DTSTART:20251026T010000
END:STANDARD
BEGIN:DAYLIGHT
TZOFFSETFROM:+0100
TZOFFSETTO:+0200
TZNAME:CEST
DTSTART:20260329T010000
END:DAYLIGHT
BEGIN:STANDARD
TZOFFSETFROM:+0200
TZOFFSETTO:+0100
TZNAME:CET
DTSTART:20261025T010000
END:STANDARD
END:VTIMEZONE
BEGIN:VEVENT
DTSTART;TZID=Europe/Berlin:20250430T140000
DTEND;TZID=Europe/Berlin:20250430T160000
DTSTAMP:20260423T062804
CREATED:20240102T003714Z
LAST-MODIFIED:20251124T143038Z
UID:10004184-1746021600-1746028800@gruebentaelchen.de
SUMMARY:Ãœbersetzungshilfe Arabisch-Deutsch
DESCRIPTION:Das StadtteilbuÌˆro GruÌˆbentÃ¤lchen bietet kostenlose Ãœbersetzungshilfe fuÌˆr Arabisch â€“ Deutsch an. \nJeden Mittwoch ist von 14:00 â€“ 16:00 Uhr ein Dolmetscher fuÌˆr Arabisch vor Ort\, der kostenlos bei der Ãœbersetzung von Unterlagen hilft. Eine Beglaubigung der Unterlagen ist nicht mÃ¶glich. Individuelle Termine kÃ¶nnen auch nach Bedarf ausgemacht werden.
URL:https://gruebentaelchen.de/termine/uebersetzungshilfe-arabisch-deutsch/2025-04-30/
LOCATION:StadtteilbÃ¼ro GrÃ¼bentÃ¤lchen\, FriedenstraÃŸe 118\, Kaiserslautern\, Rheinland-Pfalz\, 67657\, Deutschland
CATEGORIES:Beratung
END:VEVENT
BEGIN:VEVENT
DTSTART;TZID=Europe/Berlin:20250423T140000
DTEND;TZID=Europe/Berlin:20250423T160000
DTSTAMP:20260423T062804
CREATED:20240102T003714Z
LAST-MODIFIED:20251124T143038Z
UID:10004183-1745416800-1745424000@gruebentaelchen.de
SUMMARY:Ãœbersetzungshilfe Arabisch-Deutsch
DESCRIPTION:Das StadtteilbuÌˆro GruÌˆbentÃ¤lchen bietet kostenlose Ãœbersetzungshilfe fuÌˆr Arabisch â€“ Deutsch an. \nJeden Mittwoch ist von 14:00 â€“ 16:00 Uhr ein Dolmetscher fuÌˆr Arabisch vor Ort\, der kostenlos bei der Ãœbersetzung von Unterlagen hilft. Eine Beglaubigung der Unterlagen ist nicht mÃ¶glich. Individuelle Termine kÃ¶nnen auch nach Bedarf ausgemacht werden.
URL:https://gruebentaelchen.de/termine/uebersetzungshilfe-arabisch-deutsch/2025-04-23/
LOCATION:StadtteilbÃ¼ro GrÃ¼bentÃ¤lchen\, FriedenstraÃŸe 118\, Kaiserslautern\, Rheinland-Pfalz\, 67657\, Deutschland
CATEGORIES:Beratung
END:VEVENT
BEGIN:VEVENT
DTSTART;TZID=Europe/Berlin:20250416T140000
DTEND;TZID=Europe/Berlin:20250416T160000
DTSTAMP:20260423T062804
CREATED:20240102T003714Z
LAST-MODIFIED:20251124T143038Z
UID:10004182-1744812000-1744819200@gruebentaelchen.de
SUMMARY:Ãœbersetzungshilfe Arabisch-Deutsch
DESCRIPTION:Das StadtteilbuÌˆro GruÌˆbentÃ¤lchen bietet kostenlose Ãœbersetzungshilfe fuÌˆr Arabisch â€“ Deutsch an. \nJeden Mittwoch ist von 14:00 â€“ 16:00 Uhr ein Dolmetscher fuÌˆr Arabisch vor Ort\, der kostenlos bei der Ãœbersetzung von Unterlagen hilft. Eine Beglaubigung der Unterlagen ist nicht mÃ¶glich. Individuelle Termine kÃ¶nnen auch nach Bedarf ausgemacht werden.
URL:https://gruebentaelchen.de/termine/uebersetzungshilfe-arabisch-deutsch/2025-04-16/
LOCATION:StadtteilbÃ¼ro GrÃ¼bentÃ¤lchen\, FriedenstraÃŸe 118\, Kaiserslautern\, Rheinland-Pfalz\, 67657\, Deutschland
CATEGORIES:Beratung
END:VEVENT
BEGIN:VEVENT
DTSTART;TZID=Europe/Berlin:20250410T150000
DTEND;TZID=Europe/Berlin:20250410T160000
DTSTAMP:20260423T062804
CREATED:20240123T161306Z
LAST-MODIFIED:20251203T135800Z
UID:10004389-1744297200-1744300800@gruebentaelchen.de
SUMMARY:Singkreis
DESCRIPTION:  \nSingen in Gemeinschaft schÃ¼ttet GlÃ¼ckshormone aus\, fÃ¶rdert KreativitÃ¤t und KonzentrationsfÃ¤higkeit. Auch SprachgefÃ¼hl und Wortschatz werden trainiert. \nKommen Sie vorbei und Â lassen Sie uns gemeinsam Volkslieder und Schlager singen!
URL:https://gruebentaelchen.de/termine/singkreis-3-2/2025-04-10/
LOCATION:StadtteilbÃ¼ro GrÃ¼bentÃ¤lchen\, FriedenstraÃŸe 118\, Kaiserslautern\, Rheinland-Pfalz\, 67657\, Deutschland
CATEGORIES:Veranstaltung
ATTACH;FMTTYPE=image/png:https://gruebentaelchen.de/wp-content/uploads/2023/12/2023-11-29-Flyerlang-Stadtteilbuero_Singkreis-1.png
END:VEVENT
BEGIN:VEVENT
DTSTART;TZID=Europe/Berlin:20250410T103000
DTEND;TZID=Europe/Berlin:20250410T120000
DTSTAMP:20260423T062804
CREATED:20240125T171940Z
LAST-MODIFIED:20251120T104545Z
UID:10004517-1744281000-1744286400@gruebentaelchen.de
SUMMARY:Sprechstunde der Seniorenberaterin
DESCRIPTION:jeden 2. Donnerstag im Monat von 10:30 â€“ 12:00 Uhr \nSprechstunde derÂ Seniorenberaterin Margit Walg-Joyce
URL:https://gruebentaelchen.de/termine/sprechstunde-der-seniorenberaterin-2/2025-04-10/
LOCATION:StadtteilbÃ¼ro GrÃ¼bentÃ¤lchen\, FriedenstraÃŸe 118\, Kaiserslautern\, Rheinland-Pfalz\, 67657\, Deutschland
ATTACH;FMTTYPE=image/jpeg:https://gruebentaelchen.de/wp-content/uploads/2023/03/Sprechstunde-Seniorenberaterin.jpg
END:VEVENT
BEGIN:VEVENT
DTSTART;TZID=Europe/Berlin:20250409T140000
DTEND;TZID=Europe/Berlin:20250409T160000
DTSTAMP:20260423T062804
CREATED:20240102T003714Z
LAST-MODIFIED:20251124T143038Z
UID:10004181-1744207200-1744214400@gruebentaelchen.de
SUMMARY:Ãœbersetzungshilfe Arabisch-Deutsch
DESCRIPTION:Das StadtteilbuÌˆro GruÌˆbentÃ¤lchen bietet kostenlose Ãœbersetzungshilfe fuÌˆr Arabisch â€“ Deutsch an. \nJeden Mittwoch ist von 14:00 â€“ 16:00 Uhr ein Dolmetscher fuÌˆr Arabisch vor Ort\, der kostenlos bei der Ãœbersetzung von Unterlagen hilft. Eine Beglaubigung der Unterlagen ist nicht mÃ¶glich. Individuelle Termine kÃ¶nnen auch nach Bedarf ausgemacht werden.
URL:https://gruebentaelchen.de/termine/uebersetzungshilfe-arabisch-deutsch/2025-04-09/
LOCATION:StadtteilbÃ¼ro GrÃ¼bentÃ¤lchen\, FriedenstraÃŸe 118\, Kaiserslautern\, Rheinland-Pfalz\, 67657\, Deutschland
CATEGORIES:Beratung
END:VEVENT
BEGIN:VEVENT
DTSTART;TZID=Europe/Berlin:20250409T100000
DTEND;TZID=Europe/Berlin:20250409T120000
DTSTAMP:20260423T062804
CREATED:20230329T202135Z
LAST-MODIFIED:20240102T000038Z
UID:10003428-1744192800-1744200000@gruebentaelchen.de
SUMMARY:Kostenlose Hilfe und/oder Anleitung bei kleineren NÃ¤harbeiten
DESCRIPTION:Im StadtteilbÃ¼ro wird neuerdings â€žabgesteckt\, anprobiert\, gebÃ¼gelt und genÃ¤htâ€¦\, aber auch gelacht und gefachsimpeltâ€¦â€œ \nWir bieten UnterstuÌˆtzung an: \nbeim ReiÃŸverschluÌˆsse einsetzen\,\nHosen/RÃ¶cke kuÌˆrzen\,\nNÃ¤hte aufarbeiten\noder anderen kleineren Ã„nderungen\nsowie Vermittlung von Grundkenntnissen /Â Einstieg in Patchworkâ€¦ \nHaben Sie auch kleinere Ã„nderungen an KleidungsstÃ¼cken wie Hosen/RÃ¶cke kÃ¼rzen\, ReiÃŸverschlÃ¼sse einsetzen oder andere kleinere NÃ¤harbeiten\, die Sie gerne unter kundiger Anleitung selbst oder von einer unserer ehrenamtlich Mitarbeitenden vornehmen wollen? \nDann melden Sie sich bei uns im StadtteilbÃ¼ro! Unser kostenloses Angebot gibt es jeden 2. Mittwoch / Monat von 10:00 â€“ 12:00 UhrÂ im StadtteilbÃ¼ro. Spenden sind willlkommen.
URL:https://gruebentaelchen.de/termine/kostenlose-hilfe-und-oder-anleitung-bei-kleineren-naeharbeiten/2025-04-09/
LOCATION:StadtteilbÃ¼ro GrÃ¼bentÃ¤lchen\, FriedenstraÃŸe 118\, Kaiserslautern\, Rheinland-Pfalz\, 67657\, Deutschland
CATEGORIES:Kreatives
ATTACH;FMTTYPE=image/jpeg:https://gruebentaelchen.de/wp-content/uploads/2023/03/Naehhilfe.jpg
END:VEVENT
BEGIN:VEVENT
DTSTART;TZID=Europe/Berlin:20250402T140000
DTEND;TZID=Europe/Berlin:20250402T160000
DTSTAMP:20260423T062804
CREATED:20240102T003714Z
LAST-MODIFIED:20251124T143038Z
UID:10004180-1743602400-1743609600@gruebentaelchen.de
SUMMARY:Ãœbersetzungshilfe Arabisch-Deutsch
DESCRIPTION:Das StadtteilbuÌˆro GruÌˆbentÃ¤lchen bietet kostenlose Ãœbersetzungshilfe fuÌˆr Arabisch â€“ Deutsch an. \nJeden Mittwoch ist von 14:00 â€“ 16:00 Uhr ein Dolmetscher fuÌˆr Arabisch vor Ort\, der kostenlos bei der Ãœbersetzung von Unterlagen hilft. Eine Beglaubigung der Unterlagen ist nicht mÃ¶glich. Individuelle Termine kÃ¶nnen auch nach Bedarf ausgemacht werden.
URL:https://gruebentaelchen.de/termine/uebersetzungshilfe-arabisch-deutsch/2025-04-02/
LOCATION:StadtteilbÃ¼ro GrÃ¼bentÃ¤lchen\, FriedenstraÃŸe 118\, Kaiserslautern\, Rheinland-Pfalz\, 67657\, Deutschland
CATEGORIES:Beratung
END:VEVENT
BEGIN:VEVENT
DTSTART;TZID=Europe/Berlin:20250401T150000
DTEND;TZID=Europe/Berlin:20250401T170000
DTSTAMP:20260423T062804
CREATED:20230326T204115Z
LAST-MODIFIED:20251203T133352Z
UID:10003189-1743519600-1743526800@gruebentaelchen.de
SUMMARY:Digitales CafÃ©
DESCRIPTION:Digitales CafÃ©\n  \nEin kostenloses Angebot fÃ¼r Seniorinnen und Senioren â€“ Sie haben Fragen im Umgang mit Smartphone\, Tablet\, Laptop und Co? Ein Team von Freiwilligen hilft Ihnen bei Ihren Fragen in gemÃ¼tlicher Runde bei Kaffee\, Tee und GebÃ¤ck. \nJeden 1. Dienstag im Monat von 15:00 â€“ 17:00 Uhr in gemÃ¼tlicher Runde bei Kaffee\, Tee und GebÃ¤ck! Sie kÃ¶nnen auch gerne eine Einzelsprechstunde vereinbaren.
URL:https://gruebentaelchen.de/termine/digitale-hilfe/2025-04-01/
LOCATION:StadtteilbÃ¼ro GrÃ¼bentÃ¤lchen\, FriedenstraÃŸe 118\, Kaiserslautern\, Rheinland-Pfalz\, 67657\, Deutschland
CATEGORIES:Veranstaltung
ATTACH;FMTTYPE=image/jpeg:https://gruebentaelchen.de/wp-content/uploads/2023/03/Digitale-Hilfen.jpg
END:VEVENT
BEGIN:VEVENT
DTSTART;TZID=Europe/Berlin:20250326T140000
DTEND;TZID=Europe/Berlin:20250326T160000
DTSTAMP:20260423T062804
CREATED:20240102T003714Z
LAST-MODIFIED:20251124T143038Z
UID:10004179-1742997600-1743004800@gruebentaelchen.de
SUMMARY:Ãœbersetzungshilfe Arabisch-Deutsch
DESCRIPTION:Das StadtteilbuÌˆro GruÌˆbentÃ¤lchen bietet kostenlose Ãœbersetzungshilfe fuÌˆr Arabisch â€“ Deutsch an. \nJeden Mittwoch ist von 14:00 â€“ 16:00 Uhr ein Dolmetscher fuÌˆr Arabisch vor Ort\, der kostenlos bei der Ãœbersetzung von Unterlagen hilft. Eine Beglaubigung der Unterlagen ist nicht mÃ¶glich. Individuelle Termine kÃ¶nnen auch nach Bedarf ausgemacht werden.
URL:https://gruebentaelchen.de/termine/uebersetzungshilfe-arabisch-deutsch/2025-03-26/
LOCATION:StadtteilbÃ¼ro GrÃ¼bentÃ¤lchen\, FriedenstraÃŸe 118\, Kaiserslautern\, Rheinland-Pfalz\, 67657\, Deutschland
CATEGORIES:Beratung
END:VEVENT
BEGIN:VEVENT
DTSTART;TZID=Europe/Berlin:20250319T140000
DTEND;TZID=Europe/Berlin:20250319T160000
DTSTAMP:20260423T062804
CREATED:20240102T003714Z
LAST-MODIFIED:20251124T143038Z
UID:10004178-1742392800-1742400000@gruebentaelchen.de
SUMMARY:Ãœbersetzungshilfe Arabisch-Deutsch
DESCRIPTION:Das StadtteilbuÌˆro GruÌˆbentÃ¤lchen bietet kostenlose Ãœbersetzungshilfe fuÌˆr Arabisch â€“ Deutsch an. \nJeden Mittwoch ist von 14:00 â€“ 16:00 Uhr ein Dolmetscher fuÌˆr Arabisch vor Ort\, der kostenlos bei der Ãœbersetzung von Unterlagen hilft. Eine Beglaubigung der Unterlagen ist nicht mÃ¶glich. Individuelle Termine kÃ¶nnen auch nach Bedarf ausgemacht werden.
URL:https://gruebentaelchen.de/termine/uebersetzungshilfe-arabisch-deutsch/2025-03-19/
LOCATION:StadtteilbÃ¼ro GrÃ¼bentÃ¤lchen\, FriedenstraÃŸe 118\, Kaiserslautern\, Rheinland-Pfalz\, 67657\, Deutschland
CATEGORIES:Beratung
END:VEVENT
BEGIN:VEVENT
DTSTART;TZID=Europe/Berlin:20250313T150000
DTEND;TZID=Europe/Berlin:20250313T160000
DTSTAMP:20260423T062804
CREATED:20240123T161306Z
LAST-MODIFIED:20251203T135800Z
UID:10004388-1741878000-1741881600@gruebentaelchen.de
SUMMARY:Singkreis
DESCRIPTION:  \nSingen in Gemeinschaft schÃ¼ttet GlÃ¼ckshormone aus\, fÃ¶rdert KreativitÃ¤t und KonzentrationsfÃ¤higkeit. Auch SprachgefÃ¼hl und Wortschatz werden trainiert. \nKommen Sie vorbei und Â lassen Sie uns gemeinsam Volkslieder und Schlager singen!
URL:https://gruebentaelchen.de/termine/singkreis-3-2/2025-03-13/
LOCATION:StadtteilbÃ¼ro GrÃ¼bentÃ¤lchen\, FriedenstraÃŸe 118\, Kaiserslautern\, Rheinland-Pfalz\, 67657\, Deutschland
CATEGORIES:Veranstaltung
ATTACH;FMTTYPE=image/png:https://gruebentaelchen.de/wp-content/uploads/2023/12/2023-11-29-Flyerlang-Stadtteilbuero_Singkreis-1.png
END:VEVENT
BEGIN:VEVENT
DTSTART;TZID=Europe/Berlin:20250313T103000
DTEND;TZID=Europe/Berlin:20250313T120000
DTSTAMP:20260423T062804
CREATED:20240125T171940Z
LAST-MODIFIED:20251120T104545Z
UID:10004516-1741861800-1741867200@gruebentaelchen.de
SUMMARY:Sprechstunde der Seniorenberaterin
DESCRIPTION:jeden 2. Donnerstag im Monat von 10:30 â€“ 12:00 Uhr \nSprechstunde derÂ Seniorenberaterin Margit Walg-Joyce
URL:https://gruebentaelchen.de/termine/sprechstunde-der-seniorenberaterin-2/2025-03-13/
LOCATION:StadtteilbÃ¼ro GrÃ¼bentÃ¤lchen\, FriedenstraÃŸe 118\, Kaiserslautern\, Rheinland-Pfalz\, 67657\, Deutschland
ATTACH;FMTTYPE=image/jpeg:https://gruebentaelchen.de/wp-content/uploads/2023/03/Sprechstunde-Seniorenberaterin.jpg
END:VEVENT
BEGIN:VEVENT
DTSTART;TZID=Europe/Berlin:20250312T140000
DTEND;TZID=Europe/Berlin:20250312T160000
DTSTAMP:20260423T062804
CREATED:20240102T003714Z
LAST-MODIFIED:20251124T143038Z
UID:10004177-1741788000-1741795200@gruebentaelchen.de
SUMMARY:Ãœbersetzungshilfe Arabisch-Deutsch
DESCRIPTION:Das StadtteilbuÌˆro GruÌˆbentÃ¤lchen bietet kostenlose Ãœbersetzungshilfe fuÌˆr Arabisch â€“ Deutsch an. \nJeden Mittwoch ist von 14:00 â€“ 16:00 Uhr ein Dolmetscher fuÌˆr Arabisch vor Ort\, der kostenlos bei der Ãœbersetzung von Unterlagen hilft. Eine Beglaubigung der Unterlagen ist nicht mÃ¶glich. Individuelle Termine kÃ¶nnen auch nach Bedarf ausgemacht werden.
URL:https://gruebentaelchen.de/termine/uebersetzungshilfe-arabisch-deutsch/2025-03-12/
LOCATION:StadtteilbÃ¼ro GrÃ¼bentÃ¤lchen\, FriedenstraÃŸe 118\, Kaiserslautern\, Rheinland-Pfalz\, 67657\, Deutschland
CATEGORIES:Beratung
END:VEVENT
BEGIN:VEVENT
DTSTART;TZID=Europe/Berlin:20250312T100000
DTEND;TZID=Europe/Berlin:20250312T120000
DTSTAMP:20260423T062804
CREATED:20230329T202135Z
LAST-MODIFIED:20240102T000038Z
UID:10003427-1741773600-1741780800@gruebentaelchen.de
SUMMARY:Kostenlose Hilfe und/oder Anleitung bei kleineren NÃ¤harbeiten
DESCRIPTION:Im StadtteilbÃ¼ro wird neuerdings â€žabgesteckt\, anprobiert\, gebÃ¼gelt und genÃ¤htâ€¦\, aber auch gelacht und gefachsimpeltâ€¦â€œ \nWir bieten UnterstuÌˆtzung an: \nbeim ReiÃŸverschluÌˆsse einsetzen\,\nHosen/RÃ¶cke kuÌˆrzen\,\nNÃ¤hte aufarbeiten\noder anderen kleineren Ã„nderungen\nsowie Vermittlung von Grundkenntnissen /Â Einstieg in Patchworkâ€¦ \nHaben Sie auch kleinere Ã„nderungen an KleidungsstÃ¼cken wie Hosen/RÃ¶cke kÃ¼rzen\, ReiÃŸverschlÃ¼sse einsetzen oder andere kleinere NÃ¤harbeiten\, die Sie gerne unter kundiger Anleitung selbst oder von einer unserer ehrenamtlich Mitarbeitenden vornehmen wollen? \nDann melden Sie sich bei uns im StadtteilbÃ¼ro! Unser kostenloses Angebot gibt es jeden 2. Mittwoch / Monat von 10:00 â€“ 12:00 UhrÂ im StadtteilbÃ¼ro. Spenden sind willlkommen.
URL:https://gruebentaelchen.de/termine/kostenlose-hilfe-und-oder-anleitung-bei-kleineren-naeharbeiten/2025-03-12/
LOCATION:StadtteilbÃ¼ro GrÃ¼bentÃ¤lchen\, FriedenstraÃŸe 118\, Kaiserslautern\, Rheinland-Pfalz\, 67657\, Deutschland
CATEGORIES:Kreatives
ATTACH;FMTTYPE=image/jpeg:https://gruebentaelchen.de/wp-content/uploads/2023/03/Naehhilfe.jpg
END:VEVENT
BEGIN:VEVENT
DTSTART;TZID=Europe/Berlin:20250305T140000
DTEND;TZID=Europe/Berlin:20250305T160000
DTSTAMP:20260423T062804
CREATED:20240102T003714Z
LAST-MODIFIED:20251124T143038Z
UID:10004176-1741183200-1741190400@gruebentaelchen.de
SUMMARY:Ãœbersetzungshilfe Arabisch-Deutsch
DESCRIPTION:Das StadtteilbuÌˆro GruÌˆbentÃ¤lchen bietet kostenlose Ãœbersetzungshilfe fuÌˆr Arabisch â€“ Deutsch an. \nJeden Mittwoch ist von 14:00 â€“ 16:00 Uhr ein Dolmetscher fuÌˆr Arabisch vor Ort\, der kostenlos bei der Ãœbersetzung von Unterlagen hilft. Eine Beglaubigung der Unterlagen ist nicht mÃ¶glich. Individuelle Termine kÃ¶nnen auch nach Bedarf ausgemacht werden.
URL:https://gruebentaelchen.de/termine/uebersetzungshilfe-arabisch-deutsch/2025-03-05/
LOCATION:StadtteilbÃ¼ro GrÃ¼bentÃ¤lchen\, FriedenstraÃŸe 118\, Kaiserslautern\, Rheinland-Pfalz\, 67657\, Deutschland
CATEGORIES:Beratung
END:VEVENT
BEGIN:VEVENT
DTSTART;TZID=Europe/Berlin:20250304T150000
DTEND;TZID=Europe/Berlin:20250304T170000
DTSTAMP:20260423T062804
CREATED:20230326T204115Z
LAST-MODIFIED:20251203T133352Z
UID:10003188-1741100400-1741107600@gruebentaelchen.de
SUMMARY:Digitales CafÃ©
DESCRIPTION:Digitales CafÃ©\n  \nEin kostenloses Angebot fÃ¼r Seniorinnen und Senioren â€“ Sie haben Fragen im Umgang mit Smartphone\, Tablet\, Laptop und Co? Ein Team von Freiwilligen hilft Ihnen bei Ihren Fragen in gemÃ¼tlicher Runde bei Kaffee\, Tee und GebÃ¤ck. \nJeden 1. Dienstag im Monat von 15:00 â€“ 17:00 Uhr in gemÃ¼tlicher Runde bei Kaffee\, Tee und GebÃ¤ck! Sie kÃ¶nnen auch gerne eine Einzelsprechstunde vereinbaren.
URL:https://gruebentaelchen.de/termine/digitale-hilfe/2025-03-04/
LOCATION:StadtteilbÃ¼ro GrÃ¼bentÃ¤lchen\, FriedenstraÃŸe 118\, Kaiserslautern\, Rheinland-Pfalz\, 67657\, Deutschland
CATEGORIES:Veranstaltung
ATTACH;FMTTYPE=image/jpeg:https://gruebentaelchen.de/wp-content/uploads/2023/03/Digitale-Hilfen.jpg
END:VEVENT
BEGIN:VEVENT
DTSTART;TZID=Europe/Berlin:20250226T140000
DTEND;TZID=Europe/Berlin:20250226T160000
DTSTAMP:20260423T062804
CREATED:20240102T003714Z
LAST-MODIFIED:20251124T143038Z
UID:10004175-1740578400-1740585600@gruebentaelchen.de
SUMMARY:Ãœbersetzungshilfe Arabisch-Deutsch
DESCRIPTION:Das StadtteilbuÌˆro GruÌˆbentÃ¤lchen bietet kostenlose Ãœbersetzungshilfe fuÌˆr Arabisch â€“ Deutsch an. \nJeden Mittwoch ist von 14:00 â€“ 16:00 Uhr ein Dolmetscher fuÌˆr Arabisch vor Ort\, der kostenlos bei der Ãœbersetzung von Unterlagen hilft. Eine Beglaubigung der Unterlagen ist nicht mÃ¶glich. Individuelle Termine kÃ¶nnen auch nach Bedarf ausgemacht werden.
URL:https://gruebentaelchen.de/termine/uebersetzungshilfe-arabisch-deutsch/2025-02-26/
LOCATION:StadtteilbÃ¼ro GrÃ¼bentÃ¤lchen\, FriedenstraÃŸe 118\, Kaiserslautern\, Rheinland-Pfalz\, 67657\, Deutschland
CATEGORIES:Beratung
END:VEVENT
BEGIN:VEVENT
DTSTART;TZID=Europe/Berlin:20250219T140000
DTEND;TZID=Europe/Berlin:20250219T160000
DTSTAMP:20260423T062804
CREATED:20240102T003714Z
LAST-MODIFIED:20251124T143038Z
UID:10004174-1739973600-1739980800@gruebentaelchen.de
SUMMARY:Ãœbersetzungshilfe Arabisch-Deutsch
DESCRIPTION:Das StadtteilbuÌˆro GruÌˆbentÃ¤lchen bietet kostenlose Ãœbersetzungshilfe fuÌˆr Arabisch â€“ Deutsch an. \nJeden Mittwoch ist von 14:00 â€“ 16:00 Uhr ein Dolmetscher fuÌˆr Arabisch vor Ort\, der kostenlos bei der Ãœbersetzung von Unterlagen hilft. Eine Beglaubigung der Unterlagen ist nicht mÃ¶glich. Individuelle Termine kÃ¶nnen auch nach Bedarf ausgemacht werden.
URL:https://gruebentaelchen.de/termine/uebersetzungshilfe-arabisch-deutsch/2025-02-19/
LOCATION:StadtteilbÃ¼ro GrÃ¼bentÃ¤lchen\, FriedenstraÃŸe 118\, Kaiserslautern\, Rheinland-Pfalz\, 67657\, Deutschland
CATEGORIES:Beratung
END:VEVENT
BEGIN:VEVENT
DTSTART;TZID=Europe/Berlin:20250213T150000
DTEND;TZID=Europe/Berlin:20250213T160000
DTSTAMP:20260423T062804
CREATED:20240123T161306Z
LAST-MODIFIED:20251203T135800Z
UID:10004387-1739458800-1739462400@gruebentaelchen.de
SUMMARY:Singkreis
DESCRIPTION:  \nSingen in Gemeinschaft schÃ¼ttet GlÃ¼ckshormone aus\, fÃ¶rdert KreativitÃ¤t und KonzentrationsfÃ¤higkeit. Auch SprachgefÃ¼hl und Wortschatz werden trainiert. \nKommen Sie vorbei und Â lassen Sie uns gemeinsam Volkslieder und Schlager singen!
URL:https://gruebentaelchen.de/termine/singkreis-3-2/2025-02-13/
LOCATION:StadtteilbÃ¼ro GrÃ¼bentÃ¤lchen\, FriedenstraÃŸe 118\, Kaiserslautern\, Rheinland-Pfalz\, 67657\, Deutschland
CATEGORIES:Veranstaltung
ATTACH;FMTTYPE=image/png:https://gruebentaelchen.de/wp-content/uploads/2023/12/2023-11-29-Flyerlang-Stadtteilbuero_Singkreis-1.png
END:VEVENT
BEGIN:VEVENT
DTSTART;TZID=Europe/Berlin:20250213T103000
DTEND;TZID=Europe/Berlin:20250213T120000
DTSTAMP:20260423T062804
CREATED:20240125T171940Z
LAST-MODIFIED:20251120T104545Z
UID:10004515-1739442600-1739448000@gruebentaelchen.de
SUMMARY:Sprechstunde der Seniorenberaterin
DESCRIPTION:jeden 2. Donnerstag im Monat von 10:30 â€“ 12:00 Uhr \nSprechstunde derÂ Seniorenberaterin Margit Walg-Joyce
URL:https://gruebentaelchen.de/termine/sprechstunde-der-seniorenberaterin-2/2025-02-13/
LOCATION:StadtteilbÃ¼ro GrÃ¼bentÃ¤lchen\, FriedenstraÃŸe 118\, Kaiserslautern\, Rheinland-Pfalz\, 67657\, Deutschland
ATTACH;FMTTYPE=image/jpeg:https://gruebentaelchen.de/wp-content/uploads/2023/03/Sprechstunde-Seniorenberaterin.jpg
END:VEVENT
BEGIN:VEVENT
DTSTART;TZID=Europe/Berlin:20250212T140000
DTEND;TZID=Europe/Berlin:20250212T160000
DTSTAMP:20260423T062804
CREATED:20240102T003714Z
LAST-MODIFIED:20251124T143038Z
UID:10004173-1739368800-1739376000@gruebentaelchen.de
SUMMARY:Ãœbersetzungshilfe Arabisch-Deutsch
DESCRIPTION:Das StadtteilbuÌˆro GruÌˆbentÃ¤lchen bietet kostenlose Ãœbersetzungshilfe fuÌˆr Arabisch â€“ Deutsch an. \nJeden Mittwoch ist von 14:00 â€“ 16:00 Uhr ein Dolmetscher fuÌˆr Arabisch vor Ort\, der kostenlos bei der Ãœbersetzung von Unterlagen hilft. Eine Beglaubigung der Unterlagen ist nicht mÃ¶glich. Individuelle Termine kÃ¶nnen auch nach Bedarf ausgemacht werden.
URL:https://gruebentaelchen.de/termine/uebersetzungshilfe-arabisch-deutsch/2025-02-12/
LOCATION:StadtteilbÃ¼ro GrÃ¼bentÃ¤lchen\, FriedenstraÃŸe 118\, Kaiserslautern\, Rheinland-Pfalz\, 67657\, Deutschland
CATEGORIES:Beratung
END:VEVENT
BEGIN:VEVENT
DTSTART;TZID=Europe/Berlin:20250212T100000
DTEND;TZID=Europe/Berlin:20250212T120000
DTSTAMP:20260423T062804
CREATED:20230329T202135Z
LAST-MODIFIED:20240102T000038Z
UID:10003426-1739354400-1739361600@gruebentaelchen.de
SUMMARY:Kostenlose Hilfe und/oder Anleitung bei kleineren NÃ¤harbeiten
DESCRIPTION:Im StadtteilbÃ¼ro wird neuerdings â€žabgesteckt\, anprobiert\, gebÃ¼gelt und genÃ¤htâ€¦\, aber auch gelacht und gefachsimpeltâ€¦â€œ \nWir bieten UnterstuÌˆtzung an: \nbeim ReiÃŸverschluÌˆsse einsetzen\,\nHosen/RÃ¶cke kuÌˆrzen\,\nNÃ¤hte aufarbeiten\noder anderen kleineren Ã„nderungen\nsowie Vermittlung von Grundkenntnissen /Â Einstieg in Patchworkâ€¦ \nHaben Sie auch kleinere Ã„nderungen an KleidungsstÃ¼cken wie Hosen/RÃ¶cke kÃ¼rzen\, ReiÃŸverschlÃ¼sse einsetzen oder andere kleinere NÃ¤harbeiten\, die Sie gerne unter kundiger Anleitung selbst oder von einer unserer ehrenamtlich Mitarbeitenden vornehmen wollen? \nDann melden Sie sich bei uns im StadtteilbÃ¼ro! Unser kostenloses Angebot gibt es jeden 2. Mittwoch / Monat von 10:00 â€“ 12:00 UhrÂ im StadtteilbÃ¼ro. Spenden sind willlkommen.
URL:https://gruebentaelchen.de/termine/kostenlose-hilfe-und-oder-anleitung-bei-kleineren-naeharbeiten/2025-02-12/
LOCATION:StadtteilbÃ¼ro GrÃ¼bentÃ¤lchen\, FriedenstraÃŸe 118\, Kaiserslautern\, Rheinland-Pfalz\, 67657\, Deutschland
CATEGORIES:Kreatives
ATTACH;FMTTYPE=image/jpeg:https://gruebentaelchen.de/wp-content/uploads/2023/03/Naehhilfe.jpg
END:VEVENT
BEGIN:VEVENT
DTSTART;TZID=Europe/Berlin:20250205T140000
DTEND;TZID=Europe/Berlin:20250205T160000
DTSTAMP:20260423T062804
CREATED:20240102T003714Z
LAST-MODIFIED:20251124T143038Z
UID:10004172-1738764000-1738771200@gruebentaelchen.de
SUMMARY:Ãœbersetzungshilfe Arabisch-Deutsch
DESCRIPTION:Das StadtteilbuÌˆro GruÌˆbentÃ¤lchen bietet kostenlose Ãœbersetzungshilfe fuÌˆr Arabisch â€“ Deutsch an. \nJeden Mittwoch ist von 14:00 â€“ 16:00 Uhr ein Dolmetscher fuÌˆr Arabisch vor Ort\, der kostenlos bei der Ãœbersetzung von Unterlagen hilft. Eine Beglaubigung der Unterlagen ist nicht mÃ¶glich. Individuelle Termine kÃ¶nnen auch nach Bedarf ausgemacht werden.
URL:https://gruebentaelchen.de/termine/uebersetzungshilfe-arabisch-deutsch/2025-02-05/
LOCATION:StadtteilbÃ¼ro GrÃ¼bentÃ¤lchen\, FriedenstraÃŸe 118\, Kaiserslautern\, Rheinland-Pfalz\, 67657\, Deutschland
CATEGORIES:Beratung
END:VEVENT
BEGIN:VEVENT
DTSTART;TZID=Europe/Berlin:20250204T150000
DTEND;TZID=Europe/Berlin:20250204T170000
DTSTAMP:20260423T062804
CREATED:20230326T204115Z
LAST-MODIFIED:20251203T133352Z
UID:10003187-1738681200-1738688400@gruebentaelchen.de
SUMMARY:Digitales CafÃ©
DESCRIPTION:Digitales CafÃ©\n  \nEin kostenloses Angebot fÃ¼r Seniorinnen und Senioren â€“ Sie haben Fragen im Umgang mit Smartphone\, Tablet\, Laptop und Co? Ein Team von Freiwilligen hilft Ihnen bei Ihren Fragen in gemÃ¼tlicher Runde bei Kaffee\, Tee und GebÃ¤ck. \nJeden 1. Dienstag im Monat von 15:00 â€“ 17:00 Uhr in gemÃ¼tlicher Runde bei Kaffee\, Tee und GebÃ¤ck! Sie kÃ¶nnen auch gerne eine Einzelsprechstunde vereinbaren.
URL:https://gruebentaelchen.de/termine/digitale-hilfe/2025-02-04/
LOCATION:StadtteilbÃ¼ro GrÃ¼bentÃ¤lchen\, FriedenstraÃŸe 118\, Kaiserslautern\, Rheinland-Pfalz\, 67657\, Deutschland
CATEGORIES:Veranstaltung
ATTACH;FMTTYPE=image/jpeg:https://gruebentaelchen.de/wp-content/uploads/2023/03/Digitale-Hilfen.jpg
END:VEVENT
BEGIN:VEVENT
DTSTART;TZID=Europe/Berlin:20250129T140000
DTEND;TZID=Europe/Berlin:20250129T160000
DTSTAMP:20260423T062804
CREATED:20240102T003714Z
LAST-MODIFIED:20251124T143038Z
UID:10004171-1738159200-1738166400@gruebentaelchen.de
SUMMARY:Ãœbersetzungshilfe Arabisch-Deutsch
DESCRIPTION:Das StadtteilbuÌˆro GruÌˆbentÃ¤lchen bietet kostenlose Ãœbersetzungshilfe fuÌˆr Arabisch â€“ Deutsch an. \nJeden Mittwoch ist von 14:00 â€“ 16:00 Uhr ein Dolmetscher fuÌˆr Arabisch vor Ort\, der kostenlos bei der Ãœbersetzung von Unterlagen hilft. Eine Beglaubigung der Unterlagen ist nicht mÃ¶glich. Individuelle Termine kÃ¶nnen auch nach Bedarf ausgemacht werden.
URL:https://gruebentaelchen.de/termine/uebersetzungshilfe-arabisch-deutsch/2025-01-29/
LOCATION:StadtteilbÃ¼ro GrÃ¼bentÃ¤lchen\, FriedenstraÃŸe 118\, Kaiserslautern\, Rheinland-Pfalz\, 67657\, Deutschland
CATEGORIES:Beratung
END:VEVENT
BEGIN:VEVENT
DTSTART;TZID=Europe/Berlin:20250122T140000
DTEND;TZID=Europe/Berlin:20250122T160000
DTSTAMP:20260423T062804
CREATED:20240102T003714Z
LAST-MODIFIED:20251124T143038Z
UID:10004170-1737554400-1737561600@gruebentaelchen.de
SUMMARY:Ãœbersetzungshilfe Arabisch-Deutsch
DESCRIPTION:Das StadtteilbuÌˆro GruÌˆbentÃ¤lchen bietet kostenlose Ãœbersetzungshilfe fuÌˆr Arabisch â€“ Deutsch an. \nJeden Mittwoch ist von 14:00 â€“ 16:00 Uhr ein Dolmetscher fuÌˆr Arabisch vor Ort\, der kostenlos bei der Ãœbersetzung von Unterlagen hilft. Eine Beglaubigung der Unterlagen ist nicht mÃ¶glich. Individuelle Termine kÃ¶nnen auch nach Bedarf ausgemacht werden.
URL:https://gruebentaelchen.de/termine/uebersetzungshilfe-arabisch-deutsch/2025-01-22/
LOCATION:StadtteilbÃ¼ro GrÃ¼bentÃ¤lchen\, FriedenstraÃŸe 118\, Kaiserslautern\, Rheinland-Pfalz\, 67657\, Deutschland
CATEGORIES:Beratung
END:VEVENT
BEGIN:VEVENT
DTSTART;TZID=Europe/Berlin:20250115T140000
DTEND;TZID=Europe/Berlin:20250115T160000
DTSTAMP:20260423T062804
CREATED:20240102T003714Z
LAST-MODIFIED:20251124T143038Z
UID:10004169-1736949600-1736956800@gruebentaelchen.de
SUMMARY:Ãœbersetzungshilfe Arabisch-Deutsch
DESCRIPTION:Das StadtteilbuÌˆro GruÌˆbentÃ¤lchen bietet kostenlose Ãœbersetzungshilfe fuÌˆr Arabisch â€“ Deutsch an. \nJeden Mittwoch ist von 14:00 â€“ 16:00 Uhr ein Dolmetscher fuÌˆr Arabisch vor Ort\, der kostenlos bei der Ãœbersetzung von Unterlagen hilft. Eine Beglaubigung der Unterlagen ist nicht mÃ¶glich. Individuelle Termine kÃ¶nnen auch nach Bedarf ausgemacht werden.
URL:https://gruebentaelchen.de/termine/uebersetzungshilfe-arabisch-deutsch/2025-01-15/
LOCATION:StadtteilbÃ¼ro GrÃ¼bentÃ¤lchen\, FriedenstraÃŸe 118\, Kaiserslautern\, Rheinland-Pfalz\, 67657\, Deutschland
CATEGORIES:Beratung
END:VEVENT
BEGIN:VEVENT
DTSTART;TZID=Europe/Berlin:20250109T150000
DTEND;TZID=Europe/Berlin:20250109T160000
DTSTAMP:20260423T062804
CREATED:20240123T161306Z
LAST-MODIFIED:20251203T135800Z
UID:10004386-1736434800-1736438400@gruebentaelchen.de
SUMMARY:Singkreis
DESCRIPTION:  \nSingen in Gemeinschaft schÃ¼ttet GlÃ¼ckshormone aus\, fÃ¶rdert KreativitÃ¤t und KonzentrationsfÃ¤higkeit. Auch SprachgefÃ¼hl und Wortschatz werden trainiert. \nKommen Sie vorbei und Â lassen Sie uns gemeinsam Volkslieder und Schlager singen!
URL:https://gruebentaelchen.de/termine/singkreis-3-2/2025-01-09/
LOCATION:StadtteilbÃ¼ro GrÃ¼bentÃ¤lchen\, FriedenstraÃŸe 118\, Kaiserslautern\, Rheinland-Pfalz\, 67657\, Deutschland
CATEGORIES:Veranstaltung
ATTACH;FMTTYPE=image/png:https://gruebentaelchen.de/wp-content/uploads/2023/12/2023-11-29-Flyerlang-Stadtteilbuero_Singkreis-1.png
END:VEVENT
BEGIN:VEVENT
DTSTART;TZID=Europe/Berlin:20250109T103000
DTEND;TZID=Europe/Berlin:20250109T120000
DTSTAMP:20260423T062804
CREATED:20240125T171940Z
LAST-MODIFIED:20251120T104545Z
UID:10004514-1736418600-1736424000@gruebentaelchen.de
SUMMARY:Sprechstunde der Seniorenberaterin
DESCRIPTION:jeden 2. Donnerstag im Monat von 10:30 â€“ 12:00 Uhr \nSprechstunde derÂ Seniorenberaterin Margit Walg-Joyce
URL:https://gruebentaelchen.de/termine/sprechstunde-der-seniorenberaterin-2/2025-01-09/
LOCATION:StadtteilbÃ¼ro GrÃ¼bentÃ¤lchen\, FriedenstraÃŸe 118\, Kaiserslautern\, Rheinland-Pfalz\, 67657\, Deutschland
ATTACH;FMTTYPE=image/jpeg:https://gruebentaelchen.de/wp-content/uploads/2023/03/Sprechstunde-Seniorenberaterin.jpg
END:VEVENT
END:VCALENDAR